BEGIN:VCALENDAR
VERSION:2.0
PRODID:-//Will County Democratic Party - ECPv6.15.20//NONSGML v1.0//EN
CALSCALE:GREGORIAN
METHOD:PUBLISH
X-ORIGINAL-URL:https://www.willcountydemocrats.com
X-WR-CALDESC:Events for Will County Democratic Party
REFRESH-INTERVAL;VALUE=DURATION:PT1H
X-Robots-Tag:noindex
X-PUBLISHED-TTL:PT1H
BEGIN:VTIMEZONE
TZID:America/Chicago
BEGIN:DAYLIGHT
TZOFFSETFROM:-0600
TZOFFSETTO:-0500
TZNAME:CDT
DTSTART:20240310T080000
END:DAYLIGHT
BEGIN:STANDARD
TZOFFSETFROM:-0500
TZOFFSETTO:-0600
TZNAME:CST
DTSTART:20241103T070000
END:STANDARD
BEGIN:DAYLIGHT
TZOFFSETFROM:-0600
TZOFFSETTO:-0500
TZNAME:CDT
DTSTART:20250309T080000
END:DAYLIGHT
BEGIN:STANDARD
TZOFFSETFROM:-0500
TZOFFSETTO:-0600
TZNAME:CST
DTSTART:20251102T070000
END:STANDARD
BEGIN:DAYLIGHT
TZOFFSETFROM:-0600
TZOFFSETTO:-0500
TZNAME:CDT
DTSTART:20260308T080000
END:DAYLIGHT
BEGIN:STANDARD
TZOFFSETFROM:-0500
TZOFFSETTO:-0600
TZNAME:CST
DTSTART:20261101T070000
END:STANDARD
END:VTIMEZONE
BEGIN:VEVENT
DTSTART;TZID=America/Chicago:20250201T160000
DTEND;TZID=America/Chicago:20250201T180000
DTSTAMP:20260421T205317
CREATED:20250118T055819Z
LAST-MODIFIED:20250118T055819Z
UID:3655-1738425600-1738432800@www.willcountydemocrats.com
SUMMARY:Frankfort Township Democrats Member Appreciation Party
DESCRIPTION:
URL:https://www.willcountydemocrats.com/event/frankfort-township-democrats-member-appreciation-party/
LOCATION:St. John’s United Church of Christ\, 11100 Second Street\, Mokena\, IL\, 60448\, United States
ATTACH;FMTTYPE=image/jpeg:https://www.willcountydemocrats.com/wp-content/uploads/2025/01/Image-1-2.jpg
END:VEVENT
END:VCALENDAR