BEGIN:VCALENDAR
VERSION:2.0
PRODID:-//Will County Democratic Party - ECPv6.15.20//NONSGML v1.0//EN
CALSCALE:GREGORIAN
METHOD:PUBLISH
X-WR-CALNAME:Will County Democratic Party
X-ORIGINAL-URL:https://www.willcountydemocrats.com
X-WR-CALDESC:Events for Will County Democratic Party
REFRESH-INTERVAL;VALUE=DURATION:PT1H
X-Robots-Tag:noindex
X-PUBLISHED-TTL:PT1H
BEGIN:VTIMEZONE
TZID:America/Chicago
BEGIN:DAYLIGHT
TZOFFSETFROM:-0600
TZOFFSETTO:-0500
TZNAME:CDT
DTSTART:20240310T080000
END:DAYLIGHT
BEGIN:STANDARD
TZOFFSETFROM:-0500
TZOFFSETTO:-0600
TZNAME:CST
DTSTART:20241103T070000
END:STANDARD
BEGIN:DAYLIGHT
TZOFFSETFROM:-0600
TZOFFSETTO:-0500
TZNAME:CDT
DTSTART:20250309T080000
END:DAYLIGHT
BEGIN:STANDARD
TZOFFSETFROM:-0500
TZOFFSETTO:-0600
TZNAME:CST
DTSTART:20251102T070000
END:STANDARD
BEGIN:DAYLIGHT
TZOFFSETFROM:-0600
TZOFFSETTO:-0500
TZNAME:CDT
DTSTART:20260308T080000
END:DAYLIGHT
BEGIN:STANDARD
TZOFFSETFROM:-0500
TZOFFSETTO:-0600
TZNAME:CST
DTSTART:20261101T070000
END:STANDARD
END:VTIMEZONE
BEGIN:VEVENT
DTSTART;TZID=America/Chicago:20250315T120000
DTEND;TZID=America/Chicago:20250315T150000
DTSTAMP:20260421T223004
CREATED:20250211T050907Z
LAST-MODIFIED:20250211T050907Z
UID:3693-1742040000-1742050800@www.willcountydemocrats.com
SUMMARY:New Lenox Township Democratic Organization Day of Action
DESCRIPTION:
URL:https://www.willcountydemocrats.com/event/new-lenox-township-democratic-organization-day-of-action-2/
LOCATION:Wildwood Park\, 605 W Joliet Hwy\, New Lenox\, IL\, 60451\, United States
ATTACH;FMTTYPE=image/png:https://www.willcountydemocrats.com/wp-content/uploads/2025/02/IMG_4168-e1739250503666.png
END:VEVENT
BEGIN:VEVENT
DTSTART;TZID=America/Chicago:20250315T120000
DTEND;TZID=America/Chicago:20250315T150000
DTSTAMP:20260421T223004
CREATED:20250311T021426Z
LAST-MODIFIED:20250311T181103Z
UID:3736-1742040000-1742050800@www.willcountydemocrats.com
SUMMARY:Lockport Township Democrats Day of Action
DESCRIPTION:
URL:https://www.willcountydemocrats.com/event/lockport-township-democrats-day-of-action/
LOCATION:1924 Plainfield Rd\, Crest Hill\, IL 60403\, 1924 Plainfield Rd\, Crest Hill\, IL\, 60403\, United States
ATTACH;FMTTYPE=image/jpeg:https://www.willcountydemocrats.com/wp-content/uploads/2025/03/LOCK-DOA-MC.jpg
END:VEVENT
END:VCALENDAR