BEGIN:VCALENDAR
VERSION:2.0
PRODID:-//Will County Democratic Party - ECPv6.15.20//NONSGML v1.0//EN
CALSCALE:GREGORIAN
METHOD:PUBLISH
X-ORIGINAL-URL:https://www.willcountydemocrats.com
X-WR-CALDESC:Events for Will County Democratic Party
REFRESH-INTERVAL;VALUE=DURATION:PT1H
X-Robots-Tag:noindex
X-PUBLISHED-TTL:PT1H
BEGIN:VTIMEZONE
TZID:America/Chicago
BEGIN:DAYLIGHT
TZOFFSETFROM:-0600
TZOFFSETTO:-0500
TZNAME:CDT
DTSTART:20240310T080000
END:DAYLIGHT
BEGIN:STANDARD
TZOFFSETFROM:-0500
TZOFFSETTO:-0600
TZNAME:CST
DTSTART:20241103T070000
END:STANDARD
BEGIN:DAYLIGHT
TZOFFSETFROM:-0600
TZOFFSETTO:-0500
TZNAME:CDT
DTSTART:20250309T080000
END:DAYLIGHT
BEGIN:STANDARD
TZOFFSETFROM:-0500
TZOFFSETTO:-0600
TZNAME:CST
DTSTART:20251102T070000
END:STANDARD
BEGIN:DAYLIGHT
TZOFFSETFROM:-0600
TZOFFSETTO:-0500
TZNAME:CDT
DTSTART:20260308T080000
END:DAYLIGHT
BEGIN:STANDARD
TZOFFSETFROM:-0500
TZOFFSETTO:-0600
TZNAME:CST
DTSTART:20261101T070000
END:STANDARD
END:VTIMEZONE
BEGIN:VEVENT
DTSTART;TZID=America/Chicago:20250616T180000
DTEND;TZID=America/Chicago:20250616T190000
DTSTAMP:20260422T104028
CREATED:20250609T201403Z
LAST-MODIFIED:20250609T201403Z
UID:3863-1750096800-1750100400@www.willcountydemocrats.com
SUMMARY:Lockport Township Democrats Meeting
DESCRIPTION:
URL:https://www.willcountydemocrats.com/event/lockport-township-democrats-meeting-11/
LOCATION:White Oak Library – Lockport\, 121 E 8th Street\, Lockport\, Il\, 60441
END:VEVENT
BEGIN:VEVENT
DTSTART;TZID=America/Chicago:20250616T183000
DTEND;TZID=America/Chicago:20250616T190000
DTSTAMP:20260422T104028
CREATED:20250425T180322Z
LAST-MODIFIED:20250609T201234Z
UID:3823-1750098600-1750100400@www.willcountydemocrats.com
SUMMARY:Dupage Township Democrats Meeting
DESCRIPTION:
URL:https://www.willcountydemocrats.com/event/dupage-township-democrats-meeting-2/
LOCATION:Fountaindale Library\, 300 W Briarcliff Rd\, Bolingbrook\, Il\, 60440
END:VEVENT
BEGIN:VEVENT
DTSTART;TZID=America/Chicago:20250616T190000
DTEND;TZID=America/Chicago:20250616T200000
DTSTAMP:20260422T104028
CREATED:20250529T163636Z
LAST-MODIFIED:20250529T163636Z
UID:3859-1750100400-1750104000@www.willcountydemocrats.com
SUMMARY:Cultural Awareness and Inclusive Action Seminar
DESCRIPTION:
URL:https://www.willcountydemocrats.com/event/cultural-awareness-and-inclusive-action-seminar/
LOCATION:Fountaindale Library\, 300 W Briarcliff Rd\, Bolingbrook\, Il\, 60440
ATTACH;FMTTYPE=image/jpeg:https://www.willcountydemocrats.com/wp-content/uploads/2025/05/CAI.jpg
END:VEVENT
END:VCALENDAR