BEGIN:VCALENDAR
VERSION:2.0
PRODID:-//Will County Democratic Party - ECPv6.15.20//NONSGML v1.0//EN
CALSCALE:GREGORIAN
METHOD:PUBLISH
X-WR-CALNAME:Will County Democratic Party
X-ORIGINAL-URL:https://www.willcountydemocrats.com
X-WR-CALDESC:Events for Will County Democratic Party
REFRESH-INTERVAL;VALUE=DURATION:PT1H
X-Robots-Tag:noindex
X-PUBLISHED-TTL:PT1H
BEGIN:VTIMEZONE
TZID:America/Chicago
BEGIN:DAYLIGHT
TZOFFSETFROM:-0600
TZOFFSETTO:-0500
TZNAME:CDT
DTSTART:20230312T080000
END:DAYLIGHT
BEGIN:STANDARD
TZOFFSETFROM:-0500
TZOFFSETTO:-0600
TZNAME:CST
DTSTART:20231105T070000
END:STANDARD
BEGIN:DAYLIGHT
TZOFFSETFROM:-0600
TZOFFSETTO:-0500
TZNAME:CDT
DTSTART:20240310T080000
END:DAYLIGHT
BEGIN:STANDARD
TZOFFSETFROM:-0500
TZOFFSETTO:-0600
TZNAME:CST
DTSTART:20241103T070000
END:STANDARD
BEGIN:DAYLIGHT
TZOFFSETFROM:-0600
TZOFFSETTO:-0500
TZNAME:CDT
DTSTART:20250309T080000
END:DAYLIGHT
BEGIN:STANDARD
TZOFFSETFROM:-0500
TZOFFSETTO:-0600
TZNAME:CST
DTSTART:20251102T070000
END:STANDARD
BEGIN:DAYLIGHT
TZOFFSETFROM:-0600
TZOFFSETTO:-0500
TZNAME:CDT
DTSTART:20260308T080000
END:DAYLIGHT
BEGIN:STANDARD
TZOFFSETFROM:-0500
TZOFFSETTO:-0600
TZNAME:CST
DTSTART:20261101T070000
END:STANDARD
END:VTIMEZONE
BEGIN:VEVENT
DTSTART;TZID=America/Chicago:20250108T190000
DTEND;TZID=America/Chicago:20250108T190000
DTSTAMP:20260422T173143
CREATED:20241210T231205Z
LAST-MODIFIED:20241210T231205Z
UID:3593-1736362800-1736362800@www.willcountydemocrats.com
SUMMARY:Plainfield Township Democrats Meeting
DESCRIPTION:
URL:https://www.willcountydemocrats.com/event/plainfield-township-democrats-meeting-3/
LOCATION:Cemeno’s\, 1630 Essington Road\, Joliet\, IL\, United States
END:VEVENT
BEGIN:VEVENT
DTSTART;TZID=America/Chicago:20241227T183000
DTEND;TZID=America/Chicago:20241227T200000
DTSTAMP:20260422T173143
CREATED:20241218T160040Z
LAST-MODIFIED:20241219T204338Z
UID:3618-1735324200-1735329600@www.willcountydemocrats.com
SUMMARY:Eastern Will County Democratic Holiday Party
DESCRIPTION:Tickets HERE
URL:https://www.willcountydemocrats.com/event/eastern-will-county-democratic-holiday-party/
LOCATION:Social 45 Craft Kitchen and Bar\, 20805 S. La Grange Rd.\, Frankfort\, 60423
ATTACH;FMTTYPE=image/jpeg:https://www.willcountydemocrats.com/wp-content/uploads/2024/12/WCED.jpg
END:VEVENT
BEGIN:VEVENT
DTSTART;TZID=America/Chicago:20241223T123000
DTEND;TZID=America/Chicago:20241223T123000
DTSTAMP:20260422T173143
CREATED:20241224T215018Z
LAST-MODIFIED:20241224T215018Z
UID:3639-1734957000-1734957000@www.willcountydemocrats.com
SUMMARY:Interment Following Funeral Service
DESCRIPTION:
URL:https://www.willcountydemocrats.com/event/interment-following-funeral-service/
LOCATION:Mount Vernon Memorial Estates\, 11875 Archer Ave\, Lemont\, IL\, 60439\, United States
END:VEVENT
BEGIN:VEVENT
DTSTART;TZID=America/Chicago:20241223T110000
DTEND;TZID=America/Chicago:20241223T110000
DTSTAMP:20260422T173143
CREATED:20241224T214854Z
LAST-MODIFIED:20241224T214854Z
UID:3637-1734951600-1734951600@www.willcountydemocrats.com
SUMMARY:Christine Lunningham Funeral Service
DESCRIPTION:
URL:https://www.willcountydemocrats.com/event/christine-lunningham-funeral-service/
LOCATION:Brown Chapel AME Church\, 1502 Mills Rd\, Joliet\, IL\, 60433\, United States
END:VEVENT
BEGIN:VEVENT
DTSTART;TZID=America/Chicago:20241223T090000
DTEND;TZID=America/Chicago:20241223T110000
DTSTAMP:20260422T173143
CREATED:20241224T214805Z
LAST-MODIFIED:20241224T214805Z
UID:3634-1734944400-1734951600@www.willcountydemocrats.com
SUMMARY:Christine Lunningham Visitation
DESCRIPTION:
URL:https://www.willcountydemocrats.com/event/christine-lunningham-visitation/
LOCATION:Brown Chapel AME Church\, 1502 Mills Rd\, Joliet\, IL\, 60433\, United States
END:VEVENT
BEGIN:VEVENT
DTSTART;TZID=America/Chicago:20241220T170000
DTEND;TZID=America/Chicago:20241220T193000
DTSTAMP:20260422T173143
CREATED:20241218T160632Z
LAST-MODIFIED:20241219T204218Z
UID:3622-1734714000-1734723000@www.willcountydemocrats.com
SUMMARY:Young Democrats of Will County December Social
DESCRIPTION:
URL:https://www.willcountydemocrats.com/event/will-county-young-democrats-december-social-election/
LOCATION:Bowlero\, 735 Center Blvd\, Romeoville\, 60446
ATTACH;FMTTYPE=image/jpeg:https://www.willcountydemocrats.com/wp-content/uploads/2024/12/WCYD-BOWL.jpg
END:VEVENT
BEGIN:VEVENT
DTSTART;TZID=America/Chicago:20241204T190000
DTEND;TZID=America/Chicago:20241204T200000
DTSTAMP:20260422T173143
CREATED:20240110T030024Z
LAST-MODIFIED:20240110T030024Z
UID:2156-1733338800-1733342400@www.willcountydemocrats.com
SUMMARY:Plainfield Township Democrats Meeting
DESCRIPTION:
URL:https://www.willcountydemocrats.com/event/plainfield-township-democrats-meeting-12/
LOCATION:Cemeno’s\, 1630 Essington Road\, Joliet\, IL\, United States
END:VEVENT
BEGIN:VEVENT
DTSTART;TZID=America/Chicago:20241125T180000
DTEND;TZID=America/Chicago:20241125T190000
DTSTAMP:20260422T173143
CREATED:20241125T225802Z
LAST-MODIFIED:20241125T225802Z
UID:3589-1732557600-1732561200@www.willcountydemocrats.com
SUMMARY:Lockport Township Democrats Meeting
DESCRIPTION:
URL:https://www.willcountydemocrats.com/event/lockport-township-democrats-meeting-9/
LOCATION:White Oak Library – Crest Hill\, 20670 City Center Blvd\, Crest HIll\, Il\, 60403
END:VEVENT
BEGIN:VEVENT
DTSTART;TZID=America/Chicago:20241118T180000
DTEND;TZID=America/Chicago:20241118T190000
DTSTAMP:20260422T173143
CREATED:20240109T025908Z
LAST-MODIFIED:20240109T025908Z
UID:2117-1731952800-1731956400@www.willcountydemocrats.com
SUMMARY:Lockport Township Democrats Meeting
DESCRIPTION:
URL:https://www.willcountydemocrats.com/event/lockport-township-democrats-meeting-5/
LOCATION:White Oak Library – Crest Hill\, 20670 City Center Blvd\, Crest HIll\, Il\, 60403
END:VEVENT
BEGIN:VEVENT
DTSTART;TZID=America/Chicago:20241106T190000
DTEND;TZID=America/Chicago:20241106T200000
DTSTAMP:20260422T173143
CREATED:20240110T025956Z
LAST-MODIFIED:20240110T025956Z
UID:2154-1730919600-1730923200@www.willcountydemocrats.com
SUMMARY:Plainfield Township Democrats Meeting
DESCRIPTION:
URL:https://www.willcountydemocrats.com/event/plainfield-township-democrats-meeting-11/
LOCATION:Cemeno’s\, 1630 Essington Road\, Joliet\, IL\, United States
END:VEVENT
BEGIN:VEVENT
DTSTART;TZID=America/Chicago:20241105T180000
DTEND;TZID=America/Chicago:20241105T220000
DTSTAMP:20260422T173143
CREATED:20241029T235126Z
LAST-MODIFIED:20241029T235126Z
UID:3579-1730829600-1730844000@www.willcountydemocrats.com
SUMMARY:Election Night Watch Party
DESCRIPTION:
URL:https://www.willcountydemocrats.com/event/election-night-watch-party/
LOCATION:IBEW Local 176\, 1100 NE Frontage Road\, Joliet\, IL\, 60431\, United States
ATTACH;FMTTYPE=image/jpeg:https://www.willcountydemocrats.com/wp-content/uploads/2024/10/EN-WP.jpg
END:VEVENT
BEGIN:VEVENT
DTSTART;TZID=America/Chicago:20241103T170000
DTEND;TZID=America/Chicago:20241103T190000
DTSTAMP:20260422T173143
CREATED:20241104T003948Z
LAST-MODIFIED:20241104T003948Z
UID:3583-1730653200-1730660400@www.willcountydemocrats.com
SUMMARY:Meet & Greet Juan Moreno for Joliet City Council at Large
DESCRIPTION:
URL:https://www.willcountydemocrats.com/event/meet-greet-juan-moreno-for-joliet-city-council-at-large/
LOCATION:The Commissioner Barber Company\, 2405 Essington Rd. Suite J\, Joliet\, Il\, 60435
ATTACH;FMTTYPE=image/jpeg:https://www.willcountydemocrats.com/wp-content/uploads/2024/11/JM-JOLIET-FUN.jpg
END:VEVENT
BEGIN:VEVENT
DTSTART;TZID=America/Chicago:20241027T173000
DTEND;TZID=America/Chicago:20241027T193000
DTSTAMP:20260422T173143
CREATED:20241021T212250Z
LAST-MODIFIED:20241021T212250Z
UID:3572-1730050200-1730057400@www.willcountydemocrats.com
SUMMARY:Shiver & Chill with Colette Safford
DESCRIPTION:Hosted by: Empowered Champions
URL:https://www.willcountydemocrats.com/event/shiver-chill-with-colette-safford/
LOCATION:Mariscos El Costeño Restaurant\, 330 North Independence Blvd\, Romeoville\, Il\, 60446
ATTACH;FMTTYPE=image/jpeg:https://www.willcountydemocrats.com/wp-content/uploads/2024/10/CS-EC.jpg
END:VEVENT
BEGIN:VEVENT
DTSTART;TZID=America/Chicago:20241027T103000
DTEND;TZID=America/Chicago:20241027T123000
DTSTAMP:20260422T173143
CREATED:20241010T031212Z
LAST-MODIFIED:20241010T031523Z
UID:3553-1730025000-1730032200@www.willcountydemocrats.com
SUMMARY:Canvassing with Meta Mueller & Kelly Hickey
DESCRIPTION:See Facebook event here: https://www.facebook.com/share/RCHP4gm7sAsudUYh/
URL:https://www.willcountydemocrats.com/event/canvassing-with-meta-mueller-kelly-hickey/
LOCATION:Il
ATTACH;FMTTYPE=image/jpeg:https://www.willcountydemocrats.com/wp-content/uploads/2024/10/KH-MM-1.jpg
END:VEVENT
BEGIN:VEVENT
DTSTART;TZID=America/Chicago:20241024T180000
DTEND;TZID=America/Chicago:20241024T200000
DTSTAMP:20260422T173143
CREATED:20241010T024501Z
LAST-MODIFIED:20241010T024501Z
UID:3543-1729792800-1729800000@www.willcountydemocrats.com
SUMMARY:Meg Cappel: Get Out the Vote Fundraiser
DESCRIPTION:
URL:https://www.willcountydemocrats.com/event/meg-cappel-get-out-the-vote-fundraiser/
LOCATION:Khaos Brewcade & Kitchen\, 12337 Il Rt. 59 Suite #155\, Plainfield\, Il\, 60585
ATTACH;FMTTYPE=image/jpeg:https://www.willcountydemocrats.com/wp-content/uploads/2024/10/MC-FUN-2.jpg
END:VEVENT
BEGIN:VEVENT
DTSTART;TZID=America/Chicago:20241023T173000
DTEND;TZID=America/Chicago:20241023T200000
DTSTAMP:20260422T173143
CREATED:20240814T204116Z
LAST-MODIFIED:20240919T161018Z
UID:3396-1729704600-1729713600@www.willcountydemocrats.com
SUMMARY:Lockport Township Democrats 64th Annual Fundraiser
DESCRIPTION:Join the Lockport Township Democrats for their 64th Annual Fall Fundraiser! This event supports the re-election efforts of the Lockport Township Democrats in 2025. Enjoy an evening of recognition of their sponsors\, exciting gift basket raffles\, food\, and drinks. We look forward to seeing you there! \nPurchase your tickets here: https://secure.actblue.com/donate/64fallfun
URL:https://www.willcountydemocrats.com/event/lockport-township-democrats-64th-annual-fundraiser/
LOCATION:Coom’s Corner\, 1225 E. 9th St.\, Lockport\, IL\, 60441\, United States
ATTACH;FMTTYPE=image/jpeg:https://www.willcountydemocrats.com/wp-content/uploads/2024/08/LTDO-Fall-Fun-Flyer.jpg
END:VEVENT
BEGIN:VEVENT
DTSTART;TZID=America/Chicago:20241021T180000
DTEND;TZID=America/Chicago:20241021T190000
DTSTAMP:20260422T173143
CREATED:20240109T030236Z
LAST-MODIFIED:20241020T214227Z
UID:2128-1729533600-1729537200@www.willcountydemocrats.com
SUMMARY:Lockport Township Democrats Meeting
DESCRIPTION:LOCATION CHANGED TO STATE STREET RESTAURANT (1118 S STATE ST. LOCKPORT IL\, 60441)
URL:https://www.willcountydemocrats.com/event/lockport-township-democrats-meeting-10/
LOCATION:State Street Restaurant\, 1118 S State St\, Lockport\, Il
END:VEVENT
BEGIN:VEVENT
DTSTART;TZID=America/Chicago:20241020T160000
DTEND;TZID=America/Chicago:20241020T180000
DTSTAMP:20260422T173143
CREATED:20241016T002116Z
LAST-MODIFIED:20241016T002116Z
UID:3561-1729440000-1729447200@www.willcountydemocrats.com
SUMMARY:Meet & Greet Will County Candidates by Ashfaq Syed
DESCRIPTION:
URL:https://www.willcountydemocrats.com/event/meet-greet-will-county-candidates-by-ashfaq-syed/
LOCATION:1227 Springdale Circle\, 1227 Springdale Circle\, Naperville\, Il
ATTACH;FMTTYPE=image/jpeg:https://www.willcountydemocrats.com/wp-content/uploads/2024/10/MG-CAN.jpg
END:VEVENT
BEGIN:VEVENT
DTSTART;TZID=America/Chicago:20241020T130000
DTEND;TZID=America/Chicago:20241020T160000
DTSTAMP:20260422T173143
CREATED:20241010T025430Z
LAST-MODIFIED:20241010T025430Z
UID:3546-1729429200-1729440000@www.willcountydemocrats.com
SUMMARY:Brunch in the Brook: Minority Business Forum & GOTV Rally
DESCRIPTION:
URL:https://www.willcountydemocrats.com/event/brunch-in-the-brook-minority-business-forum-gotv-rally/
LOCATION:The Promenade\, 619 E Boughton Rd\, Bolingbrook\, Il\, 60440
ATTACH;FMTTYPE=image/png:https://www.willcountydemocrats.com/wp-content/uploads/2024/10/Brunch-in-the-Brook-Invite_Oct-2024.png
END:VEVENT
BEGIN:VEVENT
DTSTART;TZID=America/Chicago:20241019T100000
DTEND;TZID=America/Chicago:20241019T140000
DTSTAMP:20260422T173143
CREATED:20241017T031028Z
LAST-MODIFIED:20241017T031028Z
UID:3565-1729332000-1729346400@www.willcountydemocrats.com
SUMMARY:Will County Democrats Day of Action
DESCRIPTION:Coffee and Doughnuts Provided\n\nSign Up Here:\nhttps://mobilize.us/s/bqKrFF
URL:https://www.willcountydemocrats.com/event/will-county-democrats-day-of-action/
LOCATION:University Park Public Library\, 1100 Blackhawk Drive\, University Park\, Il
END:VEVENT
BEGIN:VEVENT
DTSTART;TZID=America/Chicago:20241018T180000
DTEND;TZID=America/Chicago:20241018T200000
DTSTAMP:20260422T173143
CREATED:20240924T012005Z
LAST-MODIFIED:20240924T012005Z
UID:3523-1729274400-1729281600@www.willcountydemocrats.com
SUMMARY:Senator Rachel Ventura Kokedama Plant Workshop
DESCRIPTION:
URL:https://www.willcountydemocrats.com/event/senator-rachel-ventura-kokedama-plant-workshop/
LOCATION:1211 Richmond St.\, 1211 Richmond St.\, Joliet\, Il\, 60435
ATTACH;FMTTYPE=image/jpeg:https://www.willcountydemocrats.com/wp-content/uploads/2024/09/RV-PLANT.jpg
END:VEVENT
BEGIN:VEVENT
DTSTART;TZID=America/Chicago:20241017T183000
DTEND;TZID=America/Chicago:20241017T210000
DTSTAMP:20260422T173143
CREATED:20241010T030125Z
LAST-MODIFIED:20241010T030243Z
UID:3550-1729189800-1729198800@www.willcountydemocrats.com
SUMMARY:Grand Haven: Meet the Candidates Night
DESCRIPTION:The Grand Haven Civic Club www.grandhavenlife.net  invites you to our “Meet the Candidates” night at 6:30PM Thursday\, October 17 at the Grand Haven Lodge\,1520 Grand Haven Road\, Romeoville. \nAll are invited. \n**ONLY REGISTERED CANDIDATES WILL BE ALLOWED TO SPEAK** \nCandidate Rules: \n\nVideo recording is only allowed with the prior permission of the Grand Haven Civic Club.\nOnly the candidate may participate.\nCandidates will be taken in ballot order; latecomers will be accommodated at the end of the program.\nCandidates will have 5 minutes to make their presentation followed by audience questions.\nOnly Grand Haven residents may question the candidates.\nCandidates may bring promotional material\, keeping in mind that yard signs are not permitted in Grand Haven.\nThe program may be recorded and broadcast on Romeoville TV.
URL:https://www.willcountydemocrats.com/event/grand-haven-meet-the-candidates-night/
LOCATION:Grand Haven Lodge\, 1520 Grand Haven Rd\, Romeoville\, Il\, 60446
END:VEVENT
BEGIN:VEVENT
DTSTART;TZID=America/Chicago:20241012T110000
DTEND;TZID=America/Chicago:20241012T140000
DTSTAMP:20260422T173143
CREATED:20241010T203302Z
LAST-MODIFIED:20241010T203402Z
UID:3558-1728730800-1728741600@www.willcountydemocrats.com
SUMMARY:Team Colette Safford Day of Action
DESCRIPTION:Join HERE: https://www.mobilize.us/committeetoelectcolettesaffordforjudge/event/720589/?rname=Alex%20&share_context=event_details&share_medium=copy_link
URL:https://www.willcountydemocrats.com/event/team-colette-safford-day-of-action/
LOCATION:Il
ATTACH;FMTTYPE=image/avif:https://www.willcountydemocrats.com/wp-content/uploads/2024/10/CS-DOA.avif
END:VEVENT
BEGIN:VEVENT
DTSTART;TZID=America/Chicago:20241009T180000
DTEND;TZID=America/Chicago:20241009T200000
DTSTAMP:20260422T173143
CREATED:20240917T050330Z
LAST-MODIFIED:20240917T050428Z
UID:3504-1728496800-1728504000@www.willcountydemocrats.com
SUMMARY:Reception for Michelle Stiff for Will County Clerk
DESCRIPTION:
URL:https://www.willcountydemocrats.com/event/reception-for-michelle-stiff-for-will-county-clerk/
LOCATION:The Irish Corner Cantina\, 2771 Black Rd.\, Joliet\, Il\, 60435
ATTACH;FMTTYPE=image/jpeg:https://www.willcountydemocrats.com/wp-content/uploads/2024/09/image000001.jpeg
END:VEVENT
BEGIN:VEVENT
DTSTART;TZID=America/Chicago:20241006T120000
DTEND;TZID=America/Chicago:20241006T150000
DTSTAMP:20260422T173143
CREATED:20240924T012832Z
LAST-MODIFIED:20240924T012832Z
UID:3527-1728216000-1728226800@www.willcountydemocrats.com
SUMMARY:Heidi Henry for 75 Football Watch Party
DESCRIPTION:
URL:https://www.willcountydemocrats.com/event/heidi-henry-for-75-football-watch-party/
LOCATION:Big Sammy’s\, 14206 US-30\, Plainfield\, IL\, 60544
ATTACH;FMTTYPE=image/png:https://www.willcountydemocrats.com/wp-content/uploads/2024/09/HH-FUN.png
END:VEVENT
BEGIN:VEVENT
DTSTART;TZID=America/Chicago:20241005T110000
DTEND;TZID=America/Chicago:20241005T150000
DTSTAMP:20260422T173143
CREATED:20240916T200109Z
LAST-MODIFIED:20240916T200109Z
UID:3496-1728126000-1728140400@www.willcountydemocrats.com
SUMMARY:Day of Action: Cappel for Senate\, Colette Safford for Judge\, Michelle Stiff for County Clerk
DESCRIPTION:
URL:https://www.willcountydemocrats.com/event/day-of-action-cappel-for-senate-colette-safford-for-judge-michelle-stiff-for-county-clerk/
LOCATION:1924 Plainfield Rd\, Crest Hill\, IL 60403\, 1924 Plainfield Rd\, Crest Hill\, IL\, 60403\, United States
ATTACH;FMTTYPE=image/jpeg:https://www.willcountydemocrats.com/wp-content/uploads/2024/09/MS-CS-MC-DOA.jpg
END:VEVENT
BEGIN:VEVENT
DTSTART;TZID=America/Chicago:20241005T100000
DTEND;TZID=America/Chicago:20241005T140000
DTSTAMP:20260422T173143
CREATED:20241002T032128Z
LAST-MODIFIED:20241002T032128Z
UID:3539-1728122400-1728136800@www.willcountydemocrats.com
SUMMARY:County Board 10 and 85th District Day of Action
DESCRIPTION:
URL:https://www.willcountydemocrats.com/event/county-board-10-and-85th-district-day-of-action/
LOCATION:The Crafty Bean\, 345 N Schmidt\, Bolingbrook\, Il
ATTACH;FMTTYPE=image/jpeg:https://www.willcountydemocrats.com/wp-content/uploads/2024/10/IMG_1281.jpeg
END:VEVENT
BEGIN:VEVENT
DTSTART;TZID=America/Chicago:20241002T190000
DTEND;TZID=America/Chicago:20241002T200000
DTSTAMP:20260422T173143
CREATED:20240110T025926Z
LAST-MODIFIED:20240110T025926Z
UID:2152-1727895600-1727899200@www.willcountydemocrats.com
SUMMARY:Plainfield Township Democrats Meeting
DESCRIPTION:
URL:https://www.willcountydemocrats.com/event/plainfield-township-democrats-meeting-10/
LOCATION:Cemeno’s\, 1630 Essington Road\, Joliet\, IL\, United States
END:VEVENT
BEGIN:VEVENT
DTSTART;TZID=America/Chicago:20240929T120000
DTEND;TZID=America/Chicago:20240929T150000
DTSTAMP:20260422T173143
CREATED:20240826T184328Z
LAST-MODIFIED:20240826T184942Z
UID:3437-1727611200-1727622000@www.willcountydemocrats.com
SUMMARY:John Anderson for Appellate Court: Chicago Bears Tailgate & Watch Party
DESCRIPTION:Bears kickoff is at 12pm. \nPublic parking located 1 block away at 5159 Mochel Drive (corner of Curtiss St and Mochel Dr) \nTickets HERE: https://secure.democracyengine.com/JohnAnderson
URL:https://www.willcountydemocrats.com/event/john-anderson-for-appellate-court-chicago-bears-tailgate-watch-party/
LOCATION:Another Round\, 5141 Main Street\, Downers Grove\, Il\, 60515
ATTACH;FMTTYPE=image/jpeg:https://www.willcountydemocrats.com/wp-content/uploads/2024/08/JA-Bears-scaled.jpg
END:VEVENT
BEGIN:VEVENT
DTSTART;VALUE=DATE:20240929
DTEND;VALUE=DATE:20240930
DTSTAMP:20260422T173143
CREATED:20240706T210536Z
LAST-MODIFIED:20240825T201102Z
UID:2395-1727568000-1727654399@www.willcountydemocrats.com
SUMMARY:Joyful Sunday Brunch with Colette Safford for Circuit Judge
DESCRIPTION:Tickets must be purchased in advance HERE: https://www.ticketfalcon.com/e/joyful/
URL:https://www.willcountydemocrats.com/event/save-the-date-colette-safford/
LOCATION:Renaissance Center\, 214 N. Ottawa Street\, Joilet\, IL\, 60432\, United States
ATTACH;FMTTYPE=image/jpeg:https://www.willcountydemocrats.com/wp-content/uploads/2024/07/CS-FUN-BRUNCH.jpg
END:VEVENT
END:VCALENDAR