BEGIN:VCALENDAR
VERSION:2.0
PRODID:-//Will County Democratic Party - ECPv6.15.20//NONSGML v1.0//EN
CALSCALE:GREGORIAN
METHOD:PUBLISH
X-WR-CALNAME:Will County Democratic Party
X-ORIGINAL-URL:https://www.willcountydemocrats.com
X-WR-CALDESC:Events for Will County Democratic Party
REFRESH-INTERVAL;VALUE=DURATION:PT1H
X-Robots-Tag:noindex
X-PUBLISHED-TTL:PT1H
BEGIN:VTIMEZONE
TZID:America/Chicago
BEGIN:DAYLIGHT
TZOFFSETFROM:-0600
TZOFFSETTO:-0500
TZNAME:CDT
DTSTART:20250309T080000
END:DAYLIGHT
BEGIN:STANDARD
TZOFFSETFROM:-0500
TZOFFSETTO:-0600
TZNAME:CST
DTSTART:20251102T070000
END:STANDARD
BEGIN:DAYLIGHT
TZOFFSETFROM:-0600
TZOFFSETTO:-0500
TZNAME:CDT
DTSTART:20260308T080000
END:DAYLIGHT
BEGIN:STANDARD
TZOFFSETFROM:-0500
TZOFFSETTO:-0600
TZNAME:CST
DTSTART:20261101T070000
END:STANDARD
BEGIN:DAYLIGHT
TZOFFSETFROM:-0600
TZOFFSETTO:-0500
TZNAME:CDT
DTSTART:20270314T080000
END:DAYLIGHT
BEGIN:STANDARD
TZOFFSETFROM:-0500
TZOFFSETTO:-0600
TZNAME:CST
DTSTART:20271107T070000
END:STANDARD
END:VTIMEZONE
BEGIN:VEVENT
DTSTART;TZID=America/Chicago:20260425T110000
DTEND;TZID=America/Chicago:20260425T130000
DTSTAMP:20260423T102559
CREATED:20260208T191847Z
LAST-MODIFIED:20260419T184846Z
UID:4383-1777114800-1777122000@www.willcountydemocrats.com
SUMMARY:Lockport Township Democrats & Young Democrats of Will County Volunteer Community Day
DESCRIPTION:RSVP REQUIRED – CLICK HERE \n 
URL:https://www.willcountydemocrats.com/event/lockport-democrats-earth-day-2026-community-day/
LOCATION:Prairie Bluff Reserve\, 20205 Renwick Rd\, Lockport\, Il\, 60441
ATTACH;FMTTYPE=image/png:https://www.willcountydemocrats.com/wp-content/uploads/2026/02/‘Celebrate-Trails-Volunteer-Community-Day-2026.png
END:VEVENT
BEGIN:VEVENT
DTSTART;TZID=America/Chicago:20260501T080000
DTEND;TZID=America/Chicago:20260501T170000
DTSTAMP:20260423T102559
CREATED:20260319T180216Z
LAST-MODIFIED:20260319T180216Z
UID:4451-1777622400-1777654800@www.willcountydemocrats.com
SUMMARY:New Lenox Township Democrats 4th Annual Golf Outing
DESCRIPTION:REGISTER HERE\n\n8 AM Registration\n\n9 AM Shotgun Start\n\nQuestions\, call David Maine 708.243.8099
URL:https://www.willcountydemocrats.com/event/new-lenox-township-democrats-4th-annual-golf-outing/
LOCATION:Sanctuary Golf Course\, 485 Marley Rd\, New Lenox\, Il\, 60451
ATTACH;FMTTYPE=image/jpeg:https://www.willcountydemocrats.com/wp-content/uploads/2026/03/NLTDO-PAR-AND-AWAY.jpg
END:VEVENT
BEGIN:VEVENT
DTSTART;TZID=America/Chicago:20260501T110000
DTEND;TZID=America/Chicago:20260501T130000
DTSTAMP:20260423T102600
CREATED:20260422T174513Z
LAST-MODIFIED:20260422T174607Z
UID:4540-1777633200-1777640400@www.willcountydemocrats.com
SUMMARY:International May Day Protest
DESCRIPTION:More info available HERE \n  \n“Thousands of organizations across the country are calling for a day of “No School\, No Work\, No Shopping” to disrupt the violent billionaire takeover of our country and to put working families first.  Because when the billionaires break every rule\, it’s going to take more than a rally to stop them.   \nWe are excited for you to join us in making this day a reality\, and hosting an action where your neighbors can gather to make our voices heard.” 
URL:https://www.willcountydemocrats.com/event/international-may-day-protest/
LOCATION:Sidewalk in front of Walmart\, 16241 Farrell Rd.\, Lockport\, Il\, 60441
ATTACH;FMTTYPE=image/png:https://www.willcountydemocrats.com/wp-content/uploads/2026/04/MayDay-5.1.2026.png
END:VEVENT
BEGIN:VEVENT
DTSTART;TZID=America/Chicago:20260504T183000
DTEND;TZID=America/Chicago:20260504T200000
DTSTAMP:20260423T102600
CREATED:20260102T035257Z
LAST-MODIFIED:20260422T181924Z
UID:4190-1777919400-1777924800@www.willcountydemocrats.com
SUMMARY:Will County Democrats Convention
DESCRIPTION:
URL:https://www.willcountydemocrats.com/event/will-county-democrats-general-meeting-8/
LOCATION:IBEW Local 176\, 1100 NE Frontage Road\, Joliet\, IL\, 60431\, United States
END:VEVENT
BEGIN:VEVENT
DTSTART;TZID=America/Chicago:20260506T190000
DTEND;TZID=America/Chicago:20260506T200000
DTSTAMP:20260423T102600
CREATED:20251215T013109Z
LAST-MODIFIED:20251215T013109Z
UID:4156-1778094000-1778097600@www.willcountydemocrats.com
SUMMARY:Plainfield Township Democrats General Meeting
DESCRIPTION:
URL:https://www.willcountydemocrats.com/event/plainfield-township-democrats-general-meeting-15/
LOCATION:Cemeno’s\, 1630 Essington Road\, Joliet\, IL\, United States
END:VEVENT
BEGIN:VEVENT
DTSTART;TZID=America/Chicago:20260511T190000
DTEND;TZID=America/Chicago:20260511T200000
DTSTAMP:20260423T102600
CREATED:20260321T114534Z
LAST-MODIFIED:20260324T170621Z
UID:4457-1778526000-1778529600@www.willcountydemocrats.com
SUMMARY:Peotone Township Democrats General Meeting
DESCRIPTION:
URL:https://www.willcountydemocrats.com/event/peotone-township-democrats-general-meeting-2/
LOCATION:IL
END:VEVENT
BEGIN:VEVENT
DTSTART;VALUE=DATE:20260513
DTEND;VALUE=DATE:20260514
DTSTAMP:20260423T102600
CREATED:20260321T114711Z
LAST-MODIFIED:20260321T114711Z
UID:4461-1778630400-1778716799@www.willcountydemocrats.com
SUMMARY:Frankfort Township Democrats General Meeting
DESCRIPTION:
URL:https://www.willcountydemocrats.com/event/frankfort-township-democrats-general-meeting-4/
LOCATION:St. John’s United Church of Christ\, 11100 Second Street\, Mokena\, IL\, 60448\, United States
END:VEVENT
BEGIN:VEVENT
DTSTART;TZID=America/Chicago:20260514T173000
DTEND;TZID=America/Chicago:20260514T193000
DTSTAMP:20260423T102600
CREATED:20260329T233623Z
LAST-MODIFIED:20260406T011141Z
UID:4497-1778779800-1778787000@www.willcountydemocrats.com
SUMMARY:Fundraiser to Re-Elect Sherry Newquist for Will County Board
DESCRIPTION:RSVP HERE
URL:https://www.willcountydemocrats.com/event/save-the-date-fundraiser-for-sherry-newquist-for-will-county-board/
LOCATION:Frankie’s Pizza\, 25921 S Governors Hwy\, Monee\, IL\, 60449\, United States
ATTACH;FMTTYPE=image/jpeg:https://www.willcountydemocrats.com/wp-content/uploads/2026/03/SH-NEW-FUN.jpg
END:VEVENT
BEGIN:VEVENT
DTSTART;TZID=America/Chicago:20260518T180000
DTEND;TZID=America/Chicago:20260518T190000
DTSTAMP:20260423T102600
CREATED:20260329T170822Z
LAST-MODIFIED:20260329T170822Z
UID:4479-1779127200-1779130800@www.willcountydemocrats.com
SUMMARY:Lockport Township Democrats General Meeting
DESCRIPTION:
URL:https://www.willcountydemocrats.com/event/lockport-township-democrats-general-meeting-6/
LOCATION:IL
ATTACH;FMTTYPE=image/jpeg:https://www.willcountydemocrats.com/wp-content/uploads/2026/03/Cover-Photo-Logo.jpg
END:VEVENT
BEGIN:VEVENT
DTSTART;TZID=America/Chicago:20260519T183000
DTEND;TZID=America/Chicago:20260519T200000
DTSTAMP:20260423T102600
CREATED:20260408T011919Z
LAST-MODIFIED:20260408T011919Z
UID:4524-1779215400-1779220800@www.willcountydemocrats.com
SUMMARY:Homer Township Democrats Meeting
DESCRIPTION:
URL:https://www.willcountydemocrats.com/event/homer-township-democrats-meeting-7/
LOCATION:IL
END:VEVENT
BEGIN:VEVENT
DTSTART;TZID=America/Chicago:20260521T170000
DTEND;TZID=America/Chicago:20260521T193000
DTSTAMP:20260423T102600
CREATED:20260406T221850Z
LAST-MODIFIED:20260406T222416Z
UID:4516-1779382800-1779391800@www.willcountydemocrats.com
SUMMARY:Fundraiser for Patrick Jones for Will County Sheriff
DESCRIPTION:RSVP HERE
URL:https://www.willcountydemocrats.com/event/fundraiser-for-patrick-jones-for-will-county-sheriff/
LOCATION:IBEW Local 176\, 1100 NE Frontage Road\, Joliet\, IL\, 60431\, United States
ATTACH;FMTTYPE=image/jpeg:https://www.willcountydemocrats.com/wp-content/uploads/2026/04/PJ-FUN.jpeg
END:VEVENT
BEGIN:VEVENT
DTSTART;VALUE=DATE:20260526
DTEND;VALUE=DATE:20260527
DTSTAMP:20260423T102600
CREATED:20260420T200711Z
LAST-MODIFIED:20260420T200711Z
UID:4537-1779753600-1779839999@www.willcountydemocrats.com
SUMMARY:Save the Date: Fundraiser for Mica Freeman for Will County Board
DESCRIPTION:
URL:https://www.willcountydemocrats.com/event/save-the-date-fundraiser-for-mica-freeman-for-will-county-board/
LOCATION:Black Dog Vinyl Cafe\, 16108 Illinois Rte 5\, Plainfield\, IL\, 60586\, United States
END:VEVENT
BEGIN:VEVENT
DTSTART;TZID=America/Chicago:20260527T183000
DTEND;TZID=America/Chicago:20260527T200000
DTSTAMP:20260423T102600
CREATED:20260321T114805Z
LAST-MODIFIED:20260324T170941Z
UID:4465-1779906600-1779912000@www.willcountydemocrats.com
SUMMARY:Crete Township Democrats General Meeting
DESCRIPTION:
URL:https://www.willcountydemocrats.com/event/crete-township-democrats-general-meeting-2/
LOCATION:Vintage Oak\, 1392 Main Street\, Crete\, IL\, 60417\, United States
END:VEVENT
BEGIN:VEVENT
DTSTART;TZID=America/Chicago:20260528T170000
DTEND;TZID=America/Chicago:20260528T190000
DTSTAMP:20260423T102600
CREATED:20260331T210754Z
LAST-MODIFIED:20260331T210845Z
UID:4499-1779987600-1779994800@www.willcountydemocrats.com
SUMMARY:Re-Election Kick Off for Andrea Lynn Chasteen for Will County Circuit Clerk
DESCRIPTION:
URL:https://www.willcountydemocrats.com/event/re-election-kick-off-for-andrea-lynn-chasteen-for-will-county-circuit-clerk/
LOCATION:Coom’s Corner\, 1225 E. 9th St.\, Lockport\, IL\, 60441\, United States
ATTACH;FMTTYPE=image/jpeg:https://www.willcountydemocrats.com/wp-content/uploads/2026/03/ALC-FUN.jpg
END:VEVENT
BEGIN:VEVENT
DTSTART;TZID=America/Chicago:20260530T093000
DTEND;TZID=America/Chicago:20260530T110000
DTSTAMP:20260423T102600
CREATED:20260112T023142Z
LAST-MODIFIED:20260420T150055Z
UID:4243-1780133400-1780138800@www.willcountydemocrats.com
SUMMARY:IDWOW General Meeting
DESCRIPTION:
URL:https://www.willcountydemocrats.com/event/save-the-date-idwow-general-meeting/
LOCATION:Nowell Park\, 199 Mills Rd.\, Joliet\, IL\, 60433
END:VEVENT
BEGIN:VEVENT
DTSTART;TZID=America/Chicago:20260603T190000
DTEND;TZID=America/Chicago:20260603T200000
DTSTAMP:20260423T102600
CREATED:20251215T013149Z
LAST-MODIFIED:20251215T013149Z
UID:4158-1780513200-1780516800@www.willcountydemocrats.com
SUMMARY:Plainfield Township Democrats General Meeting
DESCRIPTION:
URL:https://www.willcountydemocrats.com/event/plainfield-township-democrats-general-meeting-16/
LOCATION:Cemeno’s\, 1630 Essington Road\, Joliet\, IL\, United States
END:VEVENT
BEGIN:VEVENT
DTSTART;TZID=America/Chicago:20260611T180000
DTEND;TZID=America/Chicago:20260611T210000
DTSTAMP:20260423T102600
CREATED:20260404T165622Z
LAST-MODIFIED:20260404T165622Z
UID:4502-1781200800-1781211600@www.willcountydemocrats.com
SUMMARY:Fundraiser for Marc McKirdie for Will County Board
DESCRIPTION:
URL:https://www.willcountydemocrats.com/event/fundraiser-for-marc-mckirdie-for-will-county-board/
LOCATION:Hailstorm Brewing Company\, 8060 186th St.\, Tinley Park\, Il\, 60487
ATTACH;FMTTYPE=image/png:https://www.willcountydemocrats.com/wp-content/uploads/2026/04/MM-FUN.png
END:VEVENT
BEGIN:VEVENT
DTSTART;TZID=America/Chicago:20260615T180000
DTEND;TZID=America/Chicago:20260615T190000
DTSTAMP:20260423T102600
CREATED:20260329T170911Z
LAST-MODIFIED:20260329T170911Z
UID:4481-1781546400-1781550000@www.willcountydemocrats.com
SUMMARY:Lockport Township Democrats General Meeting
DESCRIPTION:
URL:https://www.willcountydemocrats.com/event/lockport-township-democrats-general-meeting-7/
LOCATION:IL
ATTACH;FMTTYPE=image/jpeg:https://www.willcountydemocrats.com/wp-content/uploads/2026/03/Cover-Photo-Logo.jpg
END:VEVENT
BEGIN:VEVENT
DTSTART;TZID=America/Chicago:20260616T183000
DTEND;TZID=America/Chicago:20260616T200000
DTSTAMP:20260423T102600
CREATED:20260408T012101Z
LAST-MODIFIED:20260408T012332Z
UID:4526-1781634600-1781640000@www.willcountydemocrats.com
SUMMARY:Homer Township Democrats Meeting
DESCRIPTION:
URL:https://www.willcountydemocrats.com/event/homer-township-democrats-meeting-8/
LOCATION:IL
END:VEVENT
BEGIN:VEVENT
DTSTART;TZID=America/Chicago:20260618T173000
DTEND;TZID=America/Chicago:20260618T193000
DTSTAMP:20260423T102600
CREATED:20260414T211815Z
LAST-MODIFIED:20260414T211909Z
UID:4529-1781803800-1781811000@www.willcountydemocrats.com
SUMMARY:Save the Date: Michelle Stiff for Will County Clerk Kickoff Fundraiser
DESCRIPTION:
URL:https://www.willcountydemocrats.com/event/save-the-date-michelle-stiff-for-will-county-clerk-kickoff-fundraiser/
LOCATION:IL
END:VEVENT
BEGIN:VEVENT
DTSTART;TZID=America/Chicago:20260624T183000
DTEND;TZID=America/Chicago:20260624T200000
DTSTAMP:20260423T102600
CREATED:20260324T171036Z
LAST-MODIFIED:20260324T171257Z
UID:4469-1782325800-1782331200@www.willcountydemocrats.com
SUMMARY:Crete Township Democrats General Meeting
DESCRIPTION:
URL:https://www.willcountydemocrats.com/event/crete-township-democrats-general-meeting-4/
LOCATION:Vintage Oak\, 1392 Main Street\, Crete\, IL\, 60417\, United States
END:VEVENT
BEGIN:VEVENT
DTSTART;TZID=America/Chicago:20260627T093000
DTEND;TZID=America/Chicago:20260627T110000
DTSTAMP:20260423T102600
CREATED:20260112T023348Z
LAST-MODIFIED:20260420T150024Z
UID:4249-1782552600-1782558000@www.willcountydemocrats.com
SUMMARY:IDWOW General Meeting
DESCRIPTION:
URL:https://www.willcountydemocrats.com/event/save-the-date-idwow-general-meeting-4/
LOCATION:Nowell Park\, 199 Mills Rd.\, Joliet\, IL\, 60433
END:VEVENT
BEGIN:VEVENT
DTSTART;TZID=America/Chicago:20260701T190000
DTEND;TZID=America/Chicago:20260701T200000
DTSTAMP:20260423T102600
CREATED:20251215T013237Z
LAST-MODIFIED:20251215T013237Z
UID:4160-1782932400-1782936000@www.willcountydemocrats.com
SUMMARY:Plainfield Township Democrats General Meeting
DESCRIPTION:
URL:https://www.willcountydemocrats.com/event/plainfield-township-democrats-general-meeting-17/
LOCATION:Cemeno’s\, 1630 Essington Road\, Joliet\, IL\, United States
END:VEVENT
BEGIN:VEVENT
DTSTART;TZID=America/Chicago:20260720T180000
DTEND;TZID=America/Chicago:20260720T190000
DTSTAMP:20260423T102600
CREATED:20260329T170952Z
LAST-MODIFIED:20260329T170952Z
UID:4483-1784570400-1784574000@www.willcountydemocrats.com
SUMMARY:Lockport Township Democrats General Meeting
DESCRIPTION:
URL:https://www.willcountydemocrats.com/event/lockport-township-democrats-general-meeting-8/
LOCATION:IL
ATTACH;FMTTYPE=image/jpeg:https://www.willcountydemocrats.com/wp-content/uploads/2026/03/Cover-Photo-Logo.jpg
END:VEVENT
BEGIN:VEVENT
DTSTART;TZID=America/Chicago:20260725T093000
DTEND;TZID=America/Chicago:20260725T110000
DTSTAMP:20260423T102600
CREATED:20260112T023503Z
LAST-MODIFIED:20260420T150132Z
UID:4251-1784971800-1784977200@www.willcountydemocrats.com
SUMMARY:IDWOW General Meeting
DESCRIPTION:
URL:https://www.willcountydemocrats.com/event/save-the-date-idwow-general-meeting-5/
LOCATION:Nowell Park\, 199 Mills Rd.\, Joliet\, IL\, 60433
END:VEVENT
BEGIN:VEVENT
DTSTART;TZID=America/Chicago:20260805T190000
DTEND;TZID=America/Chicago:20260805T200000
DTSTAMP:20260423T102600
CREATED:20251215T013311Z
LAST-MODIFIED:20251215T013311Z
UID:4162-1785956400-1785960000@www.willcountydemocrats.com
SUMMARY:Plainfield Township Democrats General Meeting
DESCRIPTION:
URL:https://www.willcountydemocrats.com/event/plainfield-township-democrats-general-meeting-18/
LOCATION:Cemeno’s\, 1630 Essington Road\, Joliet\, IL\, United States
END:VEVENT
BEGIN:VEVENT
DTSTART;TZID=America/Chicago:20260817T180000
DTEND;TZID=America/Chicago:20260817T190000
DTSTAMP:20260423T102600
CREATED:20260329T171022Z
LAST-MODIFIED:20260329T171022Z
UID:4485-1786989600-1786993200@www.willcountydemocrats.com
SUMMARY:Lockport Township Democrats General Meeting
DESCRIPTION:
URL:https://www.willcountydemocrats.com/event/lockport-township-democrats-general-meeting-9/
LOCATION:IL
ATTACH;FMTTYPE=image/jpeg:https://www.willcountydemocrats.com/wp-content/uploads/2026/03/Cover-Photo-Logo.jpg
END:VEVENT
BEGIN:VEVENT
DTSTART;TZID=America/Chicago:20260829T093000
DTEND;TZID=America/Chicago:20260829T110000
DTSTAMP:20260423T102600
CREATED:20260112T023301Z
LAST-MODIFIED:20260112T023637Z
UID:4247-1787995800-1788001200@www.willcountydemocrats.com
SUMMARY:Save the Date: IDWOW General Meeting
DESCRIPTION:
URL:https://www.willcountydemocrats.com/event/save-the-date-idwow-general-meeting-3/
LOCATION:IL
END:VEVENT
BEGIN:VEVENT
DTSTART;TZID=America/Chicago:20260902T190000
DTEND;TZID=America/Chicago:20260902T200000
DTSTAMP:20260423T102600
CREATED:20251215T013354Z
LAST-MODIFIED:20251215T013354Z
UID:4164-1788375600-1788379200@www.willcountydemocrats.com
SUMMARY:Plainfield Township Democrats General Meeting
DESCRIPTION:
URL:https://www.willcountydemocrats.com/event/plainfield-township-democrats-general-meeting-19/
LOCATION:Cemeno’s\, 1630 Essington Road\, Joliet\, IL\, United States
END:VEVENT
BEGIN:VEVENT
DTSTART;TZID=America/Chicago:20260921T180000
DTEND;TZID=America/Chicago:20260921T190000
DTSTAMP:20260423T102600
CREATED:20260329T171057Z
LAST-MODIFIED:20260329T171057Z
UID:4487-1790013600-1790017200@www.willcountydemocrats.com
SUMMARY:Lockport Township Democrats General Meeting
DESCRIPTION:
URL:https://www.willcountydemocrats.com/event/lockport-township-democrats-general-meeting-10/
LOCATION:IL
ATTACH;FMTTYPE=image/jpeg:https://www.willcountydemocrats.com/wp-content/uploads/2026/03/Cover-Photo-Logo.jpg
END:VEVENT
END:VCALENDAR