BEGIN:VCALENDAR
VERSION:2.0
PRODID:-//Will County Democratic Party - ECPv6.15.20//NONSGML v1.0//EN
CALSCALE:GREGORIAN
METHOD:PUBLISH
X-ORIGINAL-URL:https://www.willcountydemocrats.com
X-WR-CALDESC:Events for Will County Democratic Party
REFRESH-INTERVAL;VALUE=DURATION:PT1H
X-Robots-Tag:noindex
X-PUBLISHED-TTL:PT1H
BEGIN:VTIMEZONE
TZID:America/Chicago
BEGIN:DAYLIGHT
TZOFFSETFROM:-0600
TZOFFSETTO:-0500
TZNAME:CDT
DTSTART:20250309T080000
END:DAYLIGHT
BEGIN:STANDARD
TZOFFSETFROM:-0500
TZOFFSETTO:-0600
TZNAME:CST
DTSTART:20251102T070000
END:STANDARD
BEGIN:DAYLIGHT
TZOFFSETFROM:-0600
TZOFFSETTO:-0500
TZNAME:CDT
DTSTART:20260308T080000
END:DAYLIGHT
BEGIN:STANDARD
TZOFFSETFROM:-0500
TZOFFSETTO:-0600
TZNAME:CST
DTSTART:20261101T070000
END:STANDARD
BEGIN:DAYLIGHT
TZOFFSETFROM:-0600
TZOFFSETTO:-0500
TZNAME:CDT
DTSTART:20270314T080000
END:DAYLIGHT
BEGIN:STANDARD
TZOFFSETFROM:-0500
TZOFFSETTO:-0600
TZNAME:CST
DTSTART:20271107T070000
END:STANDARD
END:VTIMEZONE
BEGIN:VEVENT
DTSTART;TZID=America/Chicago:20260115T163000
DTEND;TZID=America/Chicago:20260115T183000
DTSTAMP:20260423T010011
CREATED:20251209T221928Z
LAST-MODIFIED:20260111T195813Z
UID:4129-1768494600-1768501800@www.willcountydemocrats.com
SUMMARY:Ballots & Brews: A Winter Fundraiser in Support of Judge Amy Christiansen
DESCRIPTION:Entry: $50 | $40 for Government Employees \nRSVP HERE
URL:https://www.willcountydemocrats.com/event/ballots-brews-a-winter-fundraiser-in-support-of-judge-amy-christiansen/
LOCATION:Chicago Street Pub\, 75 N Chicago St.\, Joliet\, Il\, 60432
ATTACH;FMTTYPE=image/png:https://www.willcountydemocrats.com/wp-content/uploads/2025/12/JUDGE-AC-FUN.png
END:VEVENT
BEGIN:VEVENT
DTSTART;TZID=America/Chicago:20260115T183000
DTEND;TZID=America/Chicago:20260115T203000
DTSTAMP:20260423T010011
CREATED:20251219T223922Z
LAST-MODIFIED:20260109T042237Z
UID:4185-1768501800-1768509000@www.willcountydemocrats.com
SUMMARY:Meet & Greet with Margaret Croke\, Candidate for Il State Comptroller
DESCRIPTION:
URL:https://www.willcountydemocrats.com/event/save-the-date-meet-greet-with-margaret-croke-candidate-for-il-state-comptroller/
LOCATION:Papa Joe’s\, 944 E 9th St.\, Lockport\, Il\, 60441
ATTACH;FMTTYPE=image/jpeg:https://www.willcountydemocrats.com/wp-content/uploads/2025/12/MG-MC.jpg
END:VEVENT
BEGIN:VEVENT
DTSTART;TZID=America/Chicago:20260117T090000
DTEND;TZID=America/Chicago:20260117T100000
DTSTAMP:20260423T010011
CREATED:20260111T174527Z
LAST-MODIFIED:20260113T214146Z
UID:4227-1768640400-1768644000@www.willcountydemocrats.com
SUMMARY:Poll Watching 101
DESCRIPTION:Must RSVP to info@willcountydemocrats.com \n  \n 
URL:https://www.willcountydemocrats.com/event/poll-watching-101/
LOCATION:1924 Plainfield Rd\, Crest Hill\, IL 60403\, 1924 Plainfield Rd\, Crest Hill\, IL\, 60403\, United States
ATTACH;FMTTYPE=image/jpeg:https://www.willcountydemocrats.com/wp-content/uploads/2026/01/POLL-101.jpg
END:VEVENT
BEGIN:VEVENT
DTSTART;TZID=America/Chicago:20260119T180000
DTEND;TZID=America/Chicago:20260119T193000
DTSTAMP:20260423T010011
CREATED:20260112T022903Z
LAST-MODIFIED:20260112T023030Z
UID:4241-1768845600-1768851000@www.willcountydemocrats.com
SUMMARY:Lockport Township Democrats Meeting
DESCRIPTION:
URL:https://www.willcountydemocrats.com/event/lockport-township-democrats-meeting-15/
LOCATION:White Oak Library – Crest Hill\, 20670 City Center Blvd\, Crest HIll\, Il\, 60403
END:VEVENT
BEGIN:VEVENT
DTSTART;TZID=America/Chicago:20260120T180000
DTEND;TZID=America/Chicago:20260120T200000
DTSTAMP:20260423T010011
CREATED:20251209T221131Z
LAST-MODIFIED:20260111T195854Z
UID:4126-1768932000-1768939200@www.willcountydemocrats.com
SUMMARY:Fundraiser for Bob Howard for Will County Board District 2
DESCRIPTION:RSVP HERE
URL:https://www.willcountydemocrats.com/event/save-the-date-fundraiser-for-bob-howard-for-will-county-board-district-2/
LOCATION:Midtown Bar & Grille\, 100 S. State Street\, Manhattan\, IL\, 60442\, United States
ATTACH;FMTTYPE=image/jpeg:https://www.willcountydemocrats.com/wp-content/uploads/2025/12/BH-FUN.jpg
END:VEVENT
BEGIN:VEVENT
DTSTART;TZID=America/Chicago:20260126T180000
DTEND;TZID=America/Chicago:20260126T190000
DTSTAMP:20260423T010011
CREATED:20260113T214555Z
LAST-MODIFIED:20260113T214555Z
UID:4279-1769450400-1769454000@www.willcountydemocrats.com
SUMMARY:Poll Watching 101
DESCRIPTION:Must RSVP to info@willcountydemocrats.com
URL:https://www.willcountydemocrats.com/event/poll-watching-101-2/
LOCATION:Southern Charm Venues\, 23504 Harlem Ave.\, Frankfort\, Il\, 60423
ATTACH;FMTTYPE=image/jpeg:https://www.willcountydemocrats.com/wp-content/uploads/2026/01/POLL-101.jpg
END:VEVENT
BEGIN:VEVENT
DTSTART;TZID=America/Chicago:20260127T180000
DTEND;TZID=America/Chicago:20260127T200000
DTSTAMP:20260423T010011
CREATED:20260105T183737Z
LAST-MODIFIED:20260105T230727Z
UID:4209-1769536800-1769544000@www.willcountydemocrats.com
SUMMARY:Fundraiser for Tyler Giacalone for Will County Board
DESCRIPTION:Tickets HERE
URL:https://www.willcountydemocrats.com/event/fundraiser-for-tyler-giacalone-for-will-county-board/
LOCATION:Home Run Inn Pizza\, 1280 W Boughton Rd\, Bolingbrook\, Il\, 60440
ATTACH;FMTTYPE=image/jpeg:https://www.willcountydemocrats.com/wp-content/uploads/2026/01/TG-FUN.jpg
END:VEVENT
BEGIN:VEVENT
DTSTART;TZID=America/Chicago:20260127T190000
DTEND;TZID=America/Chicago:20260127T200000
DTSTAMP:20260423T010011
CREATED:20260115T031421Z
LAST-MODIFIED:20260115T032400Z
UID:4282-1769540400-1769544000@www.willcountydemocrats.com
SUMMARY:Manhattan Township Democrats Meeting
DESCRIPTION:
URL:https://www.willcountydemocrats.com/event/monee-township-democrats-meeting-10/
LOCATION:Manhattan Community Hall\, 230 S. State St.\, Manhattan\, Il
END:VEVENT
BEGIN:VEVENT
DTSTART;TZID=America/Chicago:20260128T170000
DTEND;TZID=America/Chicago:20260128T190000
DTSTAMP:20260423T010011
CREATED:20251216T043030Z
LAST-MODIFIED:20251218T041730Z
UID:4179-1769619600-1769626800@www.willcountydemocrats.com
SUMMARY:Supervisor Alex Zapien's New Year Winter Kick Off
DESCRIPTION:Tickets & Sponsorships HERE
URL:https://www.willcountydemocrats.com/event/supervisor-alex-zapiens-new-year-winter-kick-off/
LOCATION:Coom’s Corner\, 1225 E. 9th St.\, Lockport\, IL\, 60441\, United States
ATTACH;FMTTYPE=image/jpeg:https://www.willcountydemocrats.com/wp-content/uploads/2025/12/Fundraiser-Flyer-1.jpg
END:VEVENT
BEGIN:VEVENT
DTSTART;TZID=America/Chicago:20260128T190000
DTEND;TZID=America/Chicago:20260128T200000
DTSTAMP:20260423T010011
CREATED:20260113T165127Z
LAST-MODIFIED:20260122T170608Z
UID:4263-1769626800-1769630400@www.willcountydemocrats.com
SUMMARY:Law & Order Forum
DESCRIPTION:A Sheriff Candidates Forum brought to you by the Democratic Organizations of Frankfort\, Homer\, Manhattan\, Monee\, Crete & New Lenox. \nRSVP HERE \n  \n 
URL:https://www.willcountydemocrats.com/event/law-order-forum/
LOCATION:St. John’s United Church of Christ\, 11100 Second Street\, Mokena\, IL\, 60448\, United States
ATTACH;FMTTYPE=image/jpeg:https://www.willcountydemocrats.com/wp-content/uploads/2026/01/SHERIFF-FORUM-1-scaled.jpg
END:VEVENT
BEGIN:VEVENT
DTSTART;TZID=America/Chicago:20260131T093000
DTEND;TZID=America/Chicago:20260131T110000
DTSTAMP:20260423T010011
CREATED:20260112T022035Z
LAST-MODIFIED:20260112T022035Z
UID:4236-1769851800-1769857200@www.willcountydemocrats.com
SUMMARY:IDWOW General Meeting
DESCRIPTION:
URL:https://www.willcountydemocrats.com/event/idwow-general-meeting-3/
LOCATION:IBEW 176 Joint Apprenticeship Training Center\, 1110 NE Frontage Rd.\, Joliet\, IL\, 60431
ATTACH;FMTTYPE=image/jpeg:https://www.willcountydemocrats.com/wp-content/uploads/2025/09/IMG_4261.jpeg
END:VEVENT
BEGIN:VEVENT
DTSTART;TZID=America/Chicago:20260202T183000
DTEND;TZID=America/Chicago:20260202T200000
DTSTAMP:20260423T010011
CREATED:20260102T035206Z
LAST-MODIFIED:20260121T235924Z
UID:4188-1770057000-1770062400@www.willcountydemocrats.com
SUMMARY:Will County Democrats Monthly Meeting ft. Holly Kim\, Tramaine Berry
DESCRIPTION:Join the Will County Democrats for our in-person February General Meeting.\nOur February meeting features:\nHolly Kim for Il State Comptroller &\nTramaine Berry from Operating Engineers Local 150
URL:https://www.willcountydemocrats.com/event/will-county-democrats-general-meeting-7/
LOCATION:IBEW Local 176\, 1100 NE Frontage Road\, Joliet\, IL\, 60431\, United States
ATTACH;FMTTYPE=image/jpeg:https://www.willcountydemocrats.com/wp-content/uploads/2026/01/WCD-HK.jpg
END:VEVENT
BEGIN:VEVENT
DTSTART;TZID=America/Chicago:20260204T190000
DTEND;TZID=America/Chicago:20260204T200000
DTSTAMP:20260423T010011
CREATED:20251215T012729Z
LAST-MODIFIED:20251215T012729Z
UID:4150-1770231600-1770235200@www.willcountydemocrats.com
SUMMARY:Plainfield Township Democrats General Meeting
DESCRIPTION:
URL:https://www.willcountydemocrats.com/event/plainfield-township-democrats-general-meeting-12/
LOCATION:Cemeno’s\, 1630 Essington Road\, Joliet\, IL\, United States
END:VEVENT
BEGIN:VEVENT
DTSTART;TZID=America/Chicago:20260204T190000
DTEND;TZID=America/Chicago:20260204T200000
DTSTAMP:20260423T010011
CREATED:20260113T165314Z
LAST-MODIFIED:20260122T170529Z
UID:4266-1770231600-1770235200@www.willcountydemocrats.com
SUMMARY:Judge for Yourself: A Judicial Candidate Forum
DESCRIPTION:Forum brought to you by the Democratic Organizations of Frankfort\, Homer\, Manhattan\, Monee\, Crete & New Lenox. \nRSVP HERE \n  \n 
URL:https://www.willcountydemocrats.com/event/judge-for-yourself-a-judicial-candidate-forum/
LOCATION:St. John’s United Church of Christ\, 11100 Second Street\, Mokena\, IL\, 60448\, United States
ATTACH;FMTTYPE=image/jpeg:https://www.willcountydemocrats.com/wp-content/uploads/2026/01/Judges-Forum-1-scaled.jpg
END:VEVENT
BEGIN:VEVENT
DTSTART;TZID=America/Chicago:20260205T170000
DTEND;TZID=America/Chicago:20260205T190000
DTSTAMP:20260423T010011
CREATED:20260107T191023Z
LAST-MODIFIED:20260111T200035Z
UID:4213-1770310800-1770318000@www.willcountydemocrats.com
SUMMARY:Fundraiser for Theresa Rouse for Will County Regional Superintendent
DESCRIPTION:RSVP HERE
URL:https://www.willcountydemocrats.com/event/save-the-date-fundraiser-for-theresa-rouse-for-will-county-regional-superintendant/
LOCATION:Al’s Steakhouse Restaurant\, 1990 W Jefferson St.\, Joliet\, Il\, 60435
ATTACH;FMTTYPE=image/jpeg:https://www.willcountydemocrats.com/wp-content/uploads/2026/01/TR-FUN.jpg
END:VEVENT
BEGIN:VEVENT
DTSTART;TZID=America/Chicago:20260208T163000
DTEND;TZID=America/Chicago:20260208T210000
DTSTAMP:20260423T010011
CREATED:20260126T005321Z
LAST-MODIFIED:20260126T005938Z
UID:4354-1770568200-1770584400@www.willcountydemocrats.com
SUMMARY:Will County Democrats Super Bowl Fundraiser
DESCRIPTION:RSVP HERE
URL:https://www.willcountydemocrats.com/event/will-county-democrats-superbowl-fundraiser/
LOCATION:The Irish Corner Cantina\, 2771 Black Rd.\, Joliet\, Il\, 60435
ATTACH;FMTTYPE=image/jpeg:https://www.willcountydemocrats.com/wp-content/uploads/2026/01/SUPERBOWL.jpg
END:VEVENT
BEGIN:VEVENT
DTSTART;TZID=America/Chicago:20260209T170000
DTEND;TZID=America/Chicago:20260209T180000
DTSTAMP:20260423T010011
CREATED:20260124T223553Z
LAST-MODIFIED:20260124T224139Z
UID:4347-1770656400-1770660000@www.willcountydemocrats.com
SUMMARY:Unions for Kifowit Meet & Greet
DESCRIPTION:RSVP HERE
URL:https://www.willcountydemocrats.com/event/unions-for-kifowitt-meet-greet/
LOCATION:Gatto’s Italian Restaurant\, 1938 E Lincoln Highway\, New Lenox\, Il\, 60451
ATTACH;FMTTYPE=image/png:https://www.willcountydemocrats.com/wp-content/uploads/2026/01/KIFW.png
END:VEVENT
BEGIN:VEVENT
DTSTART;TZID=America/Chicago:20260211T180000
DTEND;TZID=America/Chicago:20260211T200000
DTSTAMP:20260423T010011
CREATED:20260113T165914Z
LAST-MODIFIED:20260115T032150Z
UID:4272-1770832800-1770840000@www.willcountydemocrats.com
SUMMARY:Support Sheldon Watts for Will County Board District 11
DESCRIPTION:RSVP: info@sheldonwatts4willcounty.com\nDonate: https://secure.actblue.com/donate/friends-for-sheldon–watts
URL:https://www.willcountydemocrats.com/event/save-the-date-meet-greet/
LOCATION:Fusion Marina\, 151 E Boughton Rd.\, Bolingbrook\, Il\, 60440
ATTACH;FMTTYPE=image/png:https://www.willcountydemocrats.com/wp-content/uploads/2026/01/SWATTS.png
END:VEVENT
BEGIN:VEVENT
DTSTART;TZID=America/Chicago:20260212T170000
DTEND;TZID=America/Chicago:20260212T200000
DTSTAMP:20260423T010011
CREATED:20260109T041509Z
LAST-MODIFIED:20260111T200113Z
UID:4217-1770915600-1770926400@www.willcountydemocrats.com
SUMMARY:Fundraiser for Dan Jungles for Will County Sheriff with Special Guest Honorable Jesse White
DESCRIPTION:RSVP HERE
URL:https://www.willcountydemocrats.com/event/fundraiser-for-dan-jungles-for-will-county-sheriff-with-special-guest-honorable-jesse-white/
LOCATION:Royal Palace Event Centre\, 1416 W. Jefferson St.\, Joliet\, Il\, 60435
ATTACH;FMTTYPE=image/jpeg:https://www.willcountydemocrats.com/wp-content/uploads/2026/01/JUNG-JESS.jpg
END:VEVENT
BEGIN:VEVENT
DTSTART;TZID=America/Chicago:20260215T140000
DTEND;TZID=America/Chicago:20260215T170000
DTSTAMP:20260423T010011
CREATED:20260212T224645Z
LAST-MODIFIED:20260215T165538Z
UID:4391-1771164000-1771174800@www.willcountydemocrats.com
SUMMARY:Will County Day of Action - Margaret Croke & Countywide Candidates
DESCRIPTION:
URL:https://www.willcountydemocrats.com/event/will-county-day-of-action-margaret-croke-countywide-candidates/
LOCATION:At’s A Nice Pizza\, 380 N Independence Blvd # A\, Romeville\, United States
ATTACH;FMTTYPE=image/jpeg:https://www.willcountydemocrats.com/wp-content/uploads/2026/02/MC-DOA-2.jpg
END:VEVENT
BEGIN:VEVENT
DTSTART;TZID=America/Chicago:20260216T180000
DTEND;TZID=America/Chicago:20260216T190000
DTSTAMP:20260423T010011
CREATED:20260202T012112Z
LAST-MODIFIED:20260215T173620Z
UID:4365-1771264800-1771268400@www.willcountydemocrats.com
SUMMARY:Lockport Township Democrats General Meeting
DESCRIPTION:A VoteBuilder training session will take place after the general meeting and is open to all attendees.
URL:https://www.willcountydemocrats.com/event/lockport-township-democrats-general-meeting-4/
LOCATION:White Oak Library – Crest Hill\, 20670 City Center Blvd\, Crest HIll\, Il\, 60403
ATTACH;FMTTYPE=image/jpeg:https://www.willcountydemocrats.com/wp-content/uploads/2026/02/Cover-Photo-Logo.jpg
END:VEVENT
BEGIN:VEVENT
DTSTART;TZID=America/Chicago:20260216T183000
DTEND;TZID=America/Chicago:20260216T190000
DTSTAMP:20260423T010011
CREATED:20260202T011348Z
LAST-MODIFIED:20260202T012625Z
UID:4363-1771266600-1771268400@www.willcountydemocrats.com
SUMMARY:DuPage Township Democrats General Meeting
DESCRIPTION:DTDO General Body Meeting: 6:30pm – 7:00pm\n\n\n\nCultural Awareness & Inclusive Actions Seminar #2: 7:00pm – 8:30pm
URL:https://www.willcountydemocrats.com/event/dupage-township-democrats-monthly-meeting-2/
LOCATION:Fountaindale Library\, 300 W Briarcliff Rd\, Bolingbrook\, Il\, 60440
END:VEVENT
BEGIN:VEVENT
DTSTART;TZID=America/Chicago:20260216T190000
DTEND;TZID=America/Chicago:20260216T200000
DTSTAMP:20260423T010011
CREATED:20260208T185145Z
LAST-MODIFIED:20260215T173930Z
UID:4379-1771268400-1771272000@www.willcountydemocrats.com
SUMMARY:Votebuilder Training
DESCRIPTION:Immediately following the Lockport Democrats’ general meeting) \nRSVP HERE
URL:https://www.willcountydemocrats.com/event/votebuilder-training/
LOCATION:White Oak Library – Crest Hill\, 20670 City Center Blvd\, Crest HIll\, Il\, 60403
ATTACH;FMTTYPE=image/png:https://www.willcountydemocrats.com/wp-content/uploads/2026/02/DPI-LOGO.png
END:VEVENT
BEGIN:VEVENT
DTSTART;TZID=America/Chicago:20260216T190000
DTEND;TZID=America/Chicago:20260216T203000
DTSTAMP:20260423T010011
CREATED:20260202T011145Z
LAST-MODIFIED:20260202T011213Z
UID:4360-1771268400-1771273800@www.willcountydemocrats.com
SUMMARY:DuPage Township Democrats: Cultural Awareness & Inclusive Action Seminar #2
DESCRIPTION:DuPage Township Democratic Organization in Collaboration with The Alliance for Civic Engagement (ACE)\, and the Young Dems of Will County Presents:\nA Cultural Awareness & Inclusive Actions Seminar #2: Understanding Unconscious Bias \nJoin Us in Becoming Stronger Together Through Meaningful Dialogue & Shared Understanding \n\n\n\n~ Monday February 16th\n\n~ Fountaindale Public Library 300 W. Briarcliff Rd\, Bolingbrook\, IL 60440 – Room A\n\n~ DTDO General Body Meeting: 6:30pm – 7:00pm\n\n~ Cultural Awareness & Inclusive Actions Seminar #2: 7:00pm – 8:30pm
URL:https://www.willcountydemocrats.com/event/dupage-township-democrats-cultural-awareness-inclusive-action-seminar-2/
LOCATION:Fountaindale Library\, 300 W Briarcliff Rd\, Bolingbrook\, Il\, 60440
ATTACH;FMTTYPE=image/jpeg:https://www.willcountydemocrats.com/wp-content/uploads/2026/02/Cultural-Awareness-Session-2.jpg
END:VEVENT
BEGIN:VEVENT
DTSTART;TZID=America/Chicago:20260217T183000
DTEND;TZID=America/Chicago:20260217T193000
DTSTAMP:20260423T010011
CREATED:20260205T223503Z
LAST-MODIFIED:20260205T223503Z
UID:4374-1771353000-1771356600@www.willcountydemocrats.com
SUMMARY:Homer Township Democrats General Meeting
DESCRIPTION:
URL:https://www.willcountydemocrats.com/event/homer-township-democrats-general-meeting/
LOCATION:Old Town Hall\, 16057 CoHwy 4\, Homer Glen\, 60491
END:VEVENT
BEGIN:VEVENT
DTSTART;TZID=America/Chicago:20260226T170000
DTEND;TZID=America/Chicago:20260226T190000
DTSTAMP:20260423T010011
CREATED:20260205T003310Z
LAST-MODIFIED:20260205T003557Z
UID:4368-1772125200-1772132400@www.willcountydemocrats.com
SUMMARY:Ken Harris: The GOTV Push - Meet & Greet the Candidates
DESCRIPTION:RSVP HERE
URL:https://www.willcountydemocrats.com/event/ken-harris-the-gotv-push-meet-greet-the-candidates/
LOCATION:Home Run Inn Pizza\, 1280 W Boughton Rd\, Bolingbrook\, Il\, 60440
ATTACH;FMTTYPE=image/png:https://www.willcountydemocrats.com/wp-content/uploads/2026/02/KH-GOTV.png
END:VEVENT
BEGIN:VEVENT
DTSTART;TZID=America/Chicago:20260226T170000
DTEND;TZID=America/Chicago:20260226T190000
DTSTAMP:20260423T010011
CREATED:20260213T173631Z
LAST-MODIFIED:20260213T173707Z
UID:4394-1772125200-1772132400@www.willcountydemocrats.com
SUMMARY:Michelle Stiff Networking Fundraiser
DESCRIPTION:Donations Can be Made Here
URL:https://www.willcountydemocrats.com/event/michelle-stiff-networking-fundraiser/
LOCATION:Anthony’s Restaurant\, 3151 Voyager Ln\, Joliet\, Il\, 60431
ATTACH;FMTTYPE=image/jpeg:https://www.willcountydemocrats.com/wp-content/uploads/2026/02/MS-EVENT.jpg
END:VEVENT
BEGIN:VEVENT
DTSTART;TZID=America/Chicago:20260228T093000
DTEND;TZID=America/Chicago:20260228T103000
DTSTAMP:20260423T010011
CREATED:20260112T022128Z
LAST-MODIFIED:20260222T160947Z
UID:4238-1772271000-1772274600@www.willcountydemocrats.com
SUMMARY:IDWOW General Meeting
DESCRIPTION:
URL:https://www.willcountydemocrats.com/event/idwow-general-meeting-4/
LOCATION:Nowell Park\, 199 Mills Rd.\, Joliet\, IL\, 60433
ATTACH;FMTTYPE=image/jpeg:https://www.willcountydemocrats.com/wp-content/uploads/2025/09/IMG_4261.jpeg
END:VEVENT
BEGIN:VEVENT
DTSTART;TZID=America/Chicago:20260228T100000
DTEND;TZID=America/Chicago:20260228T130000
DTSTAMP:20260423T010011
CREATED:20260224T042650Z
LAST-MODIFIED:20260224T042650Z
UID:4417-1772272800-1772283600@www.willcountydemocrats.com
SUMMARY:Young Democrats of Will County: Day of Action
DESCRIPTION:
URL:https://www.willcountydemocrats.com/event/young-democrats-of-will-county-day-of-action/
LOCATION:328 Republic Avenue\, 328 Republic Avenue\, Joliet\, IL\, 60434\, United States
ATTACH;FMTTYPE=image/jpeg:https://www.willcountydemocrats.com/wp-content/uploads/2026/02/YDWC-DOA.jpg
END:VEVENT
BEGIN:VEVENT
DTSTART;TZID=America/Chicago:20260302T080000
DTEND;TZID=America/Chicago:20260302T100000
DTSTAMP:20260423T010011
CREATED:20251209T222507Z
LAST-MODIFIED:20251209T222527Z
UID:4133-1772438400-1772445600@www.willcountydemocrats.com
SUMMARY:Southland Friends of Labor: 17th Annual Jobs Breakfast
DESCRIPTION:
URL:https://www.willcountydemocrats.com/event/southland-friends-of-labor-17th-annual-jobs-breakfast/
LOCATION:Sprinkler Fitters Local 281 Training Center\, Alsip\, 11900 S Laramie Ave\, Alsip\, Il\, 60803
ATTACH;FMTTYPE=image/jpeg:https://www.willcountydemocrats.com/wp-content/uploads/2025/12/Southland-Friends-of-Labor-Breakfast-2026.jpg
END:VEVENT
END:VCALENDAR