BEGIN:VCALENDAR
VERSION:2.0
PRODID:-//Will County Democratic Party - ECPv6.15.20//NONSGML v1.0//EN
CALSCALE:GREGORIAN
METHOD:PUBLISH
X-WR-CALNAME:Will County Democratic Party
X-ORIGINAL-URL:https://www.willcountydemocrats.com
X-WR-CALDESC:Events for Will County Democratic Party
REFRESH-INTERVAL;VALUE=DURATION:PT1H
X-Robots-Tag:noindex
X-PUBLISHED-TTL:PT1H
BEGIN:VTIMEZONE
TZID:America/Chicago
BEGIN:DAYLIGHT
TZOFFSETFROM:-0600
TZOFFSETTO:-0500
TZNAME:CDT
DTSTART:20220313T080000
END:DAYLIGHT
BEGIN:STANDARD
TZOFFSETFROM:-0500
TZOFFSETTO:-0600
TZNAME:CST
DTSTART:20221106T070000
END:STANDARD
BEGIN:DAYLIGHT
TZOFFSETFROM:-0600
TZOFFSETTO:-0500
TZNAME:CDT
DTSTART:20230312T080000
END:DAYLIGHT
BEGIN:STANDARD
TZOFFSETFROM:-0500
TZOFFSETTO:-0600
TZNAME:CST
DTSTART:20231105T070000
END:STANDARD
BEGIN:DAYLIGHT
TZOFFSETFROM:-0600
TZOFFSETTO:-0500
TZNAME:CDT
DTSTART:20240310T080000
END:DAYLIGHT
BEGIN:STANDARD
TZOFFSETFROM:-0500
TZOFFSETTO:-0600
TZNAME:CST
DTSTART:20241103T070000
END:STANDARD
END:VTIMEZONE
BEGIN:VEVENT
DTSTART;TZID=America/Chicago:20231113T170000
DTEND;TZID=America/Chicago:20231113T193000
DTSTAMP:20260423T022156
CREATED:20231102T222014Z
LAST-MODIFIED:20231102T222014Z
UID:2036-1699894800-1699903800@www.willcountydemocrats.com
SUMMARY:Petition Return
DESCRIPTION:Notaries will be at the event.
URL:https://www.willcountydemocrats.com/event/petition-return/
LOCATION:Carpenters’ Local 174 Hall\, 1407 Essington Road\, Joliet\, IL\, 60435\, United States
ATTACH;FMTTYPE=image/jpeg:https://www.willcountydemocrats.com/wp-content/uploads/2023/11/Petition-Return-Flyer.jpg
END:VEVENT
BEGIN:VEVENT
DTSTART;TZID=America/Chicago:20231112T103000
DTEND;TZID=America/Chicago:20231112T123000
DTSTAMP:20260423T022156
CREATED:20231103T031532Z
LAST-MODIFIED:20231103T031532Z
UID:2042-1699785000-1699792200@www.willcountydemocrats.com
SUMMARY:Chili and Petitions
DESCRIPTION:Sign a petition and have a cup of chili! Food and drinks will be served.
URL:https://www.willcountydemocrats.com/event/chili-and-petitions/
LOCATION:3306 Kingswood Court\, 3306 Kingswood Court\, Joliet\, IL\, 60431\, United States
ATTACH;FMTTYPE=image/jpeg:https://www.willcountydemocrats.com/wp-content/uploads/2023/11/Chili-and-Petitions-Flyer.jpg
END:VEVENT
BEGIN:VEVENT
DTSTART;TZID=America/Chicago:20231109T173000
DTEND;TZID=America/Chicago:20231109T223000
DTSTAMP:20260423T022156
CREATED:20231030T193632Z
LAST-MODIFIED:20231102T033752Z
UID:2025-1699551000-1699569000@www.willcountydemocrats.com
SUMMARY:Chicago Bears Tailgate and Watch Party with Judge John Anderson
DESCRIPTION:Featuring special guests 1985 Super Bowl Champion and Chicago Bears legend Otis Wilson and 2x American League All-Star and White Sox Legend Carlos May.
URL:https://www.willcountydemocrats.com/event/chicago-bears-tailgate-and-watch-party-with-judge-john-anderson/
LOCATION:Longshots Sports Bar and Grill\, 1609 W Jefferson Street\, Joliet\, IL\, 60435\, United States
ATTACH;FMTTYPE=application/pdf:https://www.willcountydemocrats.com/wp-content/uploads/2023/10/Judge-John-Anderson-Tailgate-Flyer.pdf
END:VEVENT
BEGIN:VEVENT
DTSTART;TZID=America/Chicago:20231104T173000
DTEND;TZID=America/Chicago:20231104T200000
DTSTAMP:20260423T022156
CREATED:20231018T031311Z
LAST-MODIFIED:20231018T031401Z
UID:1998-1699119000-1699128000@www.willcountydemocrats.com
SUMMARY:IDW Convention: Dinner and Program
DESCRIPTION:
URL:https://www.willcountydemocrats.com/event/idw-convention-dinner-and-program/
LOCATION:DoubleTree Lisle\, 3003 Corporate West Dr\, Lisle\, Il
ATTACH;FMTTYPE=image/jpeg:https://www.willcountydemocrats.com/wp-content/uploads/2023/10/IDWS-scaled.jpg
END:VEVENT
BEGIN:VEVENT
DTSTART;TZID=America/Chicago:20231104T173000
DTEND;TZID=America/Chicago:20231104T190000
DTSTAMP:20260423T022156
CREATED:20231006T181635Z
LAST-MODIFIED:20231103T010612Z
UID:1978-1699119000-1699124400@www.willcountydemocrats.com
SUMMARY:Diwali Celebration
DESCRIPTION:The Will County Democratic AAPI Caucus and The Young Democrats of Illinois AAPI Caucus invite you to a Diwali Celebration!
URL:https://www.willcountydemocrats.com/event/diwali-celebration/
LOCATION:The Matrix Club\, 808 Illinois Rte 59\, Naperville\, IL\, 60540\, United States
ATTACH;FMTTYPE=image/jpeg:https://www.willcountydemocrats.com/wp-content/uploads/2023/10/Diwali-Celebration-Flyer.jpg
END:VEVENT
BEGIN:VEVENT
DTSTART;TZID=America/Chicago:20231104T130000
DTEND;TZID=America/Chicago:20231104T163000
DTSTAMP:20260423T022156
CREATED:20231018T031100Z
LAST-MODIFIED:20231018T031100Z
UID:1994-1699102800-1699115400@www.willcountydemocrats.com
SUMMARY:IDW Convention: Workshops
DESCRIPTION:
URL:https://www.willcountydemocrats.com/event/idw-convention-workshops/
LOCATION:IBEW Local 701\, Belta Vista Parkway\, Warrenville
ATTACH;FMTTYPE=image/jpeg:https://www.willcountydemocrats.com/wp-content/uploads/2023/10/IDWC-scaled.jpg
END:VEVENT
BEGIN:VEVENT
DTSTART;TZID=America/Chicago:20231102T190000
DTEND;TZID=America/Chicago:20231102T190000
DTSTAMP:20260423T022156
CREATED:20231020T190607Z
LAST-MODIFIED:20231020T190607Z
UID:2016-1698951600-1698951600@www.willcountydemocrats.com
SUMMARY:Frankfort Township Democrats General Meeting
DESCRIPTION:
URL:https://www.willcountydemocrats.com/event/frankfort-township-democrats-general-meeting-2/
LOCATION:El Cortez\, 191st St.\, Mokena\, Il\, 60448
ORGANIZER;CN="Frankfort Township Democrats":MAILTO:frankforttwpdems@gmail.com
END:VEVENT
BEGIN:VEVENT
DTSTART;TZID=America/Chicago:20231102T173000
DTEND;TZID=America/Chicago:20231102T200000
DTSTAMP:20260423T022156
CREATED:20230814T235732Z
LAST-MODIFIED:20230909T035858Z
UID:1827-1698946200-1698955200@www.willcountydemocrats.com
SUMMARY:Lockport Township Democrats 63rd Annual Fall Fundraiser
DESCRIPTION:
URL:https://www.willcountydemocrats.com/event/save-the-date-lockport-township-democrats-annual-fall-fundraiser/
LOCATION:Coom’s Corner\, 1225 E. 9th St.\, Lockport\, IL\, 60441\, United States
ATTACH;FMTTYPE=image/jpeg:https://www.willcountydemocrats.com/wp-content/uploads/2023/08/LTDO-Fun-Flyer.jpg
END:VEVENT
BEGIN:VEVENT
DTSTART;TZID=America/Chicago:20231101T190000
DTEND;TZID=America/Chicago:20231101T203000
DTSTAMP:20260423T022156
CREATED:20231102T034117Z
LAST-MODIFIED:20231102T034117Z
UID:2034-1698865200-1698870600@www.willcountydemocrats.com
SUMMARY:Will County Democratic Central Committee General Meeting
DESCRIPTION:
URL:https://www.willcountydemocrats.com/event/will-county-democratic-central-committee-general-meeting-3/
LOCATION:IBEW Local 176\, 1100 NE Frontage Road\, Joliet\, IL\, 60431\, United States
END:VEVENT
BEGIN:VEVENT
DTSTART;TZID=America/Chicago:20231101T190000
DTEND;TZID=America/Chicago:20231101T203000
DTSTAMP:20260423T022156
CREATED:20230731T141731Z
LAST-MODIFIED:20231107T035432Z
UID:1794-1698865200-1698870600@www.willcountydemocrats.com
SUMMARY:Plainfield Township Democrats General Meeting
DESCRIPTION:
URL:https://www.willcountydemocrats.com/event/plainfield-township-democrats-general-meeting-10/
LOCATION:Cemeno’s\, 1630 Essington Road\, Joliet\, IL\, United States
END:VEVENT
BEGIN:VEVENT
DTSTART;TZID=America/Chicago:20231101T170000
DTEND;TZID=America/Chicago:20231101T200000
DTSTAMP:20260423T022156
CREATED:20231019T215259Z
LAST-MODIFIED:20231019T215259Z
UID:2003-1698858000-1698868800@www.willcountydemocrats.com
SUMMARY:Phil Villaseñor Campaign Kick Off
DESCRIPTION:
URL:https://www.willcountydemocrats.com/event/phil-villasenor-campaign-kick-off/
LOCATION:Juliet’s Tavern\, 205 N. Chicago St.\, Joliet
ATTACH;FMTTYPE=image/jpeg:https://www.willcountydemocrats.com/wp-content/uploads/2023/10/PV-FUN.jpg
END:VEVENT
BEGIN:VEVENT
DTSTART;TZID=America/Chicago:20231027T180000
DTEND;TZID=America/Chicago:20231027T180000
DTSTAMP:20260423T022156
CREATED:20231020T190234Z
LAST-MODIFIED:20231020T190234Z
UID:2010-1698429600-1698429600@www.willcountydemocrats.com
SUMMARY:Democratic Party of Illinois Inaugural Gala
DESCRIPTION:The Democratic Party of Illinois is hosting its inaugural gala on Friday\, October 27\, at the Field Museum in Chicago. Cocktail hour begins at 6:00 PM and dinner will begin at 7:00 PM.
URL:https://www.willcountydemocrats.com/event/democratic-party-of-illinois-inaugural-gala/
LOCATION:The Field Museum\, 1400 S Lake Shore Dr\, Chicago\, IL\, 60605\, United States
ATTACH;FMTTYPE=application/pdf:https://www.willcountydemocrats.com/wp-content/uploads/2023/10/Democratic-Party-of-Illinois-Gala-Flyer.pdf
END:VEVENT
BEGIN:VEVENT
DTSTART;TZID=America/Chicago:20231026T170000
DTEND;TZID=America/Chicago:20231026T190000
DTSTAMP:20260423T022156
CREATED:20230923T221155Z
LAST-MODIFIED:20231006T005253Z
UID:1945-1698339600-1698346800@www.willcountydemocrats.com
SUMMARY:Laurie Summers Fundraiser
DESCRIPTION:
URL:https://www.willcountydemocrats.com/event/save-the-date-laurie-summers-fundraiser/
LOCATION:The Crystal Room\, 203 N Ottawa St\, Joliet\, Il\, 60432
ATTACH;FMTTYPE=image/jpeg:https://www.willcountydemocrats.com/wp-content/uploads/2023/09/LS-FUN.jpg
END:VEVENT
BEGIN:VEVENT
DTSTART;TZID=America/Chicago:20231024T163000
DTEND;TZID=America/Chicago:20231024T190000
DTSTAMP:20260423T022156
CREATED:20231012T035606Z
LAST-MODIFIED:20231013T194124Z
UID:1987-1698165000-1698174000@www.willcountydemocrats.com
SUMMARY:Judge Rolonda Mitchell Campaign Fundraiser
DESCRIPTION:Meet Judge Rolonda Mitchell and celebrate the kickoff of her campaign for Will County Circuit Judge\, 2nd Subcircuit.
URL:https://www.willcountydemocrats.com/event/judge-rolonda-mitchell-campaign-fundraiser/
LOCATION:Renaissance Center\, 214 N. Ottawa Street\, Joilet\, IL\, 60432\, United States
CATEGORIES:Fundraiser
ATTACH;FMTTYPE=image/jpeg:https://www.willcountydemocrats.com/wp-content/uploads/2023/10/Judge-Rolonda-Mitchell-Fundraiser-Flyer.jpg
END:VEVENT
BEGIN:VEVENT
DTSTART;TZID=America/Chicago:20231023T170000
DTEND;TZID=America/Chicago:20231023T190000
DTSTAMP:20260423T022156
CREATED:20230912T024019Z
LAST-MODIFIED:20230912T024019Z
UID:1913-1698080400-1698087600@www.willcountydemocrats.com
SUMMARY:Annual Fall Reception for Jim Glasgow
DESCRIPTION:
URL:https://www.willcountydemocrats.com/event/annual-fall-reception-for-jim-glasgow/
LOCATION:Mistwood Golf Course\, 1700 W Renwick Rd\, Romeoville\, IL\, 60446\, United States
ATTACH;FMTTYPE=image/jpeg:https://www.willcountydemocrats.com/wp-content/uploads/2023/09/JM-FUN-scaled.jpg
END:VEVENT
BEGIN:VEVENT
DTSTART;TZID=America/Chicago:20231021T120000
DTEND;TZID=America/Chicago:20231021T150000
DTSTAMP:20260423T022156
CREATED:20231001T234804Z
LAST-MODIFIED:20231001T234804Z
UID:1961-1697889600-1697900400@www.willcountydemocrats.com
SUMMARY:Meta Mueller Oktoberfest Fundraiser
DESCRIPTION:
URL:https://www.willcountydemocrats.com/event/meta-mueller-oktoberfest-fundraiser/
LOCATION:Lakewood Village Clubhouse\, 2529 Dickens Drive\, Aurora\, Il\, 60503
ATTACH;FMTTYPE=image/jpeg:https://www.willcountydemocrats.com/wp-content/uploads/2023/10/MMO-Fun.jpg
END:VEVENT
BEGIN:VEVENT
DTSTART;TZID=America/Chicago:20231020T153000
DTEND;TZID=America/Chicago:20231020T173000
DTSTAMP:20260423T022156
CREATED:20231019T215828Z
LAST-MODIFIED:20231019T215828Z
UID:2006-1697815800-1697823000@www.willcountydemocrats.com
SUMMARY:Colette Safford: Sip & Sign Petition Event
DESCRIPTION:
URL:https://www.willcountydemocrats.com/event/colette-safford-sip-sign-petition-event/
LOCATION:Richardson’s Bistro\, 81 N Chicago St\, Joliet\, Il
ATTACH;FMTTYPE=image/jpeg:https://www.willcountydemocrats.com/wp-content/uploads/2023/10/CS-PET.jpg
END:VEVENT
BEGIN:VEVENT
DTSTART;TZID=America/Chicago:20231019T180000
DTEND;TZID=America/Chicago:20231019T200000
DTSTAMP:20260423T022156
CREATED:20230930T191723Z
LAST-MODIFIED:20231013T194320Z
UID:1955-1697738400-1697745600@www.willcountydemocrats.com
SUMMARY:Pizza and Petitions Palooza
DESCRIPTION:The New Lenox Township Democratic organization invites you to a Pizza and Petitions Palooza! Sign a petition and have a slice. Food and soft drinks will be served. Bring your friends and family\, this is a great way to meet the elected officials who represent you.
URL:https://www.willcountydemocrats.com/event/pizza-and-petitions-palooza/
LOCATION:Chicago Dough Company\, 1080 E Lincoln Highway\, New Lenox\, IL\, 60451\, United States
ATTACH;FMTTYPE=image/png:https://www.willcountydemocrats.com/wp-content/uploads/2023/09/NLTDO-Petitions-and-Pizza-Flyer-2.png
ORGANIZER;CN="New Lenox Township Democratic Organization":MAILTO:newlenoxdemocrats@gmail.com
END:VEVENT
BEGIN:VEVENT
DTSTART;TZID=America/Chicago:20231018T170000
DTEND;TZID=America/Chicago:20231018T190000
DTSTAMP:20260423T022156
CREATED:20230909T035350Z
LAST-MODIFIED:20230909T035350Z
UID:1907-1697648400-1697655600@www.willcountydemocrats.com
SUMMARY:Re-Elect Karen Stukel for Recorder Fundraiser
DESCRIPTION:
URL:https://www.willcountydemocrats.com/event/re-elect-karen-stukel-for-recorder-fundraiser/
LOCATION:Cemeno’s\, 1630 Essington Road\, Joliet\, IL\, United States
ATTACH;FMTTYPE=image/jpeg:https://www.willcountydemocrats.com/wp-content/uploads/2023/09/Stukel-Fun.jpg
END:VEVENT
BEGIN:VEVENT
DTSTART;TZID=America/Chicago:20231016T180000
DTEND;TZID=America/Chicago:20231016T190000
DTSTAMP:20260423T022156
CREATED:20230731T141959Z
LAST-MODIFIED:20230731T141959Z
UID:1798-1697479200-1697482800@www.willcountydemocrats.com
SUMMARY:Lockport Township Democrats General Meeting
DESCRIPTION:
URL:https://www.willcountydemocrats.com/event/lockport-township-democrats-general-meeting-2/
LOCATION:White Oak Library – Crest Hill\, 20670 City Center Blvd\, Crest HIll\, Il\, 60403
END:VEVENT
BEGIN:VEVENT
DTSTART;TZID=America/Chicago:20231014T100000
DTEND;TZID=America/Chicago:20231014T150000
DTSTAMP:20260423T022156
CREATED:20231001T235217Z
LAST-MODIFIED:20231001T235217Z
UID:1965-1697277600-1697295600@www.willcountydemocrats.com
SUMMARY:Knocktoberfest: Day of Action
DESCRIPTION:
URL:https://www.willcountydemocrats.com/event/knocktoberfest-day-of-action/
LOCATION:1924 Plainfield Rd\, Crest Hill\, IL 60403\, 1924 Plainfield Rd\, Crest Hill\, IL\, 60403\, United States
ATTACH;FMTTYPE=image/jpeg:https://www.willcountydemocrats.com/wp-content/uploads/2023/10/KNOCK.jpg
END:VEVENT
BEGIN:VEVENT
DTSTART;TZID=America/Chicago:20231013T170000
DTEND;TZID=America/Chicago:20231013T200000
DTSTAMP:20260423T022156
CREATED:20230909T033931Z
LAST-MODIFIED:20230909T033931Z
UID:1897-1697216400-1697227200@www.willcountydemocrats.com
SUMMARY:Will County Democratic Central Committee Annual Dinner
DESCRIPTION:
URL:https://www.willcountydemocrats.com/event/will-county-democratic-central-committee-annual-dinner/
LOCATION:IBEW Local 176\, 1100 NE Frontage Road\, Joliet\, IL\, 60431\, United States
ATTACH;FMTTYPE=image/jpeg:https://www.willcountydemocrats.com/wp-content/uploads/2023/09/WCD-AD23.jpg
END:VEVENT
BEGIN:VEVENT
DTSTART;TZID=America/Chicago:20231012T180000
DTEND;TZID=America/Chicago:20231012T200000
DTSTAMP:20260423T022156
CREATED:20230921T164105Z
LAST-MODIFIED:20230921T164105Z
UID:1940-1697133600-1697140800@www.willcountydemocrats.com
SUMMARY:Billy Morgan for State Rep: Campaign Kick Off Fundraiser
DESCRIPTION:
URL:https://www.willcountydemocrats.com/event/billy-morgan-for-state-rep-campaign-kick-off-fundraiser/
LOCATION:Crozehead Cooperage\, 25964 S. Egyptian Trail\, Monee\, Il\, 60449
ATTACH;FMTTYPE=image/jpeg:https://www.willcountydemocrats.com/wp-content/uploads/2023/09/BM-Fun.jpg
END:VEVENT
BEGIN:VEVENT
DTSTART;TZID=America/Chicago:20231007T103000
DTEND;TZID=America/Chicago:20231007T140000
DTSTAMP:20260423T022156
CREATED:20230926T004606Z
LAST-MODIFIED:20230926T004606Z
UID:1947-1696674600-1696687200@www.willcountydemocrats.com
SUMMARY:Rep Avelar + Latinx Caucus Day of Action
DESCRIPTION:Register HERE
URL:https://www.willcountydemocrats.com/event/rep-avelar-latinx-caucus-day-of-action/
LOCATION:1800 Maple Rd.\, 1800 Maple Rd.\, Joliet\, Il
ATTACH;FMTTYPE=image/png:https://www.willcountydemocrats.com/wp-content/uploads/2023/09/Dagmara-Avelar-Latinx-Caucus-Day-of-Action.png
END:VEVENT
BEGIN:VEVENT
DTSTART;TZID=America/Chicago:20231007T100000
DTEND;TZID=America/Chicago:20231007T130000
DTSTAMP:20260423T022156
CREATED:20231006T002717Z
LAST-MODIFIED:20231006T002717Z
UID:1970-1696672800-1696683600@www.willcountydemocrats.com
SUMMARY:Colette Safford: Day of Action
DESCRIPTION:
URL:https://www.willcountydemocrats.com/event/colette-safford-day-of-action/
LOCATION:Dunkin’ Donuts\, 1255 W Boughton Rd\, Bolingbrook\, Il\, 60440
ATTACH;FMTTYPE=image/jpeg:https://www.willcountydemocrats.com/wp-content/uploads/2023/10/CS-CANV.jpg
END:VEVENT
BEGIN:VEVENT
DTSTART;TZID=America/Chicago:20231005T190000
DTEND;TZID=America/Chicago:20231005T200000
DTSTAMP:20260423T022156
CREATED:20230814T235050Z
LAST-MODIFIED:20230817T205340Z
UID:1825-1696532400-1696536000@www.willcountydemocrats.com
SUMMARY:Frankfort Township Democrats General Meeting
DESCRIPTION:
URL:https://www.willcountydemocrats.com/event/frankfort-township-democrats-general-meeting/
LOCATION:Frankfort Public Library\, 21119 S Pfeiffer Rd\, Frankfort\, IL\, 60423\, United States
END:VEVENT
BEGIN:VEVENT
DTSTART;TZID=America/Chicago:20231004T190000
DTEND;TZID=America/Chicago:20231004T203000
DTSTAMP:20260423T022156
CREATED:20230731T141629Z
LAST-MODIFIED:20231004T113605Z
UID:1792-1696446000-1696451400@www.willcountydemocrats.com
SUMMARY:Plainfield Township Democrats General Meeting
DESCRIPTION:
URL:https://www.willcountydemocrats.com/event/plainfield-township-democrats-general-meeting-9/
LOCATION:Cemeno’s\, 1630 Essington Road\, Joliet\, IL\, United States
END:VEVENT
BEGIN:VEVENT
DTSTART;TZID=America/Chicago:20231002T190000
DTEND;TZID=America/Chicago:20231002T210000
DTSTAMP:20260423T022156
CREATED:20231001T235905Z
LAST-MODIFIED:20231001T235905Z
UID:1968-1696273200-1696280400@www.willcountydemocrats.com
SUMMARY:WCDCC October Meeting
DESCRIPTION:
URL:https://www.willcountydemocrats.com/event/wcdcc-october-meeting/
LOCATION:Jacob Henry Mansion\, 15 Richards Street\, Joliet\, 60434\, United States
END:VEVENT
BEGIN:VEVENT
DTSTART;TZID=America/Chicago:20231001T100000
DTEND;TZID=America/Chicago:20231001T120000
DTSTAMP:20260423T022156
CREATED:20230930T190943Z
LAST-MODIFIED:20230930T190943Z
UID:1951-1696154400-1696161600@www.willcountydemocrats.com
SUMMARY:Yes To Voting
DESCRIPTION:The Will County Pride Coalition and the Young Democrats of Will County are hosting a voter registration drive!
URL:https://www.willcountydemocrats.com/event/yes-to-voting/
LOCATION:Black Dog Vinyl Cafe\, 16108 Illinois Rte 5\, Plainfield\, IL\, 60586\, United States
ATTACH;FMTTYPE=image/jpeg:https://www.willcountydemocrats.com/wp-content/uploads/2023/09/Yes-To-Voting-Flyer.jpg
END:VEVENT
BEGIN:VEVENT
DTSTART;TZID=America/Chicago:20230929T183000
DTEND;TZID=America/Chicago:20230929T213000
DTSTAMP:20260423T022156
CREATED:20230828T204928Z
LAST-MODIFIED:20230828T205054Z
UID:1866-1696012200-1696023000@www.willcountydemocrats.com
SUMMARY:Wheatland Township Democrats 'Mother Cluckin' Fundraiser
DESCRIPTION:
URL:https://www.willcountydemocrats.com/event/wheatland-township-democrats-mother-cluckin-fundraiser/
LOCATION:Ashbury’s Clubhouse\, 3403 Lawrence Dr\, Naperville\, Il
ATTACH;FMTTYPE=image/jpeg:https://www.willcountydemocrats.com/wp-content/uploads/2023/08/WT-Fun.jpg
END:VEVENT
END:VCALENDAR