BEGIN:VCALENDAR
VERSION:2.0
PRODID:-//Will County Democratic Party - ECPv6.15.20//NONSGML v1.0//EN
CALSCALE:GREGORIAN
METHOD:PUBLISH
X-WR-CALNAME:Will County Democratic Party
X-ORIGINAL-URL:https://www.willcountydemocrats.com
X-WR-CALDESC:Events for Will County Democratic Party
REFRESH-INTERVAL;VALUE=DURATION:PT1H
X-Robots-Tag:noindex
X-PUBLISHED-TTL:PT1H
BEGIN:VTIMEZONE
TZID:America/Chicago
BEGIN:DAYLIGHT
TZOFFSETFROM:-0600
TZOFFSETTO:-0500
TZNAME:CDT
DTSTART:20220313T080000
END:DAYLIGHT
BEGIN:STANDARD
TZOFFSETFROM:-0500
TZOFFSETTO:-0600
TZNAME:CST
DTSTART:20221106T070000
END:STANDARD
BEGIN:DAYLIGHT
TZOFFSETFROM:-0600
TZOFFSETTO:-0500
TZNAME:CDT
DTSTART:20230312T080000
END:DAYLIGHT
BEGIN:STANDARD
TZOFFSETFROM:-0500
TZOFFSETTO:-0600
TZNAME:CST
DTSTART:20231105T070000
END:STANDARD
BEGIN:DAYLIGHT
TZOFFSETFROM:-0600
TZOFFSETTO:-0500
TZNAME:CDT
DTSTART:20240310T080000
END:DAYLIGHT
BEGIN:STANDARD
TZOFFSETFROM:-0500
TZOFFSETTO:-0600
TZNAME:CST
DTSTART:20241103T070000
END:STANDARD
END:VTIMEZONE
BEGIN:VEVENT
DTSTART;TZID=America/Chicago:20230914T180000
DTEND;TZID=America/Chicago:20230914T220000
DTSTAMP:20260422T082446
CREATED:20230820T221208Z
LAST-MODIFIED:20230820T221208Z
UID:1840-1694714400-1694728800@www.willcountydemocrats.com
SUMMARY:Halfway to St. Patrick's Day with Senator Hastings
DESCRIPTION:Celebrate Halfway to St. Patrick’s Day with Senator Michael E. Hastings at Delilah’s in Orland Hills. Hors d’oeuvres\, pints\, cocktails\, traditional Irish entertainment to include: The Irish School of Music Chicago\, Blackhawk Academy of Irish Dance\, and Shannon Rovers Pipe Band. RSVP to Miya at campaign@hastingsforillinois.com or at 708-870-5514.
URL:https://www.willcountydemocrats.com/event/halfway-to-st-patricks-day-with-senator-hastings/
LOCATION:Delilah’s\, 8888 West 159th Street\, Orland Hills\, IL\, 60487\, United States
ATTACH;FMTTYPE=image/jpeg:https://www.willcountydemocrats.com/wp-content/uploads/2023/08/Senator-Hastings-Flyer.jpg
ORGANIZER;CN="Citizens for Michael E. Hastings":MAILTO:campaign@hastingsforillinois.com
END:VEVENT
BEGIN:VEVENT
DTSTART;TZID=America/Chicago:20230912T170000
DTEND;TZID=America/Chicago:20230912T193000
DTSTAMP:20260422T082446
CREATED:20230815T144717Z
LAST-MODIFIED:20230815T144717Z
UID:1837-1694538000-1694547000@www.willcountydemocrats.com
SUMMARY:Candidate Petition Signature Drive
DESCRIPTION:Join candidate for Appellate Court Judge John Anderson\, Will County Recorder Karen Stukel\, Will County Auditor Duffy Blackburn\, Will County Coroner Laurie Summers\, and Will County Circuit Clerk Andrea Chasteen for an evening of petition signing
URL:https://www.willcountydemocrats.com/event/candidate-petition-signature-drive/
ATTACH;FMTTYPE=image/jpeg:https://www.willcountydemocrats.com/wp-content/uploads/2023/08/JJA-Petitions-scaled.jpg
END:VEVENT
BEGIN:VEVENT
DTSTART;TZID=America/Chicago:20230910T130000
DTEND;TZID=America/Chicago:20230910T150000
DTSTAMP:20260422T082446
CREATED:20230830T003609Z
LAST-MODIFIED:20230830T003609Z
UID:1880-1694350800-1694358000@www.willcountydemocrats.com
SUMMARY:Bolingbrook Parade - March with Rachel Ventura
DESCRIPTION:Line up starts at 1PM. Parade starts at 2PM. \nReach out to mattz@ilsenatedems.org if interested
URL:https://www.willcountydemocrats.com/event/bolingbrook-parade-march-with-rachel-ventura/
END:VEVENT
BEGIN:VEVENT
DTSTART;TZID=America/Chicago:20230910T120000
DTEND;TZID=America/Chicago:20230910T150000
DTSTAMP:20260422T082446
CREATED:20230830T232741Z
LAST-MODIFIED:20230830T232741Z
UID:1885-1694347200-1694358000@www.willcountydemocrats.com
SUMMARY:Friends of Joe Hettel Oktoberfest
DESCRIPTION:A Fundraiser to support Joe’s campaign for the Illinois Appellate Court.
URL:https://www.willcountydemocrats.com/event/friends-of-joe-hettel-oktoberfest/
LOCATION:Pitstick Pavilion\, 3401 IL-23\, Ottawa\, IL\, 61350\, United States
ATTACH;FMTTYPE=image/jpeg:https://www.willcountydemocrats.com/wp-content/uploads/2023/08/Joe-Hettel-Fundraiser.jpg
END:VEVENT
BEGIN:VEVENT
DTSTART;TZID=America/Chicago:20230910T080000
DTEND;TZID=America/Chicago:20230910T150000
DTSTAMP:20260422T082446
CREATED:20230820T221651Z
LAST-MODIFIED:20230820T221651Z
UID:1845-1694332800-1694358000@www.willcountydemocrats.com
SUMMARY:Joliet Airport Festival
DESCRIPTION:Fun for the entire family! Free admission! Free parking! \nPancake Breakfast // 8 –10:00am \nPancakes\, sausage\, coffee\, juice\n$7 adults // $5 kids 10 & under \nClassic Car Show Sponsored by Coachmen Car Club \n$10 entry fee per car (space limited) \nAirplane Rides $40 per person – Cessna 172 \nSee many types of aircraft flying and on the ground! \nFood vendors will be onsite for lunch. \nPlease … NO SMOKING on the ramp or around any aircraft or displays. \nNO PETS except for service animals.
URL:https://www.willcountydemocrats.com/event/joliet-airport-festival/
LOCATION:Joliet Regional Airport\, 4000 W. Jefferson St.\, Joliet\, IL\, 60431\, United States
ATTACH;FMTTYPE=image/jpeg:https://www.willcountydemocrats.com/wp-content/uploads/2023/08/Joliet-Airport-Festival-Flyer.jpg
END:VEVENT
BEGIN:VEVENT
DTSTART;TZID=America/Chicago:20230909T120000
DTEND;TZID=America/Chicago:20230909T160000
DTSTAMP:20260422T082446
CREATED:20230909T034243Z
LAST-MODIFIED:20230909T034243Z
UID:1901-1694260800-1694275200@www.willcountydemocrats.com
SUMMARY:Dupage Township Democratic Organization - Campaign Cook Off Fundraiser
DESCRIPTION:
URL:https://www.willcountydemocrats.com/event/dupage-township-democratic-organization-campaign-cook-off-fundraiser/
LOCATION:Meyer Park\, 267 W Briarcliff Rd\, Bolingbrook\, Il\, 60440
ATTACH;FMTTYPE=image/jpeg:https://www.willcountydemocrats.com/wp-content/uploads/2023/09/DTDO-Cook-off.jpg
END:VEVENT
BEGIN:VEVENT
DTSTART;TZID=America/Chicago:20230909T100000
DTEND;TZID=America/Chicago:20230909T160000
DTSTAMP:20260422T082446
CREATED:20230909T034543Z
LAST-MODIFIED:20230909T034543Z
UID:1905-1694253600-1694275200@www.willcountydemocrats.com
SUMMARY:Petition Kick Off with Representative Dagmara "Dee" Avelar
DESCRIPTION:Reach out to Bri Jackson-Weber for location (email: bjackson0719@gmail.com )
URL:https://www.willcountydemocrats.com/event/petition-kick-off-with-representative-dagmara-dee-avelar/
END:VEVENT
BEGIN:VEVENT
DTSTART;TZID=America/Chicago:20230909T100000
DTEND;TZID=America/Chicago:20230909T140000
DTSTAMP:20260422T082446
CREATED:20230830T003212Z
LAST-MODIFIED:20230830T004021Z
UID:1876-1694253600-1694268000@www.willcountydemocrats.com
SUMMARY:Rachel Ventura Petition Kick Off
DESCRIPTION:
URL:https://www.willcountydemocrats.com/event/rachel-ventura-petition-kick-off/
LOCATION:617 N Raynor Ave\, 617 N Raynor Ave\, Joliet\, Il
ATTACH;FMTTYPE=image/png:https://www.willcountydemocrats.com/wp-content/uploads/2023/08/RC-petitions.png
END:VEVENT
BEGIN:VEVENT
DTSTART;TZID=America/Chicago:20230909T100000
DTEND;TZID=America/Chicago:20230909T140000
DTSTAMP:20260422T082446
CREATED:20230821T160414Z
LAST-MODIFIED:20230830T003414Z
UID:1850-1694253600-1694268000@www.willcountydemocrats.com
SUMMARY:WCDCC Petition Kick Off
DESCRIPTION:
URL:https://www.willcountydemocrats.com/event/petition-kick-off/
LOCATION:328 Republic Avenue\, 328 Republic Avenue\, Joliet\, IL\, 60434\, United States
ATTACH;FMTTYPE=image/jpeg:https://www.willcountydemocrats.com/wp-content/uploads/2023/08/Petition-Kick-Off.jpg
END:VEVENT
BEGIN:VEVENT
DTSTART;TZID=America/Chicago:20230906T190000
DTEND;TZID=America/Chicago:20230906T203000
DTSTAMP:20260422T082446
CREATED:20230731T141534Z
LAST-MODIFIED:20230731T141534Z
UID:1790-1694026800-1694032200@www.willcountydemocrats.com
SUMMARY:Plainfield Township Democrats General Meeting
DESCRIPTION:
URL:https://www.willcountydemocrats.com/event/plainfield-township-democrats-general-meeting-8/
LOCATION:Cemeno’s\, 1630 Essington Road\, Joliet\, IL\, United States
END:VEVENT
BEGIN:VEVENT
DTSTART;TZID=America/Chicago:20230829T130000
DTEND;TZID=America/Chicago:20230829T170000
DTSTAMP:20260422T082446
CREATED:20230815T000810Z
LAST-MODIFIED:20230815T000810Z
UID:1829-1693314000-1693328400@www.willcountydemocrats.com
SUMMARY:Lockport Township Job Fair
DESCRIPTION:
URL:https://www.willcountydemocrats.com/event/lockport-township-job-fair/
LOCATION:Lockport Township Office\, 1463 S Farrell Rd.\, Lockport\, Il\, 60441
ATTACH;FMTTYPE=image/jpeg:https://www.willcountydemocrats.com/wp-content/uploads/2023/08/Lockport-Township-Job-Fair-Job-Seekers.jpg
END:VEVENT
BEGIN:VEVENT
DTSTART;TZID=America/Chicago:20230828T190000
DTEND;TZID=America/Chicago:20230828T200000
DTSTAMP:20260422T082446
CREATED:20230828T204222Z
LAST-MODIFIED:20230828T204222Z
UID:1857-1693249200-1693252800@www.willcountydemocrats.com
SUMMARY:Wheatland Township Democrats General Meeting
DESCRIPTION:
URL:https://www.willcountydemocrats.com/event/wheatland-township-democrats-general-meeting/
LOCATION:95th St Library\, 3015 Cedar Glade Dr\, Naperville\, Il\, 60564
END:VEVENT
BEGIN:VEVENT
DTSTART;TZID=America/Chicago:20230827T090000
DTEND;TZID=America/Chicago:20230827T110000
DTSTAMP:20260422T082446
CREATED:20230825T033854Z
LAST-MODIFIED:20230825T033855Z
UID:1855-1693126800-1693134000@www.willcountydemocrats.com
SUMMARY:IDWOW August General Meeting
DESCRIPTION:The IDWOW August General Meeting will be held via Zoom at 9am on August 27th. \nZoom Link: \nhttps://zoom.us/meeting/register/tJ0kf–vqjkrGNNPi0rxlydQf2IDtLWgn7L8?fbclid=IwAR3C1jRBLPb3f85t8B5pNE7mg7qDAz0PjUf8S4FLTqg_eHxX3eW1y74Y8zQ_aem_AY7vs8vjD2zta8Uw4IXBPC7xKvLYb9vXrWKwu3kZVFDRgRC2z9UOsQ9neI4ihH6hoQQ#/registration
URL:https://www.willcountydemocrats.com/event/idwow-august-general-meeting/
END:VEVENT
BEGIN:VEVENT
DTSTART;TZID=America/Chicago:20230826T150000
DTEND;TZID=America/Chicago:20230826T170000
DTSTAMP:20260422T082446
CREATED:20230810T202714Z
LAST-MODIFIED:20230810T203222Z
UID:1813-1693062000-1693069200@www.willcountydemocrats.com
SUMMARY:2024 Campaign Kick-Off Hosted by State Representative Avelar and the Young Democrats of Will County
DESCRIPTION:Hosted by State Representative Dagmara “Dee” Avelar and the Young Democrats of Will County.
URL:https://www.willcountydemocrats.com/event/2024-campaign-kick-off-hosted-by-state-representative-avelar-and-the-young-democrats-of-will-county/
LOCATION:Giamanco Law Partners\, 107 W. Boughton Road\, Bolingbrook\, IL\, 60440\, United States
CATEGORIES:Fundraiser
ATTACH;FMTTYPE=image/jpeg:https://www.willcountydemocrats.com/wp-content/uploads/2023/08/Image-1.jpg
END:VEVENT
BEGIN:VEVENT
DTSTART;TZID=America/Chicago:20230816T170000
DTEND;TZID=America/Chicago:20230816T213000
DTSTAMP:20260422T082446
CREATED:20230810T204718Z
LAST-MODIFIED:20230810T204718Z
UID:1817-1692205200-1692221400@www.willcountydemocrats.com
SUMMARY:Family Night at the Ballpark with Will County Executive Jennifer Bertino-Tarrant
DESCRIPTION:Join Will County Executive Jennifer Bertino-Tarrant for a fun family night at the ballpark! Meet at MyGrain Brewing Company for drinks and appetizers and then head over to the Joliet Slammers game.
URL:https://www.willcountydemocrats.com/event/family-night-at-the-ballpark-with-will-county-executive-jennifer-bertino-tarrant/
LOCATION:MyGrain Brewing Company\, 50 E. Jefferson St. #106\, Joliet
CATEGORIES:Fundraiser
ATTACH;FMTTYPE=image/jpeg:https://www.willcountydemocrats.com/wp-content/uploads/2023/08/Will-County-Executive-Jennifer-Bertino-Tarrant-Ballpark-Fundraiser.jpg
END:VEVENT
BEGIN:VEVENT
DTSTART;TZID=America/Chicago:20230807T203000
DTEND;TZID=America/Chicago:20230807T210000
DTSTAMP:20260422T082446
CREATED:20230804T194324Z
LAST-MODIFIED:20230814T235941Z
UID:1810-1691440200-1691442000@www.willcountydemocrats.com
SUMMARY:WCDCC Petition Training
DESCRIPTION:
URL:https://www.willcountydemocrats.com/event/wcdcc-petition-training/
LOCATION:IBEW Local 176\, 1100 NE Frontage Road\, Joliet\, IL\, 60431\, United States
ATTACH;FMTTYPE=image/jpeg:https://www.willcountydemocrats.com/wp-content/uploads/2023/07/Power-of-Will-Cover-Photo.jpg
END:VEVENT
BEGIN:VEVENT
DTSTART;TZID=America/Chicago:20230807T190000
DTEND;TZID=America/Chicago:20230807T203000
DTSTAMP:20260422T082446
CREATED:20230731T141125Z
LAST-MODIFIED:20230814T235915Z
UID:1784-1691434800-1691440200@www.willcountydemocrats.com
SUMMARY:Will County Democrats General Meeting
DESCRIPTION:
URL:https://www.willcountydemocrats.com/event/will-county-democrats-general-meeting-2/
LOCATION:IBEW Local 176\, 1100 NE Frontage Road\, Joliet\, IL\, 60431\, United States
ATTACH;FMTTYPE=image/jpeg:https://www.willcountydemocrats.com/wp-content/uploads/2023/07/Power-of-Will-Cover-Photo.jpg
END:VEVENT
BEGIN:VEVENT
DTSTART;TZID=America/Chicago:20230805T120000
DTEND;TZID=America/Chicago:20230805T160000
DTSTAMP:20260422T082446
CREATED:20230802T143744Z
LAST-MODIFIED:20230802T143902Z
UID:1807-1691236800-1691251200@www.willcountydemocrats.com
SUMMARY:Planned Parenthood: Summer Superhero Canvas - Joliet
DESCRIPTION:Sign up HERE \nNot all superheroes wear capes – some carry clipboards! This summer\, Planned Parenthood Illinois Action volunteers will hit the streets across our state to have real\, honest conversations with voters about defending the rights of all Illinoisans. We need all hands on deck to help us keep Illinois a haven for abortion access and gender-affirming care! Join us in Joliet on Saturday\, August 5 from 12-4pm!
URL:https://www.willcountydemocrats.com/event/planned-parenthood-summer-superhero-canvas-joliet/
ATTACH;FMTTYPE=image/png:https://www.willcountydemocrats.com/wp-content/uploads/2023/08/PP.png
END:VEVENT
BEGIN:VEVENT
DTSTART;TZID=America/Chicago:20230802T190000
DTEND;TZID=America/Chicago:20230802T203000
DTSTAMP:20260422T082446
CREATED:20230731T141427Z
LAST-MODIFIED:20230731T141427Z
UID:1787-1691002800-1691008200@www.willcountydemocrats.com
SUMMARY:Plainfield Township Democrats General Meeting
DESCRIPTION:
URL:https://www.willcountydemocrats.com/event/plainfield-township-democrats-general-meeting-7/
LOCATION:Cemeno’s\, 1630 Essington Road\, Joliet\, IL\, United States
END:VEVENT
BEGIN:VEVENT
DTSTART;TZID=America/Chicago:20230729T100000
DTEND;TZID=America/Chicago:20230729T120000
DTSTAMP:20260422T082446
CREATED:20230720T041950Z
LAST-MODIFIED:20230720T041950Z
UID:1778-1690624800-1690632000@www.willcountydemocrats.com
SUMMARY:Visitation & Service for Ruby Lofton
DESCRIPTION:
URL:https://www.willcountydemocrats.com/event/visitation-service-for-ruby-lofton/
LOCATION:Living Water Church\, 190 Lily Cache Ln
ATTACH;FMTTYPE=image/jpeg:https://www.willcountydemocrats.com/wp-content/uploads/2023/07/362237237_823120742359123_1548001906464001487_n.jpg
END:VEVENT
BEGIN:VEVENT
DTSTART;TZID=America/Chicago:20230728T160000
DTEND;TZID=America/Chicago:20230728T200000
DTSTAMP:20260422T082446
CREATED:20230720T041440Z
LAST-MODIFIED:20230720T041554Z
UID:1771-1690560000-1690574400@www.willcountydemocrats.com
SUMMARY:Wake for Ruby Lofton
DESCRIPTION:
URL:https://www.willcountydemocrats.com/event/wake-for-ruby-lofton/
LOCATION:McCauley Sullivan Funeral Home\, 530 W Boughton Rd.\, Bolingbrook\, Il\, 60446
ATTACH;FMTTYPE=image/jpeg:https://www.willcountydemocrats.com/wp-content/uploads/2023/07/362237237_823120742359123_1548001906464001487_n.jpg
END:VEVENT
BEGIN:VEVENT
DTSTART;TZID=America/Chicago:20230710T080000
DTEND;TZID=America/Chicago:20230710T170000
DTSTAMP:20260422T082446
CREATED:20230509T201057Z
LAST-MODIFIED:20230509T201057Z
UID:1697-1688976000-1689008400@www.willcountydemocrats.com
SUMMARY:Will & Grundy Counties Building Trades - Dollars Against Diabetes Golf Outing
DESCRIPTION:
URL:https://www.willcountydemocrats.com/event/will-grundy-counties-building-trades-dollars-against-diabetes-golf-outing/
ATTACH;FMTTYPE=application/pdf:https://www.willcountydemocrats.com/wp-content/uploads/2023/05/DAD-FUN.pdf
END:VEVENT
BEGIN:VEVENT
DTSTART;TZID=America/Chicago:20230623T170000
DTEND;TZID=America/Chicago:20230623T190000
DTSTAMP:20260422T082446
CREATED:20230608T203605Z
LAST-MODIFIED:20230608T203605Z
UID:1743-1687539600-1687546800@www.willcountydemocrats.com
SUMMARY:Will County Democratic Black Caucus: 3rd Annual Juneteenth Celebration
DESCRIPTION:
URL:https://www.willcountydemocrats.com/event/will-county-democratic-black-caucus-3rd-annual-juneteenth-celebration/
LOCATION:Coom’s Corner\, 1225 E. 9th St.\, Lockport\, IL\, 60441\, United States
ATTACH;FMTTYPE=image/jpeg:https://www.willcountydemocrats.com/wp-content/uploads/2023/06/Juneteenth.jpg
END:VEVENT
BEGIN:VEVENT
DTSTART;TZID=America/Chicago:20230622T170000
DTEND;TZID=America/Chicago:20230622T190000
DTSTAMP:20260422T082446
CREATED:20230601T204642Z
LAST-MODIFIED:20230601T204642Z
UID:1737-1687453200-1687460400@www.willcountydemocrats.com
SUMMARY:Fundraiser for Leader Manley and Senator Loughran Cappel
DESCRIPTION:
URL:https://www.willcountydemocrats.com/event/fundraiser-for-leader-manley-and-senator-loughran-cappel/
ATTACH;FMTTYPE=image/jpeg:https://www.willcountydemocrats.com/wp-content/uploads/2023/06/MC-NM-FUN.jpg
END:VEVENT
BEGIN:VEVENT
DTSTART;TZID=America/Chicago:20230620T114500
DTEND;TZID=America/Chicago:20230620T123000
DTSTAMP:20260422T082446
CREATED:20230615T001004Z
LAST-MODIFIED:20230615T001004Z
UID:1747-1687261500-1687264200@www.willcountydemocrats.com
SUMMARY:Meet & Greet with Chairwoman Lisa Hernandez
DESCRIPTION:Register HERE
URL:https://www.willcountydemocrats.com/event/meet-greet-with-chairwoman-lisa-hernandez/
LOCATION:95th St Library\, 3015 Cedar Glade Dr\, Naperville\, Il\, 60564
END:VEVENT
BEGIN:VEVENT
DTSTART;TZID=America/Chicago:20230608T170000
DTEND;TZID=America/Chicago:20230608T200000
DTSTAMP:20260422T082446
CREATED:20230510T223108Z
LAST-MODIFIED:20230510T223108Z
UID:1708-1686243600-1686254400@www.willcountydemocrats.com
SUMMARY:Will County Young Democrats: Youth Empowerment Dinner & Awards
DESCRIPTION:
URL:https://www.willcountydemocrats.com/event/will-county-young-democrats-youth-empowerment-dinner-awards/
ATTACH;FMTTYPE=image/jpeg:https://www.willcountydemocrats.com/wp-content/uploads/2023/05/WCYD-Dinner.jpg
END:VEVENT
BEGIN:VEVENT
DTSTART;TZID=America/Chicago:20230607T190000
DTEND;TZID=America/Chicago:20230607T203000
DTSTAMP:20260422T082446
CREATED:20221220T040604Z
LAST-MODIFIED:20221220T040604Z
UID:1615-1686164400-1686169800@www.willcountydemocrats.com
SUMMARY:Plainfield Township Democrats General Meeting
DESCRIPTION:
URL:https://www.willcountydemocrats.com/event/plainfield-township-democrats-general-meeting-6/
LOCATION:Cemeno’s\, 1630 Essington Road\, Joliet\, IL\, United States
END:VEVENT
BEGIN:VEVENT
DTSTART;TZID=America/Chicago:20230606T180000
DTEND;TZID=America/Chicago:20230606T200000
DTSTAMP:20260422T082446
CREATED:20230510T222816Z
LAST-MODIFIED:20230510T222816Z
UID:1705-1686074400-1686081600@www.willcountydemocrats.com
SUMMARY:IDWOW: Friends & Fun'raiser
DESCRIPTION:
URL:https://www.willcountydemocrats.com/event/idwow-friends-funraiser/
LOCATION:Giamanco Law Partners\, 107 W. Boughton Road\, Bolingbrook\, IL\, 60440\, United States
ATTACH;FMTTYPE=image/jpeg:https://www.willcountydemocrats.com/wp-content/uploads/2023/05/IDWOW-FUN.jpg
END:VEVENT
BEGIN:VEVENT
DTSTART;TZID=America/Chicago:20230606T073000
DTEND;TZID=America/Chicago:20230606T170000
DTSTAMP:20260422T082446
CREATED:20230509T201537Z
LAST-MODIFIED:20230509T201616Z
UID:1700-1686036600-1686070800@www.willcountydemocrats.com
SUMMARY:Chicago & Western Lakes Port Council: Labor Leader of the Year Award - Golf Outing
DESCRIPTION:
URL:https://www.willcountydemocrats.com/event/chicago-western-lakes-port-council-labor-leader-of-the-year-award/
LOCATION:Harborside International Golf Center\, 11001 S Doty Ave East\, Chicago\, IL\, 60628\, United States
ATTACH;FMTTYPE=application/pdf:https://www.willcountydemocrats.com/wp-content/uploads/2023/05/LLOY-FUN.pdf
END:VEVENT
BEGIN:VEVENT
DTSTART;TZID=America/Chicago:20230605T190000
DTEND;TZID=America/Chicago:20230605T203000
DTSTAMP:20260422T082446
CREATED:20230604T231403Z
LAST-MODIFIED:20230604T231403Z
UID:1740-1685991600-1685997000@www.willcountydemocrats.com
SUMMARY:Will County Democrats General Meeting
DESCRIPTION:
URL:https://www.willcountydemocrats.com/event/will-county-democrats-general-meeting/
LOCATION:Ashbury’s\, 335 E Boughton Rd\, Bolingbrook\, Il\, 60440
END:VEVENT
END:VCALENDAR