BEGIN:VCALENDAR
VERSION:2.0
PRODID:-//Will County Democratic Party - ECPv6.15.20//NONSGML v1.0//EN
CALSCALE:GREGORIAN
METHOD:PUBLISH
X-WR-CALNAME:Will County Democratic Party
X-ORIGINAL-URL:https://www.willcountydemocrats.com
X-WR-CALDESC:Events for Will County Democratic Party
REFRESH-INTERVAL;VALUE=DURATION:PT1H
X-Robots-Tag:noindex
X-PUBLISHED-TTL:PT1H
BEGIN:VTIMEZONE
TZID:America/Chicago
BEGIN:DAYLIGHT
TZOFFSETFROM:-0600
TZOFFSETTO:-0500
TZNAME:CDT
DTSTART:20240310T080000
END:DAYLIGHT
BEGIN:STANDARD
TZOFFSETFROM:-0500
TZOFFSETTO:-0600
TZNAME:CST
DTSTART:20241103T070000
END:STANDARD
BEGIN:DAYLIGHT
TZOFFSETFROM:-0600
TZOFFSETTO:-0500
TZNAME:CDT
DTSTART:20250309T080000
END:DAYLIGHT
BEGIN:STANDARD
TZOFFSETFROM:-0500
TZOFFSETTO:-0600
TZNAME:CST
DTSTART:20251102T070000
END:STANDARD
BEGIN:DAYLIGHT
TZOFFSETFROM:-0600
TZOFFSETTO:-0500
TZNAME:CDT
DTSTART:20260308T080000
END:DAYLIGHT
BEGIN:STANDARD
TZOFFSETFROM:-0500
TZOFFSETTO:-0600
TZNAME:CST
DTSTART:20261101T070000
END:STANDARD
END:VTIMEZONE
BEGIN:VEVENT
DTSTART;TZID=America/Chicago:20250307T170000
DTEND;TZID=America/Chicago:20250307T200000
DTSTAMP:20260422T165650
CREATED:20250221T222742Z
LAST-MODIFIED:20250221T222742Z
UID:3708-1741366800-1741377600@www.willcountydemocrats.com
SUMMARY:Lorraine Guerrero Neumayer Birthday Fundraiser
DESCRIPTION:
URL:https://www.willcountydemocrats.com/event/lorraine-guerrero-neumayer-birthday-fundraiser/
LOCATION:310 N. Ottawa St.\, 310 N Ottawa St\, Joliet\, IL\, 60432\, United States
ATTACH;FMTTYPE=image/jpeg:https://www.willcountydemocrats.com/wp-content/uploads/2025/02/Image-1-3.jpg
END:VEVENT
BEGIN:VEVENT
DTSTART;TZID=America/Chicago:20250312T170000
DTEND;TZID=America/Chicago:20250312T193000
DTSTAMP:20260422T165650
CREATED:20250227T040958Z
LAST-MODIFIED:20250227T040958Z
UID:3716-1741798800-1741807800@www.willcountydemocrats.com
SUMMARY:Will County Board Democratic Caucus Annual Corned Beef Fundraiser
DESCRIPTION:
URL:https://www.willcountydemocrats.com/event/will-county-board-democratic-caucus-annual-corned-beef-fundraiser/
LOCATION:Jacob Henry Mansion\, 15 Richards Street\, Joliet\, 60434\, United States
ATTACH;FMTTYPE=image/jpeg:https://www.willcountydemocrats.com/wp-content/uploads/2025/02/WCB-FUN.jpeg
END:VEVENT
BEGIN:VEVENT
DTSTART;TZID=America/Chicago:20250313T173000
DTEND;TZID=America/Chicago:20250313T200000
DTSTAMP:20260422T165650
CREATED:20250227T041853Z
LAST-MODIFIED:20250311T204252Z
UID:3726-1741887000-1741896000@www.willcountydemocrats.com
SUMMARY:Lockport Township Democrats Re-Election Fundraiser
DESCRIPTION:Tickets Here: https://secure.actblue.com/donate/reelectlockport
URL:https://www.willcountydemocrats.com/event/lockport-township-democrats-re-election-fundraiser/
LOCATION:Coom’s Corner\, 1225 E. 9th St.\, Lockport\, IL\, 60441\, United States
ATTACH;FMTTYPE=image/png:https://www.willcountydemocrats.com/wp-content/uploads/2025/02/Reelection-Fundraiser-Flyer-1.png
END:VEVENT
BEGIN:VEVENT
DTSTART;TZID=America/Chicago:20250315T120000
DTEND;TZID=America/Chicago:20250315T150000
DTSTAMP:20260422T165650
CREATED:20250211T050907Z
LAST-MODIFIED:20250211T050907Z
UID:3693-1742040000-1742050800@www.willcountydemocrats.com
SUMMARY:New Lenox Township Democratic Organization Day of Action
DESCRIPTION:
URL:https://www.willcountydemocrats.com/event/new-lenox-township-democratic-organization-day-of-action-2/
LOCATION:Wildwood Park\, 605 W Joliet Hwy\, New Lenox\, IL\, 60451\, United States
ATTACH;FMTTYPE=image/png:https://www.willcountydemocrats.com/wp-content/uploads/2025/02/IMG_4168-e1739250503666.png
END:VEVENT
BEGIN:VEVENT
DTSTART;TZID=America/Chicago:20250315T120000
DTEND;TZID=America/Chicago:20250315T150000
DTSTAMP:20260422T165650
CREATED:20250311T021426Z
LAST-MODIFIED:20250311T181103Z
UID:3736-1742040000-1742050800@www.willcountydemocrats.com
SUMMARY:Lockport Township Democrats Day of Action
DESCRIPTION:
URL:https://www.willcountydemocrats.com/event/lockport-township-democrats-day-of-action/
LOCATION:1924 Plainfield Rd\, Crest Hill\, IL 60403\, 1924 Plainfield Rd\, Crest Hill\, IL\, 60403\, United States
ATTACH;FMTTYPE=image/jpeg:https://www.willcountydemocrats.com/wp-content/uploads/2025/03/LOCK-DOA-MC.jpg
END:VEVENT
BEGIN:VEVENT
DTSTART;TZID=America/Chicago:20250317T180000
DTEND;TZID=America/Chicago:20250317T190000
DTSTAMP:20260422T165650
CREATED:20250307T232232Z
LAST-MODIFIED:20250307T232232Z
UID:3734-1742234400-1742238000@www.willcountydemocrats.com
SUMMARY:Lockport Democrats March Meeting
DESCRIPTION:
URL:https://www.willcountydemocrats.com/event/lockport-democrats-march-meeting/
LOCATION:White Oak Library – Crest Hill\, 20670 City Center Blvd\, Crest HIll\, Il\, 60403
END:VEVENT
BEGIN:VEVENT
DTSTART;TZID=America/Chicago:20250322T100000
DTEND;TZID=America/Chicago:20250322T130000
DTSTAMP:20260422T165650
CREATED:20250311T021516Z
LAST-MODIFIED:20250318T041833Z
UID:3738-1742637600-1742648400@www.willcountydemocrats.com
SUMMARY:Lockport Township Democrats Day of Action
DESCRIPTION:
URL:https://www.willcountydemocrats.com/event/lockport-township-democrats-day-of-action-2/
LOCATION:1924 Plainfield Rd\, Crest Hill\, IL 60403\, 1924 Plainfield Rd\, Crest Hill\, IL\, 60403\, United States
ATTACH;FMTTYPE=image/png:https://www.willcountydemocrats.com/wp-content/uploads/2025/03/DOA-Avelar.png
END:VEVENT
BEGIN:VEVENT
DTSTART;TZID=America/Chicago:20250402T190000
DTEND;TZID=America/Chicago:20250402T190000
DTSTAMP:20260422T165650
CREATED:20241210T231454Z
LAST-MODIFIED:20241210T231454Z
UID:3599-1743620400-1743620400@www.willcountydemocrats.com
SUMMARY:Plainfield Township Democrats Meeting
DESCRIPTION:
URL:https://www.willcountydemocrats.com/event/plainfield-township-democrats-meeting-14/
LOCATION:Cemeno’s\, 1630 Essington Road\, Joliet\, IL\, United States
END:VEVENT
BEGIN:VEVENT
DTSTART;TZID=America/Chicago:20250415T170000
DTEND;TZID=America/Chicago:20250415T190000
DTSTAMP:20260422T165650
CREATED:20250227T040621Z
LAST-MODIFIED:20250227T040845Z
UID:3713-1744736400-1744743600@www.willcountydemocrats.com
SUMMARY:Happy Spring - A Fundraiser for Senator Meg Cappel
DESCRIPTION:
URL:https://www.willcountydemocrats.com/event/happy-spring-a-fundraiser-for-senator-meg-cappel/
LOCATION:Warehouse 109\, 14903 S Center St #109\, Plainfield\, Illinois\, 60544
ATTACH;FMTTYPE=image/jpeg:https://www.willcountydemocrats.com/wp-content/uploads/2025/02/CAP-FUN.jpg
END:VEVENT
BEGIN:VEVENT
DTSTART;VALUE=DATE:20250419
DTEND;VALUE=DATE:20250420
DTSTAMP:20260422T165650
CREATED:20250409T200930Z
LAST-MODIFIED:20250409T200930Z
UID:3763-1745020800-1745107199@www.willcountydemocrats.com
SUMMARY:Fifty State Nationwide Protest
DESCRIPTION:
URL:https://www.willcountydemocrats.com/event/fifty-state-nationwide-protest/
LOCATION:100 Jefferson St.\, 100 Jefferson St.\, Joliet\, Il\, 60432
ATTACH;FMTTYPE=image/jpeg:https://www.willcountydemocrats.com/wp-content/uploads/2025/04/5051.jpg
END:VEVENT
BEGIN:VEVENT
DTSTART;TZID=America/Chicago:20250421T180000
DTEND;TZID=America/Chicago:20250421T190000
DTSTAMP:20260422T165650
CREATED:20250417T233958Z
LAST-MODIFIED:20250417T233958Z
UID:3775-1745258400-1745262000@www.willcountydemocrats.com
SUMMARY:Lockport Township Democrats General Meeting
DESCRIPTION:
URL:https://www.willcountydemocrats.com/event/lockport-township-democrats-general-meeting-3/
LOCATION:Prairie Bluff\, 19433 Renwich Rd\, Crest Hill\, Il\, 60403
END:VEVENT
BEGIN:VEVENT
DTSTART;TZID=America/Chicago:20250421T190000
DTEND;TZID=America/Chicago:20250421T200000
DTSTAMP:20260422T165650
CREATED:20250421T165013Z
LAST-MODIFIED:20250421T165013Z
UID:3795-1745262000-1745265600@www.willcountydemocrats.com
SUMMARY:Monee Township Democrats Meeting
DESCRIPTION:
URL:https://www.willcountydemocrats.com/event/monee-township-democrats-meeting/
LOCATION:Village Inn Bar & Grill\, 5355 W. Main Street\, Monee\, Il\, 60449
END:VEVENT
BEGIN:VEVENT
DTSTART;TZID=America/Chicago:20250421T190000
DTEND;TZID=America/Chicago:20250421T200000
DTSTAMP:20260422T165650
CREATED:20250428T164414Z
LAST-MODIFIED:20250421T164755Z
UID:3782-1745262000-1745265600@www.willcountydemocrats.com
SUMMARY:Wheatland Township Democrats Meeting
DESCRIPTION:
URL:https://www.willcountydemocrats.com/event/wheatland-township-democrats-meeting/
LOCATION:Ashbury’s Clubhouse\, 3403 Lawrence Dr\, Naperville\, Il
END:VEVENT
BEGIN:VEVENT
DTSTART;TZID=America/Chicago:20250421T190000
DTEND;TZID=America/Chicago:20250421T210000
DTSTAMP:20260422T165650
CREATED:20250425T180122Z
LAST-MODIFIED:20250425T180122Z
UID:3817-1745262000-1745269200@www.willcountydemocrats.com
SUMMARY:Dupage Township Democrats Meeting
DESCRIPTION:
URL:https://www.willcountydemocrats.com/event/dupage-township-democrats-meeting/
LOCATION:Fountaindale Library\, 300 W Briarcliff Rd\, Bolingbrook\, Il\, 60440
END:VEVENT
BEGIN:VEVENT
DTSTART;TZID=America/Chicago:20250422T170000
DTEND;TZID=America/Chicago:20250422T190000
DTSTAMP:20260422T165650
CREATED:20250227T041220Z
LAST-MODIFIED:20250227T041220Z
UID:3719-1745341200-1745348400@www.willcountydemocrats.com
SUMMARY:Jennifer Bertino-Tarrant Annual Spring Event
DESCRIPTION:
URL:https://www.willcountydemocrats.com/event/jennifer-bertino-tarrant-annual-spring-event/
LOCATION:Cemeno’s\, 1630 Essington Road\, Joliet\, IL\, United States
ATTACH;FMTTYPE=image/jpeg:https://www.willcountydemocrats.com/wp-content/uploads/2025/02/JBT-SP-FUN.jpg
END:VEVENT
BEGIN:VEVENT
DTSTART;TZID=America/Chicago:20250424T170000
DTEND;TZID=America/Chicago:20250424T190000
DTSTAMP:20260422T165650
CREATED:20250227T041446Z
LAST-MODIFIED:20250227T041446Z
UID:3722-1745514000-1745521200@www.willcountydemocrats.com
SUMMARY:Joe VanDuyne NFL Draft Fundraiser
DESCRIPTION:
URL:https://www.willcountydemocrats.com/event/joe-vanduyne-nfl-draft-fundraiser/
LOCATION:Natabrata’s Cafe\, 24457 West Eames St.\, Channahon\, Il\, 60410
ATTACH;FMTTYPE=image/jpeg:https://www.willcountydemocrats.com/wp-content/uploads/2025/02/JVD-NFL.jpg
END:VEVENT
BEGIN:VEVENT
DTSTART;TZID=America/Chicago:20250424T180000
DTEND;TZID=America/Chicago:20250424T200000
DTSTAMP:20260422T165650
CREATED:20250403T204104Z
LAST-MODIFIED:20250403T204104Z
UID:3753-1745517600-1745524800@www.willcountydemocrats.com
SUMMARY:IDWOW Fundraiser
DESCRIPTION:
URL:https://www.willcountydemocrats.com/event/idwow-fundraiser/
LOCATION:Giamanco Law Partners\, 107 W. Boughton Road\, Bolingbrook\, IL\, 60440\, United States
ATTACH;FMTTYPE=image/jpeg:https://www.willcountydemocrats.com/wp-content/uploads/2025/04/IDWOW-EV.jpeg
END:VEVENT
BEGIN:VEVENT
DTSTART;TZID=America/Chicago:20250424T180000
DTEND;TZID=America/Chicago:20250424T203000
DTSTAMP:20260422T165650
CREATED:20250414T201224Z
LAST-MODIFIED:20250414T201444Z
UID:3770-1745517600-1745526600@www.willcountydemocrats.com
SUMMARY:Meet & Greet Patrick Jones for Will County Sheriff
DESCRIPTION:Tickets HERE
URL:https://www.willcountydemocrats.com/event/meet-greet-patrick-jones-for-will-county-sheriff/
LOCATION:American Legion Post 1977\, 14414 Ford Dr\, New Lenox\, Il\, 60451
ATTACH;FMTTYPE=image/jpeg:https://www.willcountydemocrats.com/wp-content/uploads/2025/04/PJ-FUN.jpg
END:VEVENT
BEGIN:VEVENT
DTSTART;TZID=America/Chicago:20250425T180000
DTEND;TZID=America/Chicago:20250425T210000
DTSTAMP:20260422T165650
CREATED:20250407T212545Z
LAST-MODIFIED:20250407T212655Z
UID:3756-1745604000-1745614800@www.willcountydemocrats.com
SUMMARY:Will-Grundy Counties Central Trades and Labor Council 45th Annual Dinner
DESCRIPTION:Buy tickets HERE
URL:https://www.willcountydemocrats.com/event/will-grundy-counties-central-trades-and-labor-council-45th-annual-dinner/
LOCATION:IBEW Local 176\, 1100 NE Frontage Road\, Joliet\, IL\, 60431\, United States
END:VEVENT
BEGIN:VEVENT
DTSTART;TZID=America/Chicago:20250426T173000
DTEND;TZID=America/Chicago:20250426T200000
DTSTAMP:20260422T165650
CREATED:20250421T162814Z
LAST-MODIFIED:20250421T162814Z
UID:3779-1745688600-1745697600@www.willcountydemocrats.com
SUMMARY:Fundraiser to Support Lauren Underwood
DESCRIPTION:Tickets HERE
URL:https://www.willcountydemocrats.com/event/fundraiser-to-support-lauren-underwood/
ATTACH;FMTTYPE=image/jpeg:https://www.willcountydemocrats.com/wp-content/uploads/2025/04/LU-FUN.jpg
END:VEVENT
BEGIN:VEVENT
DTSTART;TZID=America/Chicago:20250502T080000
DTEND;TZID=America/Chicago:20250502T180000
DTSTAMP:20260422T165650
CREATED:20250409T200153Z
LAST-MODIFIED:20250409T200327Z
UID:3759-1746172800-1746208800@www.willcountydemocrats.com
SUMMARY:NTLDO's 3rd Annual Golf Outing
DESCRIPTION:Tickets HERE
URL:https://www.willcountydemocrats.com/event/ntldos-3rd-annual-golf-outing/
LOCATION:Sanctuary Golf Course\, 485 Marley Rd\, New Lenox\, Il\, 60451
ATTACH;FMTTYPE=image/png:https://www.willcountydemocrats.com/wp-content/uploads/2025/04/NTLDO-GOLF.png
END:VEVENT
BEGIN:VEVENT
DTSTART;TZID=America/Chicago:20250507T190000
DTEND;TZID=America/Chicago:20250507T190000
DTSTAMP:20260422T165650
CREATED:20241210T231518Z
LAST-MODIFIED:20241210T231518Z
UID:3601-1746644400-1746644400@www.willcountydemocrats.com
SUMMARY:Plainfield Township Democrats Meeting
DESCRIPTION:
URL:https://www.willcountydemocrats.com/event/plainfield-township-democrats-meeting-15/
LOCATION:Cemeno’s\, 1630 Essington Road\, Joliet\, IL\, United States
END:VEVENT
BEGIN:VEVENT
DTSTART;TZID=America/Chicago:20250510T100000
DTEND;TZID=America/Chicago:20250510T120000
DTSTAMP:20260422T165650
CREATED:20250503T161532Z
LAST-MODIFIED:20250503T161532Z
UID:3843-1746871200-1746878400@www.willcountydemocrats.com
SUMMARY:Will County Young Democrats Unity Breakfast
DESCRIPTION:
URL:https://www.willcountydemocrats.com/event/will-county-young-democrats-unity-breakfast/
LOCATION:310 N. Ottawa St.\, 310 N Ottawa St\, Joliet\, IL\, 60432\, United States
ATTACH;FMTTYPE=image/jpeg:https://www.willcountydemocrats.com/wp-content/uploads/2025/05/IMG_2925.jpeg
END:VEVENT
BEGIN:VEVENT
DTSTART;TZID=America/Chicago:20250513T180000
DTEND;TZID=America/Chicago:20250513T190000
DTSTAMP:20260422T165650
CREATED:20250507T001430Z
LAST-MODIFIED:20250507T001430Z
UID:3846-1747159200-1747162800@www.willcountydemocrats.com
SUMMARY:Joliet Township Swearing In
DESCRIPTION:
URL:https://www.willcountydemocrats.com/event/joliet-township-swearing-in/
LOCATION:Bicentennial Park\, South Parking Lot; 30 N Bluff St\,\, Joliet\, 60435
END:VEVENT
BEGIN:VEVENT
DTSTART;TZID=America/Chicago:20250514T183000
DTEND;TZID=America/Chicago:20250514T193000
DTSTAMP:20260422T165650
CREATED:20250427T233426Z
LAST-MODIFIED:20250427T234900Z
UID:3827-1747247400-1747251000@www.willcountydemocrats.com
SUMMARY:DuPage Township Swearing In
DESCRIPTION:Greeting: 5:30-6:30PM \nSwearing-In: 6:30PM
URL:https://www.willcountydemocrats.com/event/dupage-township-swearing-in/
LOCATION:Joseph and Sarah Levy Senior Center\, 251 Canterbury Lane\, Bolingbrook\, Il\, 60440
ATTACH;FMTTYPE=image/png:https://www.willcountydemocrats.com/wp-content/uploads/2025/04/DT-SIN.png
END:VEVENT
BEGIN:VEVENT
DTSTART;TZID=America/Chicago:20250517T110000
DTEND;TZID=America/Chicago:20250517T150000
DTSTAMP:20260422T165650
CREATED:20250501T224719Z
LAST-MODIFIED:20250501T224719Z
UID:3840-1747479600-1747494000@www.willcountydemocrats.com
SUMMARY:Democrats of Eastern Will BBQ
DESCRIPTION:
URL:https://www.willcountydemocrats.com/event/democrats-of-eastern-will-bbq/
LOCATION:Monee Reservoir\, 27341 South Ridgeland Ave\, Monee\, IL\, 60449\, United States
ATTACH;FMTTYPE=image/jpeg:https://www.willcountydemocrats.com/wp-content/uploads/2025/05/MT-FUN.jpeg
END:VEVENT
BEGIN:VEVENT
DTSTART;TZID=America/Chicago:20250519T180000
DTEND;TZID=America/Chicago:20250519T190000
DTSTAMP:20260422T165650
CREATED:20250427T233821Z
LAST-MODIFIED:20250519T160640Z
UID:3830-1747677600-1747681200@www.willcountydemocrats.com
SUMMARY:Plainfield Township Swearing In
DESCRIPTION:
URL:https://www.willcountydemocrats.com/event/plainfield-township-swearing-in/
LOCATION:Plainfield Township Office\, 22525 W Lockport St\, Plainfield\, Il\, 60544
ATTACH;FMTTYPE=image/jpeg:https://www.willcountydemocrats.com/wp-content/uploads/2025/04/PT-SI.jpeg
END:VEVENT
BEGIN:VEVENT
DTSTART;TZID=America/Chicago:20250519T180000
DTEND;TZID=America/Chicago:20250519T190000
DTSTAMP:20260422T165650
CREATED:20250427T233911Z
LAST-MODIFIED:20250427T234156Z
UID:3833-1747677600-1747681200@www.willcountydemocrats.com
SUMMARY:Lockport Township Swearing In
DESCRIPTION:
URL:https://www.willcountydemocrats.com/event/lockport-township-swearing-in/
LOCATION:Lockport Township Office\, 1463 S Farrell Rd.\, Lockport\, Il\, 60441
ATTACH;FMTTYPE=image/jpeg:https://www.willcountydemocrats.com/wp-content/uploads/2025/04/LT-SIN.jpeg
END:VEVENT
BEGIN:VEVENT
DTSTART;TZID=America/Chicago:20250519T190000
DTEND;TZID=America/Chicago:20250519T210000
DTSTAMP:20260422T165650
CREATED:20250425T180248Z
LAST-MODIFIED:20250425T180248Z
UID:3821-1747681200-1747688400@www.willcountydemocrats.com
SUMMARY:Dupage Township Democrats
DESCRIPTION:
URL:https://www.willcountydemocrats.com/event/dupage-township-democrats/
END:VEVENT
BEGIN:VEVENT
DTSTART;TZID=America/Chicago:20250521T180000
DTEND;TZID=America/Chicago:20250521T190000
DTSTAMP:20260422T165650
CREATED:20250501T193141Z
LAST-MODIFIED:20250501T193141Z
UID:3838-1747850400-1747854000@www.willcountydemocrats.com
SUMMARY:Joliet Township Democrats Meeting
DESCRIPTION:
URL:https://www.willcountydemocrats.com/event/joliet-township-democrats-meeting/
LOCATION:IBEW Local 176\, 1100 NE Frontage Road\, Joliet\, IL\, 60431\, United States
END:VEVENT
END:VCALENDAR