BEGIN:VCALENDAR
VERSION:2.0
PRODID:-//Will County Democratic Party - ECPv6.15.20//NONSGML v1.0//EN
CALSCALE:GREGORIAN
METHOD:PUBLISH
X-WR-CALNAME:Will County Democratic Party
X-ORIGINAL-URL:https://www.willcountydemocrats.com
X-WR-CALDESC:Events for Will County Democratic Party
REFRESH-INTERVAL;VALUE=DURATION:PT1H
X-Robots-Tag:noindex
X-PUBLISHED-TTL:PT1H
BEGIN:VTIMEZONE
TZID:America/Chicago
BEGIN:DAYLIGHT
TZOFFSETFROM:-0600
TZOFFSETTO:-0500
TZNAME:CDT
DTSTART:20210314T080000
END:DAYLIGHT
BEGIN:STANDARD
TZOFFSETFROM:-0500
TZOFFSETTO:-0600
TZNAME:CST
DTSTART:20211107T070000
END:STANDARD
BEGIN:DAYLIGHT
TZOFFSETFROM:-0600
TZOFFSETTO:-0500
TZNAME:CDT
DTSTART:20220313T080000
END:DAYLIGHT
BEGIN:STANDARD
TZOFFSETFROM:-0500
TZOFFSETTO:-0600
TZNAME:CST
DTSTART:20221106T070000
END:STANDARD
BEGIN:DAYLIGHT
TZOFFSETFROM:-0600
TZOFFSETTO:-0500
TZNAME:CDT
DTSTART:20230312T080000
END:DAYLIGHT
BEGIN:STANDARD
TZOFFSETFROM:-0500
TZOFFSETTO:-0600
TZNAME:CST
DTSTART:20231105T070000
END:STANDARD
END:VTIMEZONE
BEGIN:VEVENT
DTSTART;TZID=America/Chicago:20221108T060000
DTEND;TZID=America/Chicago:20221108T200000
DTSTAMP:20260422T065350
CREATED:20221102T175144Z
LAST-MODIFIED:20221102T175144Z
UID:1587-1667887200-1667937600@www.willcountydemocrats.com
SUMMARY:Election Day with Will County Democratic Coordinated Campaign
DESCRIPTION:We need as many people as possible to join our team to ensure a smooth Election Day. \nSign up HERE to join us
URL:https://www.willcountydemocrats.com/event/election-day-with-will-county-democratic-coordinated-campaign/
LOCATION:Il
END:VEVENT
BEGIN:VEVENT
DTSTART;TZID=America/Chicago:20221106T140000
DTEND;TZID=America/Chicago:20221106T163000
DTSTAMP:20260422T065350
CREATED:20221103T025030Z
LAST-MODIFIED:20221103T025030Z
UID:1589-1667743200-1667752200@www.willcountydemocrats.com
SUMMARY:GOTV with Rep Avelar & Congresswoman Underwood
DESCRIPTION:Join Congresswoman Lauren Underwood and State Rep. Dagmara Avelar to Get out the Vote! They will be knocking doors to make sure supporters have a plan to vote on November 8th! \nRegister HERE
URL:https://www.willcountydemocrats.com/event/gotv-with-rep-avelar-congresswoman-underwood/
LOCATION:Il
ATTACH;FMTTYPE=image/png:https://www.willcountydemocrats.com/wp-content/uploads/2022/11/GOTV-DA.png
END:VEVENT
BEGIN:VEVENT
DTSTART;TZID=America/Chicago:20221106T100000
DTEND;TZID=America/Chicago:20221106T130000
DTSTAMP:20260422T065350
CREATED:20221102T174641Z
LAST-MODIFIED:20221102T174641Z
UID:1584-1667728800-1667739600@www.willcountydemocrats.com
SUMMARY:GOTV Weekend Canvassing in Will County
DESCRIPTION:Sign up HERE
URL:https://www.willcountydemocrats.com/event/gotv-weekend-canvassing-in-will-county/
LOCATION:328 Republic Avenue\, 328 Republic Avenue\, Joliet\, IL\, 60434\, United States
ATTACH;FMTTYPE=image/png:https://www.willcountydemocrats.com/wp-content/uploads/2022/11/GOTV-WCC.png
END:VEVENT
BEGIN:VEVENT
DTSTART;TZID=America/Chicago:20221105T153000
DTEND;TZID=America/Chicago:20221105T170000
DTSTAMP:20260422T065350
CREATED:20221101T002454Z
LAST-MODIFIED:20221101T002454Z
UID:1574-1667662200-1667667600@www.willcountydemocrats.com
SUMMARY:Joliet GOTV and Workers' Rights Amendment Rally with JB Pritzker and Juliana Stratton
DESCRIPTION:Sign up to attend this get-out-the-vote rally with JB Pritzker\, Juliana Stratton\, and Democrats running for office in your community!
URL:https://www.willcountydemocrats.com/event/joliet-gotv-and-workers-rights-amendment-rally-with-jb-pritzker-and-juliana-stratton/
LOCATION:Teamsters Local  179\, 1000 NE Frontage Rd\, Joliet\, IL\, 60431\, United States
ATTACH;FMTTYPE=image/png:https://www.willcountydemocrats.com/wp-content/uploads/2022/10/JB-Rally.png
END:VEVENT
BEGIN:VEVENT
DTSTART;TZID=America/Chicago:20221105T130000
DTEND;TZID=America/Chicago:20221105T150000
DTSTAMP:20260422T065350
CREATED:20221102T174246Z
LAST-MODIFIED:20221102T174246Z
UID:1581-1667653200-1667660400@www.willcountydemocrats.com
SUMMARY:Frankfort Township Democrats Day of Action
DESCRIPTION:Sign up to register here: https://tinyurl.com/ftdnov5
URL:https://www.willcountydemocrats.com/event/frankfort-township-democrats-day-of-action/
LOCATION:Il
ATTACH;FMTTYPE=image/jpeg:https://www.willcountydemocrats.com/wp-content/uploads/2022/11/FT-DOA.jpg
END:VEVENT
BEGIN:VEVENT
DTSTART;TZID=America/Chicago:20221102T190000
DTEND;TZID=America/Chicago:20221102T190000
DTSTAMP:20260422T065350
CREATED:20220809T143140Z
LAST-MODIFIED:20220809T143140Z
UID:1346-1667415600-1667415600@www.willcountydemocrats.com
SUMMARY:Plainfield Township Democrats Monthly Meeting
DESCRIPTION:
URL:https://www.willcountydemocrats.com/event/plainfield-township-democrats-monthly-meeting-3/
LOCATION:Cemeno’s\, 1630 Essington Road\, Joliet\, IL\, United States
END:VEVENT
BEGIN:VEVENT
DTSTART;TZID=America/Chicago:20221029T100000
DTEND;TZID=America/Chicago:20221029T120000
DTSTAMP:20260422T065350
CREATED:20221024T180126Z
LAST-MODIFIED:20221024T180126Z
UID:1560-1667037600-1667044800@www.willcountydemocrats.com
SUMMARY:Homer Township Democrats - Day of Action
DESCRIPTION:
URL:https://www.willcountydemocrats.com/event/homer-township-democrats-day-of-action/
LOCATION:HTDO\, 14440 Melbourne Pl.\, Lockport\, IL\, 60441\, United States
ATTACH;FMTTYPE=image/png:https://www.willcountydemocrats.com/wp-content/uploads/2022/10/HT-DOA.png
END:VEVENT
BEGIN:VEVENT
DTSTART;TZID=America/Chicago:20221029T090000
DTEND;TZID=America/Chicago:20221029T130000
DTSTAMP:20260422T065350
CREATED:20221017T193014Z
LAST-MODIFIED:20221017T193014Z
UID:1539-1667034000-1667048400@www.willcountydemocrats.com
SUMMARY:Day of Action with El Costa and Margaret Tyson
DESCRIPTION:
URL:https://www.willcountydemocrats.com/event/day-of-action-with-el-costa-and-margaret-tyson/
LOCATION:Giamanco Law Partners\, 107 W. Boughton Road\, Bolingbrook\, IL\, 60440\, United States
ATTACH;FMTTYPE=image/jpeg:https://www.willcountydemocrats.com/wp-content/uploads/2022/10/Day-of-Action-El-and-Margaret-scaled.jpg
END:VEVENT
BEGIN:VEVENT
DTSTART;TZID=America/Chicago:20221027T163000
DTEND;TZID=America/Chicago:20221027T183000
DTSTAMP:20260422T065350
CREATED:20221025T023121Z
LAST-MODIFIED:20221025T023320Z
UID:1566-1666888200-1666895400@www.willcountydemocrats.com
SUMMARY:Fundraiser for Justice Mary Kay O'Brien
DESCRIPTION:
URL:https://www.willcountydemocrats.com/event/fundraiser-for-justice-mary-kay-obrien/
LOCATION:822 Infantry Drive\, 822 Infantry Dr. #100\, Joliet\, IL\, 60435\, United States
ATTACH;FMTTYPE=application/pdf:https://www.willcountydemocrats.com/wp-content/uploads/2022/10/OBrien-Fundraiser-102722-f.-Google-Docs.pdf
END:VEVENT
BEGIN:VEVENT
DTSTART;TZID=America/Chicago:20221026T170000
DTEND;TZID=America/Chicago:20221026T190000
DTSTAMP:20260422T065350
CREATED:20220917T053824Z
LAST-MODIFIED:20221024T180444Z
UID:1464-1666803600-1666810800@www.willcountydemocrats.com
SUMMARY:Oktoberfest: Fundraiser for State Rep. Larry Walsh\, Jr.
DESCRIPTION:
URL:https://www.willcountydemocrats.com/event/fundraiser-for-state-rep-larry-walsh-jr/
LOCATION:Jacob Henry Mansion\, 15 Richards Street\, Joliet\, 60434\, United States
CATEGORIES:Fundraiser
ATTACH;FMTTYPE=image/jpeg:https://www.willcountydemocrats.com/wp-content/uploads/2022/09/LW-FUN.jpg
END:VEVENT
BEGIN:VEVENT
DTSTART;TZID=America/Chicago:20221025T173000
DTEND;TZID=America/Chicago:20221025T193000
DTSTAMP:20260422T065350
CREATED:20221026T031828Z
LAST-MODIFIED:20221026T031828Z
UID:1570-1666719000-1666726200@www.willcountydemocrats.com
SUMMARY:Fundraiser for Joliet Township H.S #204 Board Candidates
DESCRIPTION:
URL:https://www.willcountydemocrats.com/event/fundraiser-for-joliet-township-h-s-204-board-candidates/
LOCATION:Heroes West\, 1530 Commerce Ln\, Joliet\, IL\, 60451\, United States
ATTACH;FMTTYPE=image/jpeg:https://www.willcountydemocrats.com/wp-content/uploads/2022/10/JT-FUN.jpg
END:VEVENT
BEGIN:VEVENT
DTSTART;TZID=America/Chicago:20221023T100000
DTEND;TZID=America/Chicago:20221023T130000
DTSTAMP:20260422T065350
CREATED:20221021T215513Z
LAST-MODIFIED:20221021T215614Z
UID:1550-1666519200-1666530000@www.willcountydemocrats.com
SUMMARY:AAPI Day of Action
DESCRIPTION:Register here: https://www.mobilize.us/organizeil2022/event/530390/
URL:https://www.willcountydemocrats.com/event/aapi-day-of-action/
LOCATION:DuPage Dems Headquarters\, 684 West Boughton Road\, Bolingbrook\, IL\, 60440\, United States
ATTACH;FMTTYPE=image/jpeg:https://www.willcountydemocrats.com/wp-content/uploads/2022/10/AAPI-DOA.jpg
END:VEVENT
BEGIN:VEVENT
DTSTART;TZID=America/Chicago:20221022T100000
DTEND;TZID=America/Chicago:20221022T120000
DTSTAMP:20260422T065350
CREATED:20221019T001546Z
LAST-MODIFIED:20221019T001546Z
UID:1542-1666432800-1666440000@www.willcountydemocrats.com
SUMMARY:Meet & Greet with Bill Foster & Alexi Giannoulias
DESCRIPTION:
URL:https://www.willcountydemocrats.com/event/meet-greet-with-bill-foster-alexi-giannoulias/
LOCATION:Foster Headquarters\, 522 S Washington St Suite 109\, Naperville\, Il
ATTACH;FMTTYPE=image/jpeg:https://www.willcountydemocrats.com/wp-content/uploads/2022/10/BF-AG-MG.jpg
END:VEVENT
BEGIN:VEVENT
DTSTART;TZID=America/Chicago:20221021T180000
DTEND;TZID=America/Chicago:20221021T200000
DTSTAMP:20260422T065350
CREATED:20221009T212020Z
LAST-MODIFIED:20221009T212020Z
UID:1528-1666375200-1666382400@www.willcountydemocrats.com
SUMMARY:Fundraiser for Rachel Ventura
DESCRIPTION:
URL:https://www.willcountydemocrats.com/event/fundraiser-for-rachel-ventura/
LOCATION:El Camaleon Bar & Grill\, 103 N Ottawa St\, Joliet\, Il\, 60432
ATTACH;FMTTYPE=image/png:https://www.willcountydemocrats.com/wp-content/uploads/2022/10/RF-FUN.png
END:VEVENT
BEGIN:VEVENT
DTSTART;TZID=America/Chicago:20221019T173000
DTEND;TZID=America/Chicago:20221019T193000
DTSTAMP:20260422T065350
CREATED:20220930T044917Z
LAST-MODIFIED:20220930T044917Z
UID:1512-1666200600-1666207800@www.willcountydemocrats.com
SUMMARY:#GameOn: Fundraiser for Natalie Coleman for Will County Board
DESCRIPTION:
URL:https://www.willcountydemocrats.com/event/gameon-fundraiser-for-natalie-coleman-for-will-county-board/
LOCATION:Realty Executives Success\, 700 W Jefferson St. Suite 201\, Shorewood\, Il
ATTACH;FMTTYPE=image/jpeg:https://www.willcountydemocrats.com/wp-content/uploads/2022/09/NC-FUN.jpeg
END:VEVENT
BEGIN:VEVENT
DTSTART;TZID=America/Chicago:20221018T183000
DTEND;TZID=America/Chicago:20221018T203000
DTSTAMP:20260422T065351
CREATED:20220913T220335Z
LAST-MODIFIED:20221019T003140Z
UID:1457-1666117800-1666125000@www.willcountydemocrats.com
SUMMARY:Candidate Meet & Greet - Crete and Monee Township Democrats Membership Social
DESCRIPTION:
URL:https://www.willcountydemocrats.com/event/save-the-date-candidate-meet-greet-crete-and-monee-township-democrats-membership-social/
LOCATION:Vintage Oak\, 1392 Main Street\, Crete\, IL\, 60417\, United States
ATTACH;FMTTYPE=image/jpeg:https://www.willcountydemocrats.com/wp-content/uploads/2022/09/CT-MG.jpg
END:VEVENT
BEGIN:VEVENT
DTSTART;TZID=America/Chicago:20221017T183000
DTEND;TZID=America/Chicago:20221017T183000
DTSTAMP:20260422T065351
CREATED:20220731T155347Z
LAST-MODIFIED:20220731T155604Z
UID:1323-1666031400-1666031400@www.willcountydemocrats.com
SUMMARY:Lockport Township Dems Monthly Meeting
DESCRIPTION:
URL:https://www.willcountydemocrats.com/event/lockport-township-dems-monthly-meeting-3/
LOCATION:At’s A Nice Pizza\, 380 N Independence Blvd # A\, Romeville\, United States
END:VEVENT
BEGIN:VEVENT
DTSTART;TZID=America/Chicago:20221015T130000
DTEND;TZID=America/Chicago:20221015T153000
DTSTAMP:20260422T065351
CREATED:20221010T161704Z
LAST-MODIFIED:20221010T161704Z
UID:1534-1665838800-1665847800@www.willcountydemocrats.com
SUMMARY:Latinx Early Vote Block Party with Congresswoman Lauren Underwood
DESCRIPTION:Join Team Underwood and the Will County Democratic Latinx Caucus for a Latinx Early Voting Block Party on Saturday\, Oct 15 \nLocation: 310 N Ottawa St\, Joliet Il
URL:https://www.willcountydemocrats.com/event/latinx-early-vote-block-party-with-congresswoman-lauren-underwood/
LOCATION:Unidos Marketing Network\, 310 N. Ottawa Street\, Joliet\, IL\, United States
ATTACH;FMTTYPE=image/png:https://www.willcountydemocrats.com/wp-content/uploads/2022/10/LU-LBP.png
END:VEVENT
BEGIN:VEVENT
DTSTART;TZID=America/Chicago:20221015T100000
DTEND;TZID=America/Chicago:20221015T130000
DTSTAMP:20260422T065351
CREATED:20221010T161251Z
LAST-MODIFIED:20221010T161327Z
UID:1531-1665828000-1665838800@www.willcountydemocrats.com
SUMMARY:Wheatland Township Dems - Day of Action for Judicial Candidates
DESCRIPTION:
URL:https://www.willcountydemocrats.com/event/wheatland-township-dems-day-of-action-for-judicial-candidates/
LOCATION:Il
ATTACH;FMTTYPE=image/jpeg:https://www.willcountydemocrats.com/wp-content/uploads/2022/10/WTD-DOA.jpg
END:VEVENT
BEGIN:VEVENT
DTSTART;TZID=America/Chicago:20221015T083000
DTEND;TZID=America/Chicago:20221015T130000
DTSTAMP:20260422T065351
CREATED:20220927T234530Z
LAST-MODIFIED:20220927T234530Z
UID:1505-1665822600-1665838800@www.willcountydemocrats.com
SUMMARY:Breakfast Canvassing with Troy Township and Friends in Labor
DESCRIPTION:Join Troy Township and Friends in Labor for Breakfast and Canvassing. Breakfast will be served from 8:30AM-9:30AM
URL:https://www.willcountydemocrats.com/event/breakfast-canvassing-with-troy-township-and-friends-in-labor/
LOCATION:IBEW Local 176\, 1100 NE Frontage Road\, Joliet\, IL\, 60431\, United States
ATTACH;FMTTYPE=image/png:https://www.willcountydemocrats.com/wp-content/uploads/2022/09/TT-BC-FUN.png
END:VEVENT
BEGIN:VEVENT
DTSTART;TZID=America/Chicago:20221013T170000
DTEND;TZID=America/Chicago:20221013T190000
DTSTAMP:20260422T065351
CREATED:20220926T034906Z
LAST-MODIFIED:20220926T034906Z
UID:1493-1665680400-1665687600@www.willcountydemocrats.com
SUMMARY:Fundraiser for Scott Pointon
DESCRIPTION:
URL:https://www.willcountydemocrats.com/event/fundraiser-for-scott-pointon/
LOCATION:Iron & Glass\, 632 S Weber Rd.\, Romeoville\, Il
ATTACH;FMTTYPE=application/pdf:https://www.willcountydemocrats.com/wp-content/uploads/2022/09/SP-FUN.pdf
END:VEVENT
BEGIN:VEVENT
DTSTART;TZID=America/Chicago:20221012T173000
DTEND;TZID=America/Chicago:20221012T200000
DTSTAMP:20260422T065351
CREATED:20220731T155049Z
LAST-MODIFIED:20220930T001932Z
UID:1317-1665595800-1665604800@www.willcountydemocrats.com
SUMMARY:Lockport Township Dems Annual Fundraiser
DESCRIPTION:
URL:https://www.willcountydemocrats.com/event/lockport-township-dems-annual-fundraiser/
LOCATION:Coom’s Corner\, 1225 E. 9th St.\, Lockport\, IL\, 60441\, United States
CATEGORIES:Fundraiser
ATTACH;FMTTYPE=image/png:https://www.willcountydemocrats.com/wp-content/uploads/2022/07/LTDO-Fundraiser-Flyer.png
END:VEVENT
BEGIN:VEVENT
DTSTART;TZID=America/Chicago:20221011T170000
DTEND;TZID=America/Chicago:20221011T190000
DTSTAMP:20260422T065351
CREATED:20220826T170457Z
LAST-MODIFIED:20220921T220034Z
UID:1398-1665507600-1665514800@www.willcountydemocrats.com
SUMMARY:Fundraiser to Support Lauren Staley Ferry
DESCRIPTION:
URL:https://www.willcountydemocrats.com/event/save-the-date-fundraiser-to-support-lauren-staley-ferry/
LOCATION:Cut 158 Chophouse\, 110 N. Chicago St.\, Joliet\, Il
CATEGORIES:Fundraiser
ATTACH;FMTTYPE=application/pdf:https://www.willcountydemocrats.com/wp-content/uploads/2022/08/LSF_FundraiserFall.pdf
END:VEVENT
BEGIN:VEVENT
DTSTART;TZID=America/Chicago:20221010T170000
DTEND;TZID=America/Chicago:20221010T190000
DTSTAMP:20260422T065351
CREATED:20220921T004321Z
LAST-MODIFIED:20220921T004355Z
UID:1483-1665421200-1665428400@www.willcountydemocrats.com
SUMMARY:Brian Bessler Fall Fundraiser
DESCRIPTION:
URL:https://www.willcountydemocrats.com/event/brian-bessler-fall-fundraiser/
LOCATION:The Dock at Inwood\, 3000 W. Jefferson St.\, Joliet\, Il
ATTACH;FMTTYPE=image/png:https://www.willcountydemocrats.com/wp-content/uploads/2022/09/BB-FUN.png
END:VEVENT
BEGIN:VEVENT
DTSTART;TZID=America/Chicago:20221009T150000
DTEND;TZID=America/Chicago:20221009T170000
DTSTAMP:20260422T065351
CREATED:20220920T213814Z
LAST-MODIFIED:20220921T003914Z
UID:1475-1665327600-1665334800@www.willcountydemocrats.com
SUMMARY:Frankfort Township Democrats - Meet & Greet with Jonathan Jackson
DESCRIPTION:Register at https://tinyurl.com/JLJFrankfort to attend and receive full location details.\nUpon registering you will receive venue details within 3 days prior to event.\n\nHosted by Dr. Gregory and Mrs. Angela Smith and the Frankfort Township Democrats.\n\n$50 minimum donation is encouraged\,but not required to attend.\nhttps://secure.actblue.com/donate/jackson-qr
URL:https://www.willcountydemocrats.com/event/save-the-date-frankfort-township-democrats-meet-greet-with-jonathan-jackson/
LOCATION:Il
END:VEVENT
BEGIN:VEVENT
DTSTART;TZID=America/Chicago:20221006T190000
DTEND;TZID=America/Chicago:20221006T190000
DTSTAMP:20260422T065351
CREATED:20220920T213551Z
LAST-MODIFIED:20220920T214139Z
UID:1469-1665082800-1665082800@www.willcountydemocrats.com
SUMMARY:Frankfort Township Democrats Judicial Candidates Fundraiser
DESCRIPTION:
URL:https://www.willcountydemocrats.com/event/frankfort-township-democrats-judicial-candidates-fundraiser/
LOCATION:El Cortez\, 191st St.\, Mokena\, Il\, 60448
ATTACH;FMTTYPE=image/png:https://www.willcountydemocrats.com/wp-content/uploads/2022/09/Frankfort-Township-Democrats-Fundraiser-for-the-Judicial-Candiates.png
END:VEVENT
BEGIN:VEVENT
DTSTART;TZID=America/Chicago:20221006T170000
DTEND;TZID=America/Chicago:20221006T200000
DTSTAMP:20260422T065351
CREATED:20220908T050900Z
LAST-MODIFIED:20220908T051054Z
UID:1448-1665075600-1665086400@www.willcountydemocrats.com
SUMMARY:Will & Kane County Young Democrats Inaugural Barack Obama Dinner
DESCRIPTION:The Young Democrats of Kane and Will Counties invite you to their inaugural Barack Obama Dinner! Join us to celebrate the best of what the Democratic Party has to offer\, both the community leaders we have running for office right now\, and the next generation of Democrats stepping up to serve their neighbors! \nPurchase your tickets here: https://secure.actblue.com/donate/barack-obama-dinner
URL:https://www.willcountydemocrats.com/event/will-kane-county-young-democrats-inaugural-barack-obama-dinner/
LOCATION:IBEW Local 176\, 1100 NE Frontage Road\, Joliet\, IL\, 60431\, United States
ATTACH;FMTTYPE=image/jpeg:https://www.willcountydemocrats.com/wp-content/uploads/2022/09/WCYD-FUN.jpg
END:VEVENT
BEGIN:VEVENT
DTSTART;TZID=America/Chicago:20221006T170000
DTEND;TZID=America/Chicago:20221006T193000
DTSTAMP:20260422T065351
CREATED:20220915T025149Z
LAST-MODIFIED:20220915T025149Z
UID:1460-1665075600-1665084600@www.willcountydemocrats.com
SUMMARY:John Anderson Retention Fundraiser
DESCRIPTION:Please join the host committee for a retention fundraiser for 12th Circuit Judge John Anderson. \nEntrance is free for all Precinct Committeepersons \n  \n 
URL:https://www.willcountydemocrats.com/event/john-anderson-retention-fundraiser/
LOCATION:At Gould & Ratner LLP\, 222 N. LaSalle St. Suite 300\, Chicago\, Il
ATTACH;FMTTYPE=application/pdf:https://www.willcountydemocrats.com/wp-content/uploads/2022/09/Anderson-october-2022-Fundraiser-flyer.pdf
END:VEVENT
BEGIN:VEVENT
DTSTART;TZID=America/Chicago:20221006T170000
DTEND;TZID=America/Chicago:20221006T190000
DTSTAMP:20260422T065351
CREATED:20220930T210048Z
LAST-MODIFIED:20220930T210048Z
UID:1516-1665075600-1665082800@www.willcountydemocrats.com
SUMMARY:Fundraiser for Joe Vanduyne for Will County Board
DESCRIPTION:
URL:https://www.willcountydemocrats.com/event/fundraiser-for-joe-vanduyne-for-will-county-board/
LOCATION:Heroes West\, 1530 Commerce Ln\, Joliet\, IL\, 60451\, United States
ATTACH;FMTTYPE=image/jpeg:https://www.willcountydemocrats.com/wp-content/uploads/2022/09/JVD-FUN.jpg
END:VEVENT
BEGIN:VEVENT
DTSTART;TZID=America/Chicago:20221005T190000
DTEND;TZID=America/Chicago:20221005T190000
DTSTAMP:20260422T065351
CREATED:20220809T143046Z
LAST-MODIFIED:20220809T143046Z
UID:1344-1664996400-1664996400@www.willcountydemocrats.com
SUMMARY:Plainfield Township Democrats Monthly Meeting
DESCRIPTION:
URL:https://www.willcountydemocrats.com/event/plainfield-township-democrats-monthly-meeting-2/
LOCATION:Cemeno’s\, 1630 Essington Road\, Joliet\, IL\, United States
END:VEVENT
END:VCALENDAR