BEGIN:VCALENDAR
VERSION:2.0
PRODID:-//Will County Democratic Party - ECPv6.15.20//NONSGML v1.0//EN
CALSCALE:GREGORIAN
METHOD:PUBLISH
X-WR-CALNAME:Will County Democratic Party
X-ORIGINAL-URL:https://www.willcountydemocrats.com
X-WR-CALDESC:Events for Will County Democratic Party
REFRESH-INTERVAL;VALUE=DURATION:PT1H
X-Robots-Tag:noindex
X-PUBLISHED-TTL:PT1H
BEGIN:VTIMEZONE
TZID:America/Chicago
BEGIN:DAYLIGHT
TZOFFSETFROM:-0600
TZOFFSETTO:-0500
TZNAME:CDT
DTSTART:20210314T080000
END:DAYLIGHT
BEGIN:STANDARD
TZOFFSETFROM:-0500
TZOFFSETTO:-0600
TZNAME:CST
DTSTART:20211107T070000
END:STANDARD
BEGIN:DAYLIGHT
TZOFFSETFROM:-0600
TZOFFSETTO:-0500
TZNAME:CDT
DTSTART:20220313T080000
END:DAYLIGHT
BEGIN:STANDARD
TZOFFSETFROM:-0500
TZOFFSETTO:-0600
TZNAME:CST
DTSTART:20221106T070000
END:STANDARD
BEGIN:DAYLIGHT
TZOFFSETFROM:-0600
TZOFFSETTO:-0500
TZNAME:CDT
DTSTART:20230312T080000
END:DAYLIGHT
BEGIN:STANDARD
TZOFFSETFROM:-0500
TZOFFSETTO:-0600
TZNAME:CST
DTSTART:20231105T070000
END:STANDARD
END:VTIMEZONE
BEGIN:VEVENT
DTSTART;TZID=America/Chicago:20220831T173000
DTEND;TZID=America/Chicago:20220831T193000
DTSTAMP:20260422T123038
CREATED:20220830T180256Z
LAST-MODIFIED:20220830T180623Z
UID:1409-1661967000-1661974200@www.willcountydemocrats.com
SUMMARY:Margaret Tyson for Will County Board Fundraiser
DESCRIPTION:
URL:https://www.willcountydemocrats.com/event/margaret-tyson-for-will-county-board-fundraiser/
LOCATION:Mandy’s Soul Food Kitchen\, 151 East Boughton Rd\, Bolingbrook\, IL\, 60440\, United States
END:VEVENT
BEGIN:VEVENT
DTSTART;TZID=America/Chicago:20220831T173000
DTEND;TZID=America/Chicago:20220831T193000
DTSTAMP:20260422T123038
CREATED:20220730T184122Z
LAST-MODIFIED:20220730T184122Z
UID:1312-1661967000-1661974200@www.willcountydemocrats.com
SUMMARY:An Hors D'Oeuvre Reception Honoring Justice Mary O'Brien for Illinois Supreme Court
DESCRIPTION:
URL:https://www.willcountydemocrats.com/event/an-hors-doeuvre-reception-honoring-justice-mary-obrien-for-illinois-supreme-court/
LOCATION:Quality Inn\, 800 N. Kinzie Ave.\, Bradley\, IL\, 60915\, United States
CATEGORIES:Fundraiser
ATTACH;FMTTYPE=image/png:https://www.willcountydemocrats.com/wp-content/uploads/2022/07/Screen-Shot-2022-07-30-at-1.35.53-PM.png
END:VEVENT
BEGIN:VEVENT
DTSTART;TZID=America/Chicago:20220830T170000
DTEND;TZID=America/Chicago:20220830T190000
DTSTAMP:20260422T123038
CREATED:20220730T183255Z
LAST-MODIFIED:20220812T080212Z
UID:1310-1661878800-1661886000@www.willcountydemocrats.com
SUMMARY:Keeping Our Community Safe: A Fundraiser in Support of Sheriff Mike Kelley and Judge Jessica Colón-Sayre
DESCRIPTION:
URL:https://www.willcountydemocrats.com/event/save-the-date-sheriff-mike-kelley-judge-jessica-colon-sayre-fundraiser/
LOCATION:Coom’s Corner\, 1225 E. 9th St.\, Lockport\, IL\, 60441\, United States
CATEGORIES:Fundraiser
ATTACH;FMTTYPE=image/jpeg:https://www.willcountydemocrats.com/wp-content/uploads/2022/07/August-30-Law-Enforcement-Fundraiser.jpg
END:VEVENT
BEGIN:VEVENT
DTSTART;TZID=America/Chicago:20220829T173000
DTEND;TZID=America/Chicago:20220829T193000
DTSTAMP:20260422T123038
CREATED:20220827T160025Z
LAST-MODIFIED:20220827T160025Z
UID:1403-1661794200-1661801400@www.willcountydemocrats.com
SUMMARY:Politics in the Park Fundraiser: Supporting Janet Diaz\, Andrew Englebrecht\, Sherry Williams\, Destinee Ortiz\, Jackie Traynere\, and Rachel Ventura
DESCRIPTION:
URL:https://www.willcountydemocrats.com/event/politics-in-the-park-fundraiser-supporting-janet-diaz-andrew-englebrecht-sherry-williams-destinee-ortiz-jackie-traynere-and-rachel-ventura/
LOCATION:Isle a la Cache Preserve\, 501 E. Romeo Rd.\, Romeoville\, IL\, 60446\, United States
CATEGORIES:Fundraiser
ATTACH;FMTTYPE=image/jpeg:https://www.willcountydemocrats.com/wp-content/uploads/2022/08/3D703F1B-CE39-4B25-B4A4-0D6812D2E8CE.jpeg
END:VEVENT
BEGIN:VEVENT
DTSTART;TZID=America/Chicago:20220824T170000
DTEND;TZID=America/Chicago:20220824T190000
DTSTAMP:20260422T123038
CREATED:20220719T183832Z
LAST-MODIFIED:20220719T205613Z
UID:1303-1661360400-1661367600@www.willcountydemocrats.com
SUMMARY:Lauren Staley Ferry for County Clerk Re-Election Fundraiser
DESCRIPTION:
URL:https://www.willcountydemocrats.com/event/save-the-date-fundraiser-for-lauren-staley-ferry/
LOCATION:Heroes West\, 1530 Commerce Ln\, Joliet\, IL\, 60451\, United States
ATTACH;FMTTYPE=image/jpeg:https://www.willcountydemocrats.com/wp-content/uploads/2022/07/LS_Fundraiser08242022.jpg
END:VEVENT
BEGIN:VEVENT
DTSTART;TZID=America/Chicago:20220822T190000
DTEND;TZID=America/Chicago:20220822T190000
DTSTAMP:20260422T123038
CREATED:20220815T191525Z
LAST-MODIFIED:20220815T191525Z
UID:1386-1661194800-1661194800@www.willcountydemocrats.com
SUMMARY:Monee Township Democrats Regular Meeting
DESCRIPTION:
URL:https://www.willcountydemocrats.com/event/monee-township-democrats-regular-meeting/
LOCATION:CCC\, 25806 Western Avenue\, University Park\, IL\, United States
END:VEVENT
BEGIN:VEVENT
DTSTART;TZID=America/Chicago:20220822T183000
DTEND;TZID=America/Chicago:20220822T183000
DTSTAMP:20260422T123038
CREATED:20220731T155226Z
LAST-MODIFIED:20220814T152739Z
UID:1319-1661193000-1661193000@www.willcountydemocrats.com
SUMMARY:Lockport Township Dems Monthly Meeting
DESCRIPTION:
URL:https://www.willcountydemocrats.com/event/lockport-township-dems-monthly-meeting/
LOCATION:Fat Ricky’s\, 646 N. Independence Blvd.\, Romeoville\, Illinois\, 60446
END:VEVENT
BEGIN:VEVENT
DTSTART;TZID=America/Chicago:20220820T180000
DTEND;TZID=America/Chicago:20220820T180000
DTSTAMP:20260422T123038
CREATED:20220731T185818Z
LAST-MODIFIED:20220731T185818Z
UID:1328-1661018400-1661018400@www.willcountydemocrats.com
SUMMARY:Celebrate Denise Winfrey's Innovative Leadership
DESCRIPTION:You are cordially invited\n\n\nJoin civic leaders\, policymakers\, philanthropists\, thought leaders\, and community advocates as we celebrate Denise Winfrey’s commitment to building stronger communities. \nThe joyful evening will begin with a garden reception followed by dinner paired with your choice of red or white wine. The evening will culminate with live entertainment and an after-party to remember. We look forward to hosting you in celebration of the newly elected National Association of Counties President and our friend Denise Winfrey. \nPlease RSVP at denisewinfreyleads.org before August 12th. \nSingle tickets are $100. \nTables are $1\,000. (seats 10) \nCapacity is limited. Please take action to reserve seating.
URL:https://www.willcountydemocrats.com/event/celebrate-denise-winfreys-innovative-leadership/
LOCATION:Jacob Henry Mansion\, 15 Richards Street\, Joliet\, 60434\, United States
END:VEVENT
BEGIN:VEVENT
DTSTART;TZID=America/Chicago:20220819T173000
DTEND;TZID=America/Chicago:20220819T173000
DTSTAMP:20260422T123038
CREATED:20220814T215159Z
LAST-MODIFIED:20220814T215159Z
UID:1378-1660930200-1660930200@www.willcountydemocrats.com
SUMMARY:Join Congresswoman Lauren Underwood and the Will County Black Caucus for a Crest Hill Community Block Party
DESCRIPTION:Join Congresswoman Lauren Underwood and the Will County Black Caucus for a Crest Hill Community Block Party on Friday\, August 19th at 5:30pm! Come enjoy good food and music\, fun games\, and amazing company. Register to vote\, apply to vote by mail and learn how to get involved with the campaign. Bring the kids\, the grandparents\, and your neighbors! \n\nRSVP here >>> https://www.mobilize.us/underwoodforcongress/event/489988/
URL:https://www.willcountydemocrats.com/event/join-congresswoman-lauren-underwood-and-the-will-county-black-caucus-for-a-crest-hill-community-block-party/
LOCATION:1501 Pioneer Rd Crest Hill\, IL 60403\, 1501 Pioneer Rd\, Crest Hill\, IL\, 60403\, United States
END:VEVENT
BEGIN:VEVENT
DTSTART;TZID=America/Chicago:20220817T180000
DTEND;TZID=America/Chicago:20220817T180000
DTSTAMP:20260422T123038
CREATED:20220815T004756Z
LAST-MODIFIED:20220815T004756Z
UID:1381-1660759200-1660759200@www.willcountydemocrats.com
SUMMARY:Latinx Caucus Informational Meeting
DESCRIPTION:The Latinx Caucus will hold a virtual informational meeting on Wednesday\, August 17 at 6pm. The purpose of this meeting is to discuss the upcoming November 8 General Election and the upcoming Latinx Caucus Reorganization Meeting. Learn more about the Latinx Caucus and the different Executive Board positions. \nRegister Here:\nhttps://us02web.zoom.us/meeting/register/tZcrduuuqzotGNEagRoR_SGlV4w1-fZevnZy\n\nIf you have any questions\, please feel free to contact us at wcdlatinxcaucus@gmail.com.
URL:https://www.willcountydemocrats.com/event/latinx-caucus-informational-meeting/
LOCATION:IL
END:VEVENT
BEGIN:VEVENT
DTSTART;TZID=America/Chicago:20220816T183000
DTEND;TZID=America/Chicago:20220816T200000
DTSTAMP:20260422T123038
CREATED:20220814T212853Z
LAST-MODIFIED:20220814T212853Z
UID:1370-1660674600-1660680000@www.willcountydemocrats.com
SUMMARY:Homer Township Democratic Organization Meeting
DESCRIPTION:
URL:https://www.willcountydemocrats.com/event/homer-township-democratic-organization-meeting/
LOCATION:Davidson’s Bar and Grill\, 14136 South Bell Road\, Homer Glen\, IL\, 60491
END:VEVENT
BEGIN:VEVENT
DTSTART;TZID=America/Chicago:20220815T190000
DTEND;TZID=America/Chicago:20220815T190000
DTSTAMP:20260422T123038
CREATED:20220814T152849Z
LAST-MODIFIED:20220814T152849Z
UID:1368-1660590000-1660590000@www.willcountydemocrats.com
SUMMARY:Will County Democratic Central Committee Meeting
DESCRIPTION:
URL:https://www.willcountydemocrats.com/event/will-county-democratic-central-committee-meeting/
LOCATION:IBEW Local 176\, 1100 NE Frontage Road\, Joliet\, IL\, 60431\, United States
END:VEVENT
BEGIN:VEVENT
DTSTART;TZID=America/Chicago:20220813T080000
DTEND;TZID=America/Chicago:20220813T110000
DTSTAMP:20260422T123038
CREATED:20220803T210703Z
LAST-MODIFIED:20220803T210703Z
UID:1332-1660377600-1660388400@www.willcountydemocrats.com
SUMMARY:The Unity Breakfast
DESCRIPTION:
URL:https://www.willcountydemocrats.com/event/the-unity-breakfast/
LOCATION:Giamanco Law Partners\, 107 W. Boughton Road\, Bolingbrook\, IL\, 60440\, United States
ATTACH;FMTTYPE=image/png:https://www.willcountydemocrats.com/wp-content/uploads/2022/08/294501564_616343843245287_3861803031694078008_n.png
END:VEVENT
BEGIN:VEVENT
DTSTART;TZID=America/Chicago:20220811T170000
DTEND;TZID=America/Chicago:20220811T190000
DTSTAMP:20260422T123038
CREATED:20220621T014753Z
LAST-MODIFIED:20220621T015631Z
UID:1259-1660237200-1660244400@www.willcountydemocrats.com
SUMMARY:Fundraiser for Michael Flanagan for County Board District 3
DESCRIPTION:
URL:https://www.willcountydemocrats.com/event/fundraiser-to-support-michael-flanagan-for-county-board-district-3/
LOCATION:Frankie’s Pizza\, 25921 S Governors Hwy\, Monee\, IL\, 60449\, United States
CATEGORIES:Fundraiser
ATTACH;FMTTYPE=image/jpeg:https://www.willcountydemocrats.com/wp-content/uploads/2022/06/IMG_3162.jpg
END:VEVENT
BEGIN:VEVENT
DTSTART;TZID=America/Chicago:20220806T120000
DTEND;TZID=America/Chicago:20220806T150000
DTSTAMP:20260422T123038
CREATED:20220713T200846Z
LAST-MODIFIED:20220719T205254Z
UID:1291-1659787200-1659798000@www.willcountydemocrats.com
SUMMARY:Let's Picnic with the Democrats
DESCRIPTION:
URL:https://www.willcountydemocrats.com/event/lets-picnic-with-thee-democrats/
LOCATION:Hickory Creek Junction Shelter\, 21063 Prestancia Drive\, Mokena\, IL\, United States
ATTACH;FMTTYPE=image/jpeg:https://www.willcountydemocrats.com/wp-content/uploads/2022/07/293495717_343869064600746_4654740958803721980_n.jpg
END:VEVENT
BEGIN:VEVENT
DTSTART;TZID=America/Chicago:20220804T170000
DTEND;TZID=America/Chicago:20220804T190000
DTSTAMP:20260422T123038
CREATED:20220713T201047Z
LAST-MODIFIED:20220713T201047Z
UID:1295-1659632400-1659639600@www.willcountydemocrats.com
SUMMARY:A Fundraiser for Sonni Choi Williams
DESCRIPTION:
URL:https://www.willcountydemocrats.com/event/a-fundraiser-for-sonni-choi-williams/
LOCATION:Irmen Law Group\, 77 W. Wacker Drive\, Suite 4500\, Chicago\, IL\, 60601\, United States
CATEGORIES:Fundraiser
ATTACH;FMTTYPE=image/jpeg:https://www.willcountydemocrats.com/wp-content/uploads/2022/07/292382785_141838535128457_6406601070070434635_n.jpg
END:VEVENT
BEGIN:VEVENT
DTSTART;TZID=America/Chicago:20220728T173000
DTEND;TZID=America/Chicago:20220728T173000
DTSTAMP:20260422T123038
CREATED:20220711T174904Z
LAST-MODIFIED:20220711T175024Z
UID:1287-1659029400-1659029400@www.willcountydemocrats.com
SUMMARY:Night at the Ballpark in Support of Senator Linda Holmes & Senator Cristina Castro
DESCRIPTION:
URL:https://www.willcountydemocrats.com/event/night-at-the-ballpark-in-support-of-senator-linda-holmes-senator-cristina-castro/
LOCATION:Northwestern Medicine Field\, 34w002 Cherry Ln\, Geneva\, IL\, 60134\, United States
CATEGORIES:Fundraiser
ATTACH;FMTTYPE=image/jpeg:https://www.willcountydemocrats.com/wp-content/uploads/2022/07/291769919_379368404294621_4172106234965936388_n.jpg
END:VEVENT
BEGIN:VEVENT
DTSTART;TZID=America/Chicago:20220728T170000
DTEND;TZID=America/Chicago:20220728T190000
DTSTAMP:20260422T123038
CREATED:20220706T152205Z
LAST-MODIFIED:20220706T152205Z
UID:1276-1659027600-1659034800@www.willcountydemocrats.com
SUMMARY:Committee to Elect John Connor: Summer Happy Hour
DESCRIPTION:
URL:https://www.willcountydemocrats.com/event/committee-to-elect-john-connor-summer-happy-hour/
LOCATION:Joliet Area Historical Museum\, 204 Ottawa Street\, Joliet
CATEGORIES:Fundraiser
ATTACH;FMTTYPE=image/jpeg:https://www.willcountydemocrats.com/wp-content/uploads/2022/07/IMG_6352.jpeg
END:VEVENT
BEGIN:VEVENT
DTSTART;TZID=America/Chicago:20220727T190000
DTEND;TZID=America/Chicago:20220727T190000
DTSTAMP:20260422T123038
CREATED:20220711T013105Z
LAST-MODIFIED:20220711T013105Z
UID:1281-1658948400-1658948400@www.willcountydemocrats.com
SUMMARY:County Convention
DESCRIPTION:WHEN: Check in at 7:00 pm; Convention to start at 7:30\nA Zoom option will also be available
URL:https://www.willcountydemocrats.com/event/county-convention/
LOCATION:IBEW Local 176\, 1100 NE Frontage Road\, Joliet\, IL\, 60431\, United States
END:VEVENT
BEGIN:VEVENT
DTSTART;TZID=America/Chicago:20220727T170000
DTEND;TZID=America/Chicago:20220727T190000
DTSTAMP:20260422T123038
CREATED:20220711T174539Z
LAST-MODIFIED:20220711T174539Z
UID:1283-1658941200-1658948400@www.willcountydemocrats.com
SUMMARY:Friends of Labor Fundraiser for Senator Meg Loughran Cappel
DESCRIPTION:
URL:https://www.willcountydemocrats.com/event/friends-of-labor-fundraiser-for-senator-meg-loughran-cappel/
LOCATION:Metal Monkey Brewing\, 515 Anderson Dr Ste 900\, Romeoville\, IL\, 60446\, United States
ATTACH;FMTTYPE=image/jpeg:https://www.willcountydemocrats.com/wp-content/uploads/2022/07/290336800_578907443616097_4673214236588805460_n.jpg
END:VEVENT
BEGIN:VEVENT
DTSTART;TZID=America/Chicago:20220724T120000
DTEND;TZID=America/Chicago:20220724T170000
DTSTAMP:20260422T123038
CREATED:20220718T145005Z
LAST-MODIFIED:20220719T041430Z
UID:1300-1658664000-1658682000@www.willcountydemocrats.com
SUMMARY:Join State Sen. Patrick Joyce and County Board Member Joe Van Duyne for Catfish Days Goes to Vegas
DESCRIPTION:Senator Joyce and Member Joe Van Duyne have sponsored the Democrats in the Wilmington Catfish Days parade. All Democrats are welcome to join! \nLine up begins at noon\, step-off at 1pm. \nParade starts at Middle School (715 South Joliet Street.\, Wilmington\, Il 60481) and ends at Park District office (Ryan St and Water Street (Route 102))
URL:https://www.willcountydemocrats.com/event/join-state-sen-patrick-joyce-and-county-board-member-joe-van-duyne-for-catfish-days-goes-to-vegas/
LOCATION:IL
END:VEVENT
BEGIN:VEVENT
DTSTART;TZID=America/Chicago:20220719T170000
DTEND;TZID=America/Chicago:20220719T200000
DTSTAMP:20260422T123038
CREATED:20220511T175301Z
LAST-MODIFIED:20220511T175301Z
UID:1189-1658250000-1658260800@www.willcountydemocrats.com
SUMMARY:SAVE THE DATE: Natalie Coleman Fundraiser
DESCRIPTION:
URL:https://www.willcountydemocrats.com/event/save-the-date-natalie-coleman-fundraiser/
LOCATION:IL
CATEGORIES:Fundraiser
END:VEVENT
BEGIN:VEVENT
DTSTART;TZID=America/Chicago:20220707T183000
DTEND;TZID=America/Chicago:20220707T203000
DTSTAMP:20260422T123038
CREATED:20220616T221705Z
LAST-MODIFIED:20220622T141622Z
UID:1256-1657218600-1657225800@www.willcountydemocrats.com
SUMMARY:Raise Fun and Funds for Judge Jessica Colón-Sayre for Will County
DESCRIPTION:
URL:https://www.willcountydemocrats.com/event/raise-fun-and-funds-for-judge-jessica-colon-sayre-for-will-county/
LOCATION:River Hawk Brewery\, 24735 W. Eames St.\, Channahon\, IL\, 60410\, United States
CATEGORIES:Fundraiser
ATTACH;FMTTYPE=image/jpeg:https://www.willcountydemocrats.com/wp-content/uploads/2022/06/presents.jpg
END:VEVENT
BEGIN:VEVENT
DTSTART;TZID=America/Chicago:20220628T180000
DTEND;TZID=America/Chicago:20220628T220000
DTSTAMP:20260422T123038
CREATED:20220622T191649Z
LAST-MODIFIED:20220622T191649Z
UID:1268-1656439200-1656453600@www.willcountydemocrats.com
SUMMARY:Will County Democratic Central Committee Election Night Watch Party
DESCRIPTION:All are welcome! Free food\, beer\, and wine!
URL:https://www.willcountydemocrats.com/event/will-county-democratic-central-committee-election-night-watch-party/
LOCATION:IBEW Local 176\, 1100 NE Frontage Road\, Joliet\, IL\, 60431\, United States
END:VEVENT
BEGIN:VEVENT
DTSTART;TZID=America/Chicago:20220623T180000
DTEND;TZID=America/Chicago:20220623T210000
DTSTAMP:20260422T123038
CREATED:20220520T221204Z
LAST-MODIFIED:20220520T221204Z
UID:1200-1656007200-1656018000@www.willcountydemocrats.com
SUMMARY:Campaign Fundraiser to Support Bob Howard for Will County Board District 2
DESCRIPTION:
URL:https://www.willcountydemocrats.com/event/campaign-fundraiser-to-support-bob-howard-for-will-county-board-district-2/
LOCATION:Sit-N-Bull Saloon\, 614 Gould St.\, Beecher\, IL\, 60401\, United States
CATEGORIES:Fundraiser
ATTACH;FMTTYPE=image/jpeg:https://www.willcountydemocrats.com/wp-content/uploads/2022/05/Bob-Howard-June-23-invite.jpg
END:VEVENT
BEGIN:VEVENT
DTSTART;TZID=America/Chicago:20220623T173000
DTEND;TZID=America/Chicago:20220623T193000
DTSTAMP:20260422T123038
CREATED:20220614T192002Z
LAST-MODIFIED:20220614T192002Z
UID:1253-1656005400-1656012600@www.willcountydemocrats.com
SUMMARY:Summer Fundraising Event for Harry Benton for State Representative
DESCRIPTION:
URL:https://www.willcountydemocrats.com/event/summer-fundraising-event-for-harry-benton-for-state-representative/
LOCATION:Coom’s Corner\, 1225 E. 9th St.\, Lockport\, IL\, 60441\, United States
ATTACH;FMTTYPE=image/jpeg:https://www.willcountydemocrats.com/wp-content/uploads/2022/06/287433650_463234455612343_4382998500974517400_n.jpg
END:VEVENT
BEGIN:VEVENT
DTSTART;TZID=America/Chicago:20220622T170000
DTEND;TZID=America/Chicago:20220622T190000
DTSTAMP:20260422T123038
CREATED:20220614T191830Z
LAST-MODIFIED:20220614T191830Z
UID:1250-1655917200-1655924400@www.willcountydemocrats.com
SUMMARY:A Reception Honoring Justice Mary Kay O'Brien for Illinois Supreme Court
DESCRIPTION:
URL:https://www.willcountydemocrats.com/event/a-reception-honoring-justice-mary-kay-obrien-for-illinois-supreme-court/
LOCATION:Joliet Area Historical Museum\, 204 Ottawa Street\, Joliet
CATEGORIES:Fundraiser
ATTACH;FMTTYPE=image/jpeg:https://www.willcountydemocrats.com/wp-content/uploads/2022/06/IMG_9190.jpg
END:VEVENT
BEGIN:VEVENT
DTSTART;TZID=America/Chicago:20220621T170000
DTEND;TZID=America/Chicago:20220621T190000
DTSTAMP:20260422T123038
CREATED:20220607T210549Z
LAST-MODIFIED:20220607T210549Z
UID:1242-1655830800-1655838000@www.willcountydemocrats.com
SUMMARY:Campaign Kick-Off Fundraiser for Brian Bessler for Will County Board
DESCRIPTION:
URL:https://www.willcountydemocrats.com/event/campaign-kick-off-fundraiser-for-brian-bessler-for-will-county-board/
LOCATION:Joliet American Legion 1080\, 2625 Ingalls Ave.\, Joliet\, IL\, 60435\, United States
CATEGORIES:Fundraiser
ATTACH;FMTTYPE=image/png:https://www.willcountydemocrats.com/wp-content/uploads/2022/06/image0-1.png
END:VEVENT
BEGIN:VEVENT
DTSTART;TZID=America/Chicago:20220620T090000
DTEND;TZID=America/Chicago:20220620T090000
DTSTAMP:20260422T123038
CREATED:20220316T184011Z
LAST-MODIFIED:20220429T152655Z
UID:1089-1655715600-1655715600@www.willcountydemocrats.com
SUMMARY:Re-Elect Sheriff Mike Kelley Golf Outing
DESCRIPTION: 
URL:https://www.willcountydemocrats.com/event/save-the-date-re-elect-mike-kelley-for-sheriff/
LOCATION:Inwood Golf Course\, 3200 W Jefferson St.\, Joliet\, Il
CATEGORIES:Fundraiser
ATTACH;FMTTYPE=image/jpeg:https://www.willcountydemocrats.com/wp-content/uploads/2022/03/Kelley-For-Sheriff-2022-Flyer-Front.jpg
END:VEVENT
BEGIN:VEVENT
DTSTART;TZID=America/Chicago:20220618T170000
DTEND;TZID=America/Chicago:20220618T190000
DTSTAMP:20260422T123038
CREATED:20220601T222337Z
LAST-MODIFIED:20220601T222337Z
UID:1225-1655571600-1655578800@www.willcountydemocrats.com
SUMMARY:Meet and Greet with Assistant Majority Leader Sen. Linda Holmes and Congressman Bill Foster
DESCRIPTION:
URL:https://www.willcountydemocrats.com/event/meet-and-greet-with-assistant-majority-leader-sen-linda-holmes-and-congressman-bill-foster/
LOCATION:Harvey’s Tales\, 216 James St.\, Geneva\, IL\, 60134\, United States
ATTACH;FMTTYPE=image/jpeg:https://www.willcountydemocrats.com/wp-content/uploads/2022/06/284615615_455582972996963_4754468001916510100_n.jpg
END:VEVENT
END:VCALENDAR