BEGIN:VCALENDAR
VERSION:2.0
PRODID:-//Will County Democratic Party - ECPv6.15.20//NONSGML v1.0//EN
CALSCALE:GREGORIAN
METHOD:PUBLISH
X-WR-CALNAME:Will County Democratic Party
X-ORIGINAL-URL:https://www.willcountydemocrats.com
X-WR-CALDESC:Events for Will County Democratic Party
REFRESH-INTERVAL;VALUE=DURATION:PT1H
X-Robots-Tag:noindex
X-PUBLISHED-TTL:PT1H
BEGIN:VTIMEZONE
TZID:America/Chicago
BEGIN:DAYLIGHT
TZOFFSETFROM:-0600
TZOFFSETTO:-0500
TZNAME:CDT
DTSTART:20230312T080000
END:DAYLIGHT
BEGIN:STANDARD
TZOFFSETFROM:-0500
TZOFFSETTO:-0600
TZNAME:CST
DTSTART:20231105T070000
END:STANDARD
BEGIN:DAYLIGHT
TZOFFSETFROM:-0600
TZOFFSETTO:-0500
TZNAME:CDT
DTSTART:20240310T080000
END:DAYLIGHT
BEGIN:STANDARD
TZOFFSETFROM:-0500
TZOFFSETTO:-0600
TZNAME:CST
DTSTART:20241103T070000
END:STANDARD
BEGIN:DAYLIGHT
TZOFFSETFROM:-0600
TZOFFSETTO:-0500
TZNAME:CDT
DTSTART:20250309T080000
END:DAYLIGHT
BEGIN:STANDARD
TZOFFSETFROM:-0500
TZOFFSETTO:-0600
TZNAME:CST
DTSTART:20251102T070000
END:STANDARD
BEGIN:DAYLIGHT
TZOFFSETFROM:-0600
TZOFFSETTO:-0500
TZNAME:CDT
DTSTART:20260308T080000
END:DAYLIGHT
BEGIN:STANDARD
TZOFFSETFROM:-0500
TZOFFSETTO:-0600
TZNAME:CST
DTSTART:20261101T070000
END:STANDARD
END:VTIMEZONE
BEGIN:VEVENT
DTSTART;TZID=America/Chicago:20250415T170000
DTEND;TZID=America/Chicago:20250415T190000
DTSTAMP:20260422T172307
CREATED:20250227T040621Z
LAST-MODIFIED:20250227T040845Z
UID:3713-1744736400-1744743600@www.willcountydemocrats.com
SUMMARY:Happy Spring - A Fundraiser for Senator Meg Cappel
DESCRIPTION:
URL:https://www.willcountydemocrats.com/event/happy-spring-a-fundraiser-for-senator-meg-cappel/
LOCATION:Warehouse 109\, 14903 S Center St #109\, Plainfield\, Illinois\, 60544
ATTACH;FMTTYPE=image/jpeg:https://www.willcountydemocrats.com/wp-content/uploads/2025/02/CAP-FUN.jpg
END:VEVENT
BEGIN:VEVENT
DTSTART;TZID=America/Chicago:20250402T190000
DTEND;TZID=America/Chicago:20250402T190000
DTSTAMP:20260422T172307
CREATED:20241210T231454Z
LAST-MODIFIED:20241210T231454Z
UID:3599-1743620400-1743620400@www.willcountydemocrats.com
SUMMARY:Plainfield Township Democrats Meeting
DESCRIPTION:
URL:https://www.willcountydemocrats.com/event/plainfield-township-democrats-meeting-14/
LOCATION:Cemeno’s\, 1630 Essington Road\, Joliet\, IL\, United States
END:VEVENT
BEGIN:VEVENT
DTSTART;TZID=America/Chicago:20250322T100000
DTEND;TZID=America/Chicago:20250322T130000
DTSTAMP:20260422T172307
CREATED:20250311T021516Z
LAST-MODIFIED:20250318T041833Z
UID:3738-1742637600-1742648400@www.willcountydemocrats.com
SUMMARY:Lockport Township Democrats Day of Action
DESCRIPTION:
URL:https://www.willcountydemocrats.com/event/lockport-township-democrats-day-of-action-2/
LOCATION:1924 Plainfield Rd\, Crest Hill\, IL 60403\, 1924 Plainfield Rd\, Crest Hill\, IL\, 60403\, United States
ATTACH;FMTTYPE=image/png:https://www.willcountydemocrats.com/wp-content/uploads/2025/03/DOA-Avelar.png
END:VEVENT
BEGIN:VEVENT
DTSTART;TZID=America/Chicago:20250317T180000
DTEND;TZID=America/Chicago:20250317T190000
DTSTAMP:20260422T172307
CREATED:20250307T232232Z
LAST-MODIFIED:20250307T232232Z
UID:3734-1742234400-1742238000@www.willcountydemocrats.com
SUMMARY:Lockport Democrats March Meeting
DESCRIPTION:
URL:https://www.willcountydemocrats.com/event/lockport-democrats-march-meeting/
LOCATION:White Oak Library – Crest Hill\, 20670 City Center Blvd\, Crest HIll\, Il\, 60403
END:VEVENT
BEGIN:VEVENT
DTSTART;TZID=America/Chicago:20250315T120000
DTEND;TZID=America/Chicago:20250315T150000
DTSTAMP:20260422T172307
CREATED:20250311T021426Z
LAST-MODIFIED:20250311T181103Z
UID:3736-1742040000-1742050800@www.willcountydemocrats.com
SUMMARY:Lockport Township Democrats Day of Action
DESCRIPTION:
URL:https://www.willcountydemocrats.com/event/lockport-township-democrats-day-of-action/
LOCATION:1924 Plainfield Rd\, Crest Hill\, IL 60403\, 1924 Plainfield Rd\, Crest Hill\, IL\, 60403\, United States
ATTACH;FMTTYPE=image/jpeg:https://www.willcountydemocrats.com/wp-content/uploads/2025/03/LOCK-DOA-MC.jpg
END:VEVENT
BEGIN:VEVENT
DTSTART;TZID=America/Chicago:20250315T120000
DTEND;TZID=America/Chicago:20250315T150000
DTSTAMP:20260422T172307
CREATED:20250211T050907Z
LAST-MODIFIED:20250211T050907Z
UID:3693-1742040000-1742050800@www.willcountydemocrats.com
SUMMARY:New Lenox Township Democratic Organization Day of Action
DESCRIPTION:
URL:https://www.willcountydemocrats.com/event/new-lenox-township-democratic-organization-day-of-action-2/
LOCATION:Wildwood Park\, 605 W Joliet Hwy\, New Lenox\, IL\, 60451\, United States
ATTACH;FMTTYPE=image/png:https://www.willcountydemocrats.com/wp-content/uploads/2025/02/IMG_4168-e1739250503666.png
END:VEVENT
BEGIN:VEVENT
DTSTART;TZID=America/Chicago:20250313T173000
DTEND;TZID=America/Chicago:20250313T200000
DTSTAMP:20260422T172307
CREATED:20250227T041853Z
LAST-MODIFIED:20250311T204252Z
UID:3726-1741887000-1741896000@www.willcountydemocrats.com
SUMMARY:Lockport Township Democrats Re-Election Fundraiser
DESCRIPTION:Tickets Here: https://secure.actblue.com/donate/reelectlockport
URL:https://www.willcountydemocrats.com/event/lockport-township-democrats-re-election-fundraiser/
LOCATION:Coom’s Corner\, 1225 E. 9th St.\, Lockport\, IL\, 60441\, United States
ATTACH;FMTTYPE=image/png:https://www.willcountydemocrats.com/wp-content/uploads/2025/02/Reelection-Fundraiser-Flyer-1.png
END:VEVENT
BEGIN:VEVENT
DTSTART;TZID=America/Chicago:20250312T170000
DTEND;TZID=America/Chicago:20250312T193000
DTSTAMP:20260422T172307
CREATED:20250227T040958Z
LAST-MODIFIED:20250227T040958Z
UID:3716-1741798800-1741807800@www.willcountydemocrats.com
SUMMARY:Will County Board Democratic Caucus Annual Corned Beef Fundraiser
DESCRIPTION:
URL:https://www.willcountydemocrats.com/event/will-county-board-democratic-caucus-annual-corned-beef-fundraiser/
LOCATION:Jacob Henry Mansion\, 15 Richards Street\, Joliet\, 60434\, United States
ATTACH;FMTTYPE=image/jpeg:https://www.willcountydemocrats.com/wp-content/uploads/2025/02/WCB-FUN.jpeg
END:VEVENT
BEGIN:VEVENT
DTSTART;TZID=America/Chicago:20250307T170000
DTEND;TZID=America/Chicago:20250307T200000
DTSTAMP:20260422T172307
CREATED:20250221T222742Z
LAST-MODIFIED:20250221T222742Z
UID:3708-1741366800-1741377600@www.willcountydemocrats.com
SUMMARY:Lorraine Guerrero Neumayer Birthday Fundraiser
DESCRIPTION:
URL:https://www.willcountydemocrats.com/event/lorraine-guerrero-neumayer-birthday-fundraiser/
LOCATION:310 N. Ottawa St.\, 310 N Ottawa St\, Joliet\, IL\, 60432\, United States
ATTACH;FMTTYPE=image/jpeg:https://www.willcountydemocrats.com/wp-content/uploads/2025/02/Image-1-3.jpg
END:VEVENT
BEGIN:VEVENT
DTSTART;TZID=America/Chicago:20250306T183000
DTEND;TZID=America/Chicago:20250306T200000
DTSTAMP:20260422T172307
CREATED:20250205T042720Z
LAST-MODIFIED:20250205T042835Z
UID:3677-1741285800-1741291200@www.willcountydemocrats.com
SUMMARY:Fundraiser for Tifanni for Crete Township Trustee
DESCRIPTION:Tickets here: https://secure.actblue.com/donate/tifannifortrustee
URL:https://www.willcountydemocrats.com/event/fundraiser-for-tifanni-for-crete-township-trustee/
LOCATION:Vintage Oak\, 1392 Main Street\, Crete\, IL\, 60417\, United States
ATTACH;FMTTYPE=image/jpeg:https://www.willcountydemocrats.com/wp-content/uploads/2025/02/IMG_2226.jpeg
END:VEVENT
BEGIN:VEVENT
DTSTART;TZID=America/Chicago:20250306T180000
DTEND;TZID=America/Chicago:20250306T180000
DTSTAMP:20260422T172307
CREATED:20250211T051029Z
LAST-MODIFIED:20250211T051425Z
UID:3695-1741284000-1741284000@www.willcountydemocrats.com
SUMMARY:New Lenox Township Democratic Organization Fundraiser for Annette Vogt for New Lenox Township Trustee
DESCRIPTION:
URL:https://www.willcountydemocrats.com/event/new-lenox-township-democratic-organization-fundraiser/
LOCATION:Don Jose Cantina & Taqueria\, 1080 East Lincoln Hwy\, New Lenox\, 60451
ATTACH;FMTTYPE=image/png:https://www.willcountydemocrats.com/wp-content/uploads/2025/02/IMG_4167-e1739250611899.png
END:VEVENT
BEGIN:VEVENT
DTSTART;TZID=America/Chicago:20250305T190000
DTEND;TZID=America/Chicago:20250305T190000
DTSTAMP:20260422T172307
CREATED:20241210T231421Z
LAST-MODIFIED:20241210T231421Z
UID:3597-1741201200-1741201200@www.willcountydemocrats.com
SUMMARY:Plainfield Township Democrats Meeting
DESCRIPTION:
URL:https://www.willcountydemocrats.com/event/plainfield-township-democrats-meeting-13/
LOCATION:Cemeno’s\, 1630 Essington Road\, Joliet\, IL\, United States
END:VEVENT
BEGIN:VEVENT
DTSTART;TZID=America/Chicago:20250227T180000
DTEND;TZID=America/Chicago:20250227T200000
DTSTAMP:20260422T172307
CREATED:20250210T044555Z
LAST-MODIFIED:20250210T044555Z
UID:3680-1740679200-1740686400@www.willcountydemocrats.com
SUMMARY:Dems for Dupage Township Fundraiser
DESCRIPTION:
URL:https://www.willcountydemocrats.com/event/dems-for-dupage-township-fundraiser/
LOCATION:IBEW Local 176\, 1100 NE Frontage Road\, Joliet\, IL\, 60431\, United States
ATTACH;FMTTYPE=image/jpeg:https://www.willcountydemocrats.com/wp-content/uploads/2025/02/DUPAGE-FUN.jpg
END:VEVENT
BEGIN:VEVENT
DTSTART;TZID=America/Chicago:20250225T170000
DTEND;TZID=America/Chicago:20250225T193000
DTSTAMP:20260422T172307
CREATED:20250213T001009Z
LAST-MODIFIED:20250213T001009Z
UID:3704-1740502800-1740511800@www.willcountydemocrats.com
SUMMARY:Plainfield Township Democratic “Meet the Candidates” Fundraiser
DESCRIPTION:
URL:https://www.willcountydemocrats.com/event/plainfield-township-democratic-meet-the-candidates-fundraiser/
LOCATION:IL
ATTACH;FMTTYPE=image/png:https://www.willcountydemocrats.com/wp-content/uploads/2025/02/Copy-of-Plainfield-Township-Candidates.png
END:VEVENT
BEGIN:VEVENT
DTSTART;TZID=America/Chicago:20250223T160000
DTEND;TZID=America/Chicago:20250223T180000
DTSTAMP:20260422T172307
CREATED:20250204T211604Z
LAST-MODIFIED:20250204T211604Z
UID:3669-1740326400-1740333600@www.willcountydemocrats.com
SUMMARY:Aishwarya Balakrishan - Bollywood Fundraiser
DESCRIPTION:
URL:https://www.willcountydemocrats.com/event/aishwarya-balakrishan-bollywood-fundraiser/
LOCATION:Indian Harvest\, 796 Royal St. George Dr. #101\, Naperville\, Il\, 60563
ATTACH;FMTTYPE=image/jpeg:https://www.willcountydemocrats.com/wp-content/uploads/2025/02/ASH-FUN.jpg
END:VEVENT
BEGIN:VEVENT
DTSTART;TZID=America/Chicago:20250220T180000
DTEND;TZID=America/Chicago:20250220T180000
DTSTAMP:20260422T172307
CREATED:20250211T051315Z
LAST-MODIFIED:20250211T051315Z
UID:3698-1740074400-1740074400@www.willcountydemocrats.com
SUMMARY:New Lenox Township Democratic Organization Candidate Meet and Greet
DESCRIPTION:
URL:https://www.willcountydemocrats.com/event/new-lenox-township-democratic-organization-candidate-meet-and-greet/
LOCATION:Joey’s Red Hots\, 217 E Maple St\, New Lenox\, IL\, 60451\, United States
ATTACH;FMTTYPE=image/jpeg:https://www.willcountydemocrats.com/wp-content/uploads/2025/02/IMG_4166-e1739250782881.jpg
END:VEVENT
BEGIN:VEVENT
DTSTART;TZID=America/Chicago:20250218T170000
DTEND;TZID=America/Chicago:20250218T190000
DTSTAMP:20260422T172307
CREATED:20250204T212215Z
LAST-MODIFIED:20250204T213820Z
UID:3673-1739898000-1739905200@www.willcountydemocrats.com
SUMMARY:Fundraiser to Elect Alex Zapien
DESCRIPTION:Tickets: https://secure.actblue.com/donate/elect2025
URL:https://www.willcountydemocrats.com/event/fundraiser-to-elect-alex-zapien/
LOCATION:Papa Joe’s\, 944 E 9th St.\, Lockport\, Il\, 60441
ATTACH;FMTTYPE=image/png:https://www.willcountydemocrats.com/wp-content/uploads/2025/02/Flyer.png
END:VEVENT
BEGIN:VEVENT
DTSTART;TZID=America/Chicago:20250215T120000
DTEND;TZID=America/Chicago:20250215T150000
DTSTAMP:20260422T172307
CREATED:20250211T050336Z
LAST-MODIFIED:20250211T050831Z
UID:3687-1739620800-1739631600@www.willcountydemocrats.com
SUMMARY:New Lenox Township Democratic Organization Day of Action
DESCRIPTION:
URL:https://www.willcountydemocrats.com/event/new-lenox-township-democratic-organization-day-of-action/
LOCATION:Wildwood Park\, 605 W Joliet Hwy\, New Lenox\, IL\, 60451\, United States
ATTACH;FMTTYPE=image/png:https://www.willcountydemocrats.com/wp-content/uploads/2025/02/IMG_4168-e1739250503666.png
END:VEVENT
BEGIN:VEVENT
DTSTART;TZID=America/Chicago:20250206T170000
DTEND;TZID=America/Chicago:20250206T200000
DTSTAMP:20260422T172307
CREATED:20250114T023311Z
LAST-MODIFIED:20250114T023645Z
UID:3644-1738861200-1738872000@www.willcountydemocrats.com
SUMMARY:Fundraiser to Re-Elect Lorraine for JTHS 204 School Board
DESCRIPTION:Purchase tickets HERE
URL:https://www.willcountydemocrats.com/event/fundraiser-to-re-elect-lorraine-for-jths-204-school-board/
LOCATION:Puerto Escondido\, 509 N Chicago St.\, Joliet\, Il
ATTACH;FMTTYPE=image/jpeg:https://www.willcountydemocrats.com/wp-content/uploads/2025/01/LNG-FUN-1.jpg
END:VEVENT
BEGIN:VEVENT
DTSTART;TZID=America/Chicago:20250205T190000
DTEND;TZID=America/Chicago:20250205T190000
DTSTAMP:20260422T172307
CREATED:20241210T231339Z
LAST-MODIFIED:20241210T231339Z
UID:3595-1738782000-1738782000@www.willcountydemocrats.com
SUMMARY:Plainfield Township Democrats Meeting
DESCRIPTION:
URL:https://www.willcountydemocrats.com/event/plainfield-township-democrats-meeting-9/
LOCATION:Cemeno’s\, 1630 Essington Road\, Joliet\, IL\, United States
END:VEVENT
BEGIN:VEVENT
DTSTART;TZID=America/Chicago:20250201T160000
DTEND;TZID=America/Chicago:20250201T180000
DTSTAMP:20260422T172307
CREATED:20250118T055819Z
LAST-MODIFIED:20250118T055819Z
UID:3655-1738425600-1738432800@www.willcountydemocrats.com
SUMMARY:Frankfort Township Democrats Member Appreciation Party
DESCRIPTION:
URL:https://www.willcountydemocrats.com/event/frankfort-township-democrats-member-appreciation-party/
LOCATION:St. John’s United Church of Christ\, 11100 Second Street\, Mokena\, IL\, 60448\, United States
ATTACH;FMTTYPE=image/jpeg:https://www.willcountydemocrats.com/wp-content/uploads/2025/01/Image-1-2.jpg
END:VEVENT
BEGIN:VEVENT
DTSTART;TZID=America/Chicago:20250120T130000
DTEND;TZID=America/Chicago:20250120T160000
DTSTAMP:20260422T172307
CREATED:20250114T051637Z
LAST-MODIFIED:20250114T051637Z
UID:3650-1737378000-1737388800@www.willcountydemocrats.com
SUMMARY:ACE MLK Day After Brunch Social Event
DESCRIPTION:
URL:https://www.willcountydemocrats.com/event/ace-mlk-day-after-brunch-social-event/
LOCATION:Bolingbrook Golf Club\, 2001 Rodeo Dr\, Bolingbrook\, IL\, 60490\, United States
ATTACH;FMTTYPE=image/jpeg:https://www.willcountydemocrats.com/wp-content/uploads/2025/01/Image-1-1.jpg
END:VEVENT
BEGIN:VEVENT
DTSTART;TZID=America/Chicago:20250108T190000
DTEND;TZID=America/Chicago:20250108T190000
DTSTAMP:20260422T172307
CREATED:20241210T231205Z
LAST-MODIFIED:20241210T231205Z
UID:3593-1736362800-1736362800@www.willcountydemocrats.com
SUMMARY:Plainfield Township Democrats Meeting
DESCRIPTION:
URL:https://www.willcountydemocrats.com/event/plainfield-township-democrats-meeting-3/
LOCATION:Cemeno’s\, 1630 Essington Road\, Joliet\, IL\, United States
END:VEVENT
BEGIN:VEVENT
DTSTART;TZID=America/Chicago:20241227T183000
DTEND;TZID=America/Chicago:20241227T200000
DTSTAMP:20260422T172307
CREATED:20241218T160040Z
LAST-MODIFIED:20241219T204338Z
UID:3618-1735324200-1735329600@www.willcountydemocrats.com
SUMMARY:Eastern Will County Democratic Holiday Party
DESCRIPTION:Tickets HERE
URL:https://www.willcountydemocrats.com/event/eastern-will-county-democratic-holiday-party/
LOCATION:Social 45 Craft Kitchen and Bar\, 20805 S. La Grange Rd.\, Frankfort\, 60423
ATTACH;FMTTYPE=image/jpeg:https://www.willcountydemocrats.com/wp-content/uploads/2024/12/WCED.jpg
END:VEVENT
BEGIN:VEVENT
DTSTART;TZID=America/Chicago:20241223T123000
DTEND;TZID=America/Chicago:20241223T123000
DTSTAMP:20260422T172307
CREATED:20241224T215018Z
LAST-MODIFIED:20241224T215018Z
UID:3639-1734957000-1734957000@www.willcountydemocrats.com
SUMMARY:Interment Following Funeral Service
DESCRIPTION:
URL:https://www.willcountydemocrats.com/event/interment-following-funeral-service/
LOCATION:Mount Vernon Memorial Estates\, 11875 Archer Ave\, Lemont\, IL\, 60439\, United States
END:VEVENT
BEGIN:VEVENT
DTSTART;TZID=America/Chicago:20241223T110000
DTEND;TZID=America/Chicago:20241223T110000
DTSTAMP:20260422T172307
CREATED:20241224T214854Z
LAST-MODIFIED:20241224T214854Z
UID:3637-1734951600-1734951600@www.willcountydemocrats.com
SUMMARY:Christine Lunningham Funeral Service
DESCRIPTION:
URL:https://www.willcountydemocrats.com/event/christine-lunningham-funeral-service/
LOCATION:Brown Chapel AME Church\, 1502 Mills Rd\, Joliet\, IL\, 60433\, United States
END:VEVENT
BEGIN:VEVENT
DTSTART;TZID=America/Chicago:20241223T090000
DTEND;TZID=America/Chicago:20241223T110000
DTSTAMP:20260422T172307
CREATED:20241224T214805Z
LAST-MODIFIED:20241224T214805Z
UID:3634-1734944400-1734951600@www.willcountydemocrats.com
SUMMARY:Christine Lunningham Visitation
DESCRIPTION:
URL:https://www.willcountydemocrats.com/event/christine-lunningham-visitation/
LOCATION:Brown Chapel AME Church\, 1502 Mills Rd\, Joliet\, IL\, 60433\, United States
END:VEVENT
BEGIN:VEVENT
DTSTART;TZID=America/Chicago:20241220T170000
DTEND;TZID=America/Chicago:20241220T193000
DTSTAMP:20260422T172307
CREATED:20241218T160632Z
LAST-MODIFIED:20241219T204218Z
UID:3622-1734714000-1734723000@www.willcountydemocrats.com
SUMMARY:Young Democrats of Will County December Social
DESCRIPTION:
URL:https://www.willcountydemocrats.com/event/will-county-young-democrats-december-social-election/
LOCATION:Bowlero\, 735 Center Blvd\, Romeoville\, 60446
ATTACH;FMTTYPE=image/jpeg:https://www.willcountydemocrats.com/wp-content/uploads/2024/12/WCYD-BOWL.jpg
END:VEVENT
BEGIN:VEVENT
DTSTART;TZID=America/Chicago:20241204T190000
DTEND;TZID=America/Chicago:20241204T200000
DTSTAMP:20260422T172307
CREATED:20240110T030024Z
LAST-MODIFIED:20240110T030024Z
UID:2156-1733338800-1733342400@www.willcountydemocrats.com
SUMMARY:Plainfield Township Democrats Meeting
DESCRIPTION:
URL:https://www.willcountydemocrats.com/event/plainfield-township-democrats-meeting-12/
LOCATION:Cemeno’s\, 1630 Essington Road\, Joliet\, IL\, United States
END:VEVENT
BEGIN:VEVENT
DTSTART;TZID=America/Chicago:20241125T180000
DTEND;TZID=America/Chicago:20241125T190000
DTSTAMP:20260422T172307
CREATED:20241125T225802Z
LAST-MODIFIED:20241125T225802Z
UID:3589-1732557600-1732561200@www.willcountydemocrats.com
SUMMARY:Lockport Township Democrats Meeting
DESCRIPTION:
URL:https://www.willcountydemocrats.com/event/lockport-township-democrats-meeting-9/
LOCATION:White Oak Library – Crest Hill\, 20670 City Center Blvd\, Crest HIll\, Il\, 60403
END:VEVENT
END:VCALENDAR