BEGIN:VCALENDAR
VERSION:2.0
PRODID:-//Will County Democratic Party - ECPv6.15.20//NONSGML v1.0//EN
CALSCALE:GREGORIAN
METHOD:PUBLISH
X-WR-CALNAME:Will County Democratic Party
X-ORIGINAL-URL:https://www.willcountydemocrats.com
X-WR-CALDESC:Events for Will County Democratic Party
REFRESH-INTERVAL;VALUE=DURATION:PT1H
X-Robots-Tag:noindex
X-PUBLISHED-TTL:PT1H
BEGIN:VTIMEZONE
TZID:America/Chicago
BEGIN:DAYLIGHT
TZOFFSETFROM:-0600
TZOFFSETTO:-0500
TZNAME:CDT
DTSTART:20230312T080000
END:DAYLIGHT
BEGIN:STANDARD
TZOFFSETFROM:-0500
TZOFFSETTO:-0600
TZNAME:CST
DTSTART:20231105T070000
END:STANDARD
BEGIN:DAYLIGHT
TZOFFSETFROM:-0600
TZOFFSETTO:-0500
TZNAME:CDT
DTSTART:20240310T080000
END:DAYLIGHT
BEGIN:STANDARD
TZOFFSETFROM:-0500
TZOFFSETTO:-0600
TZNAME:CST
DTSTART:20241103T070000
END:STANDARD
BEGIN:DAYLIGHT
TZOFFSETFROM:-0600
TZOFFSETTO:-0500
TZNAME:CDT
DTSTART:20250309T080000
END:DAYLIGHT
BEGIN:STANDARD
TZOFFSETFROM:-0500
TZOFFSETTO:-0600
TZNAME:CST
DTSTART:20251102T070000
END:STANDARD
END:VTIMEZONE
BEGIN:VEVENT
DTSTART;TZID=America/Chicago:20240919T180000
DTEND;TZID=America/Chicago:20240919T210000
DTSTAMP:20260423T015525
CREATED:20240829T043152Z
LAST-MODIFIED:20240829T043152Z
UID:3449-1726768800-1726779600@www.willcountydemocrats.com
SUMMARY:Fundraiser for Senators Meg Cappel\, Patrick Joyce\, and Michael Hastings
DESCRIPTION:
URL:https://www.willcountydemocrats.com/event/fundraiser-for-senators-meg-cappel-patrick-joyce-and-michael-hastings/
LOCATION:Joliet Area Historical Museum\, 204 Ottawa Street\, Joliet
ATTACH;FMTTYPE=image/jpeg:https://www.willcountydemocrats.com/wp-content/uploads/2024/08/MC-PJ-MH.jpg
END:VEVENT
BEGIN:VEVENT
DTSTART;TZID=America/Chicago:20240919T170000
DTEND;TZID=America/Chicago:20240919T190000
DTSTAMP:20260423T015525
CREATED:20240807T052532Z
LAST-MODIFIED:20240807T052532Z
UID:2665-1726765200-1726772400@www.willcountydemocrats.com
SUMMARY:Fundraiser for Andrea Lynn Chasteen
DESCRIPTION:
URL:https://www.willcountydemocrats.com/event/fundraiser-for-andrea-lynn-chasteen/
LOCATION:Cemeno’s\, 1630 Essington Road\, Joliet\, IL\, United States
ATTACH;FMTTYPE=image/jpeg:https://www.willcountydemocrats.com/wp-content/uploads/2024/08/ALC-FUN.jpg
END:VEVENT
BEGIN:VEVENT
DTSTART;TZID=America/Chicago:20240916T180000
DTEND;TZID=America/Chicago:20240916T190000
DTSTAMP:20260423T015525
CREATED:20240109T025839Z
LAST-MODIFIED:20240109T025839Z
UID:2115-1726509600-1726513200@www.willcountydemocrats.com
SUMMARY:Lockport Township Democrats Meeting
DESCRIPTION:
URL:https://www.willcountydemocrats.com/event/lockport-township-democrats-meeting-4/
LOCATION:White Oak Library – Crest Hill\, 20670 City Center Blvd\, Crest HIll\, Il\, 60403
END:VEVENT
BEGIN:VEVENT
DTSTART;TZID=America/Chicago:20240914T100000
DTEND;TZID=America/Chicago:20240914T140000
DTSTAMP:20260423T015525
CREATED:20240905T033107Z
LAST-MODIFIED:20240905T033230Z
UID:3470-1726308000-1726322400@www.willcountydemocrats.com
SUMMARY:Representative Avelar Campaign Kick Off
DESCRIPTION:
URL:https://www.willcountydemocrats.com/event/representative-avelar-campaign-kick-off/
LOCATION:The Crafty Bean\, 345 N Schmidt\, Bolingbrook\, Il
ATTACH;FMTTYPE=image/jpeg:https://www.willcountydemocrats.com/wp-content/uploads/2024/09/DEE-KICK.jpg
END:VEVENT
BEGIN:VEVENT
DTSTART;TZID=America/Chicago:20240911T170000
DTEND;TZID=America/Chicago:20240911T190000
DTSTAMP:20260423T015525
CREATED:20240829T042958Z
LAST-MODIFIED:20240829T042958Z
UID:3446-1726074000-1726081200@www.willcountydemocrats.com
SUMMARY:Office Opening & Election Cycle Kick off with Senator Meg Cappel & Executive Jennifer Bertino-Tarrant
DESCRIPTION:
URL:https://www.willcountydemocrats.com/event/office-opening-election-cycle-kick-off-with-senator-meg-cappel-executive-jennifer-bertino-tarrant/
LOCATION:1924 Plainfield Rd\, Crest Hill\, IL 60403\, 1924 Plainfield Rd\, Crest Hill\, IL\, 60403\, United States
ATTACH;FMTTYPE=image/jpeg:https://www.willcountydemocrats.com/wp-content/uploads/2024/08/MC-JBT.jpeg
END:VEVENT
BEGIN:VEVENT
DTSTART;TZID=America/Chicago:20240910T173000
DTEND;TZID=America/Chicago:20240910T193000
DTSTAMP:20260423T015525
CREATED:20240819T183104Z
LAST-MODIFIED:20240829T043339Z
UID:3401-1725989400-1725996600@www.willcountydemocrats.com
SUMMARY:Fundraiser for Michelle Stiff for County Clerk
DESCRIPTION:Location: Cemeno’s Pizza at 3000 W Jefferson St. (formally the Dock at Inwood) \nDonate HERE: https://secure.actblue.com/donate/michelle-stiff-1
URL:https://www.willcountydemocrats.com/event/fundraiser-for-michelle-stiff-for-county-clerk/
LOCATION:Cemeno’s at the Park\, 3000 W Jefferson St.\, Joliet\, Il
ATTACH;FMTTYPE=image/jpeg:https://www.willcountydemocrats.com/wp-content/uploads/2024/08/IMG_0983.jpeg
END:VEVENT
BEGIN:VEVENT
DTSTART;TZID=America/Chicago:20240910T163000
DTEND;TZID=America/Chicago:20240910T190000
DTSTAMP:20260423T015525
CREATED:20240829T043717Z
LAST-MODIFIED:20240829T043744Z
UID:3454-1725985800-1725994800@www.willcountydemocrats.com
SUMMARY:Fundraiser for Herbert Brooks & Denise Winfrey - County Board District 6
DESCRIPTION:
URL:https://www.willcountydemocrats.com/event/fundraiser-for-herbert-brooks-denise-winfrey-county-board-district-6/
LOCATION:The Beacon Club\, 510 N. Chicago St.\, Joliet\, 60432
ATTACH;FMTTYPE=image/jpeg:https://www.willcountydemocrats.com/wp-content/uploads/2024/08/HB-DW-FUN-scaled.jpg
END:VEVENT
BEGIN:VEVENT
DTSTART;TZID=America/Chicago:20240909T190000
DTEND;TZID=America/Chicago:20240909T210000
DTSTAMP:20260423T015525
CREATED:20240825T202722Z
LAST-MODIFIED:20240825T202817Z
UID:3415-1725908400-1725915600@www.willcountydemocrats.com
SUMMARY:Will County Democrats General Meeting
DESCRIPTION:
URL:https://www.willcountydemocrats.com/event/will-county-democrats-general-meeting-3/
LOCATION:IBEW Local 176\, 1100 NE Frontage Road\, Joliet\, IL\, 60431\, United States
END:VEVENT
BEGIN:VEVENT
DTSTART;TZID=America/Chicago:20240905T170000
DTEND;TZID=America/Chicago:20240905T193000
DTSTAMP:20260423T015525
CREATED:20240903T174427Z
LAST-MODIFIED:20240903T174427Z
UID:3458-1725555600-1725564600@www.willcountydemocrats.com
SUMMARY:The Finale: Fundraiser for Justice Lance Peterson
DESCRIPTION:
URL:https://www.willcountydemocrats.com/event/the-finale-fundraiser-for-justice-lance-peterson/
LOCATION:Morris Country Club\, 2615 US Rt 6\, Morris\, Il\, 60450
ATTACH;FMTTYPE=image/jpeg:https://www.willcountydemocrats.com/wp-content/uploads/2024/09/LP-FUN.jpg
END:VEVENT
BEGIN:VEVENT
DTSTART;VALUE=DATE:20240905
DTEND;VALUE=DATE:20240906
DTSTAMP:20260423T015525
CREATED:20240721T231845Z
LAST-MODIFIED:20240721T231845Z
UID:2411-1725494400-1725580799@www.willcountydemocrats.com
SUMMARY:Jungles for Sheriff: Tee off On Crime
DESCRIPTION:
URL:https://www.willcountydemocrats.com/event/jungles-for-sheriff-tee-off-on-crime/
LOCATION:Inwood Golf Course\, 3200 W Jefferson St.\, Joliet\, Il
ATTACH;FMTTYPE=image/jpeg:https://www.willcountydemocrats.com/wp-content/uploads/2024/07/D_J_2-1.jpeg
END:VEVENT
BEGIN:VEVENT
DTSTART;TZID=America/Chicago:20240904T190000
DTEND;TZID=America/Chicago:20240904T200000
DTSTAMP:20260423T015525
CREATED:20240110T025821Z
LAST-MODIFIED:20240110T025821Z
UID:2148-1725476400-1725480000@www.willcountydemocrats.com
SUMMARY:Plainfield Township Democrats Meeting
DESCRIPTION:
URL:https://www.willcountydemocrats.com/event/plainfield-township-democrats-meeting-8/
LOCATION:Cemeno’s\, 1630 Essington Road\, Joliet\, IL\, United States
END:VEVENT
BEGIN:VEVENT
DTSTART;TZID=America/Chicago:20240904T170000
DTEND;TZID=America/Chicago:20240904T190000
DTSTAMP:20260423T015525
CREATED:20240814T201611Z
LAST-MODIFIED:20240814T225248Z
UID:3390-1725469200-1725476400@www.willcountydemocrats.com
SUMMARY:Under the Tuscan Sun: Fundraiser for County Executive Jennifer Bertino-Tarrant
DESCRIPTION:
URL:https://www.willcountydemocrats.com/event/under-the-tuscan-sea-fundraiser-for-county-executive-jennifer-bertino-tarrant/
LOCATION:Jacob Henry Mansion\, 15 Richards Street\, Joliet\, 60434\, United States
ATTACH;FMTTYPE=image/jpeg:https://www.willcountydemocrats.com/wp-content/uploads/2024/08/JBT-LADIES-FUN.jpg
END:VEVENT
BEGIN:VEVENT
DTSTART;TZID=America/Chicago:20240828T173000
DTEND;TZID=America/Chicago:20240828T193000
DTSTAMP:20260423T015525
CREATED:20240710T170004Z
LAST-MODIFIED:20240812T192420Z
UID:2397-1724866200-1724873400@www.willcountydemocrats.com
SUMMARY:Alex Zapien's 1 Year Supervisor Anniversary
DESCRIPTION:Tickets Here: https://secure.actblue.com/donate/supanniversary \nAfter a busy summer of events and an eventful DNC in August\, let’s come together for a social hour with food and drinks. Alex would like to take this opportunity to thank all the friends who have supported him along the way. This event is open to the public\, inviting everyone Alex has met on his journey\, including public servants\, friends in labor\, community leaders\, residents\, and both old and new friends!
URL:https://www.willcountydemocrats.com/event/save-the-date-alex-zapien/
LOCATION:Coom’s Corner\, 1225 E. 9th St.\, Lockport\, IL\, 60441\, United States
ATTACH;FMTTYPE=image/jpeg:https://www.willcountydemocrats.com/wp-content/uploads/2024/07/1-Year-Supervisor-Anniversary-Flyer.jpg
END:VEVENT
BEGIN:VEVENT
DTSTART;TZID=America/Chicago:20240824T103000
DTEND;TZID=America/Chicago:20240824T140000
DTSTAMP:20260423T015525
CREATED:20240821T170856Z
LAST-MODIFIED:20240821T171059Z
UID:3403-1724495400-1724508000@www.willcountydemocrats.com
SUMMARY:Canvassing for Meta Mueller and Kelly Hickey with Lauren Underwood
DESCRIPTION:Location: Will be given upon RSVP to metaforwillcounty@gmail.com or text 815.267.1243.\n\nBasking in the glow of the DNC\, who is charged up and ready to do something?\nYour favorite candidates are teaming up! Team Meta/Kelly is joining Team Underwood for a canvassing event this Saturday! We will gather at 10:30 and then launch at 11 am.\nNew to door-knocking? Don’t worry; we will show you how and can even team you up with an experienced volunteer!\n\nRSVP for the meet-up location. We can’t wait to see you!! \n\n\n\n\nFacebook event link: https://www.facebook.com/share/Cpk6nwp4bWCpHZvS/
URL:https://www.willcountydemocrats.com/event/canvassing-with-meta-mueller-and-kelly-hickey-with-lauren-underwood/
LOCATION:IL
END:VEVENT
BEGIN:VEVENT
DTSTART;TZID=America/Chicago:20240817T140000
DTEND;TZID=America/Chicago:20240817T170000
DTSTAMP:20260423T015525
CREATED:20240814T201902Z
LAST-MODIFIED:20240814T201902Z
UID:3393-1723903200-1723914000@www.willcountydemocrats.com
SUMMARY:Dupage Township Dems Rally & Picnic
DESCRIPTION:
URL:https://www.willcountydemocrats.com/event/dupage-township-dems-rally-picnic/
LOCATION:Meyer Park\, 267 W Briarcliff Rd\, Bolingbrook\, Il\, 60440
ATTACH;FMTTYPE=image/jpeg:https://www.willcountydemocrats.com/wp-content/uploads/2024/08/DTDO-PIC.jpg
END:VEVENT
BEGIN:VEVENT
DTSTART;TZID=America/Chicago:20240817T120000
DTEND;TZID=America/Chicago:20240817T150000
DTSTAMP:20260423T015525
CREATED:20240723T040138Z
LAST-MODIFIED:20240724T015438Z
UID:2416-1723896000-1723906800@www.willcountydemocrats.com
SUMMARY:Let’s Picnic with the Democrats
DESCRIPTION:Join Homer\, Frankfort\, New Lenox\, Manhattan\, Crete\, and Monee Townships for a meet & greet with Democratic judges and candidates. \nThis is a FREE admissions family event.
URL:https://www.willcountydemocrats.com/event/lets-picnic-with-the-democrats/
LOCATION:Hickory Creek Junction Shelter\, 21063 Prestancia Drive\, Mokena\, IL\, United States
ATTACH;FMTTYPE=image/png:https://www.willcountydemocrats.com/wp-content/uploads/2024/07/TWP-FUN.png
END:VEVENT
BEGIN:VEVENT
DTSTART;TZID=America/Chicago:20240810T173000
DTEND;TZID=America/Chicago:20240810T213000
DTSTAMP:20260423T015525
CREATED:20240716T022301Z
LAST-MODIFIED:20240716T022301Z
UID:2407-1723311000-1723325400@www.willcountydemocrats.com
SUMMARY:Jen Fest: Fundraiser for Jennifer Lynch
DESCRIPTION:
URL:https://www.willcountydemocrats.com/event/jen-fest-fundraiser-for-jennifer-lynch/
LOCATION:912 Cassie Drive\, 912 Cassie Dr\, Joliet
ATTACH;FMTTYPE=image/jpeg:https://www.willcountydemocrats.com/wp-content/uploads/2024/07/JEN-FUN.jpg
END:VEVENT
BEGIN:VEVENT
DTSTART;TZID=America/Chicago:20240807T190000
DTEND;TZID=America/Chicago:20240807T200000
DTSTAMP:20260423T015525
CREATED:20240110T025741Z
LAST-MODIFIED:20240110T025741Z
UID:2146-1723057200-1723060800@www.willcountydemocrats.com
SUMMARY:Plainfield Township Democrats Meeting
DESCRIPTION:
URL:https://www.willcountydemocrats.com/event/plainfield-township-democrats-meeting-7/
LOCATION:Cemeno’s\, 1630 Essington Road\, Joliet\, IL\, United States
END:VEVENT
BEGIN:VEVENT
DTSTART;TZID=America/Chicago:20240801T170000
DTEND;TZID=America/Chicago:20240801T190000
DTSTAMP:20260423T015525
CREATED:20240711T042732Z
LAST-MODIFIED:20240722T163947Z
UID:2400-1722531600-1722538800@www.willcountydemocrats.com
SUMMARY:WCDCC Summer Fundraiser
DESCRIPTION:
URL:https://www.willcountydemocrats.com/event/wcdcc-summer-fundraiser/
LOCATION:Garage Band Brewing\, 15025 S Des Plaines St #1b\, Plainfield\, IL\, 60544\, United States
ATTACH;FMTTYPE=image/jpeg:https://www.willcountydemocrats.com/wp-content/uploads/2024/07/WCD-FUN.jpg
END:VEVENT
BEGIN:VEVENT
DTSTART;TZID=America/Chicago:20240731T170000
DTEND;TZID=America/Chicago:20240731T190000
DTSTAMP:20260423T015525
CREATED:20240508T184738Z
LAST-MODIFIED:20240625T000337Z
UID:2339-1722445200-1722452400@www.willcountydemocrats.com
SUMMARY:Fundraiser for Laurie Summers
DESCRIPTION:
URL:https://www.willcountydemocrats.com/event/save-the-date-fundraiser-for-laurie-summers/
LOCATION:El Primo\, 1827 Knapp St.\, Crest Hill\, Il\, 60403
ATTACH;FMTTYPE=image/jpeg:https://www.willcountydemocrats.com/wp-content/uploads/2024/05/LS-FUN.jpg
END:VEVENT
BEGIN:VEVENT
DTSTART;TZID=America/Chicago:20240728T120000
DTEND;TZID=America/Chicago:20240728T143000
DTSTAMP:20260423T015525
CREATED:20240727T154418Z
LAST-MODIFIED:20240727T154418Z
UID:2422-1722168000-1722177000@www.willcountydemocrats.com
SUMMARY:Kelly Hickey + Meta Mueller Day of Action
DESCRIPTION:
URL:https://www.willcountydemocrats.com/event/kelly-hickey-meta-mueller-day-of-action/
LOCATION:1515 Conan Doyle Rd\, 1515 Conan Doyle Rd\, Naperville\, Il
END:VEVENT
BEGIN:VEVENT
DTSTART;TZID=America/Chicago:20240725T170000
DTEND;TZID=America/Chicago:20240725T190000
DTSTAMP:20260423T015525
CREATED:20240613T222603Z
LAST-MODIFIED:20240613T222603Z
UID:2363-1721926800-1721934000@www.willcountydemocrats.com
SUMMARY:Fundraiser for Duffy Blackburn for Will County Auditor
DESCRIPTION:
URL:https://www.willcountydemocrats.com/event/fundraiser-for-duffy-blackburn-for-will-county-auditor/
LOCATION:Garage Band Brewing\, 15025 S Des Plaines St #1b\, Plainfield\, IL\, 60544\, United States
ATTACH;FMTTYPE=image/jpeg:https://www.willcountydemocrats.com/wp-content/uploads/2024/06/DUFF-FUN.jpg
END:VEVENT
BEGIN:VEVENT
DTSTART;TZID=America/Chicago:20240716T170000
DTEND;TZID=America/Chicago:20240716T190000
DTSTAMP:20260423T015526
CREATED:20240702T211409Z
LAST-MODIFIED:20240714T231726Z
UID:2391-1721149200-1721156400@www.willcountydemocrats.com
SUMMARY:Fundraiser for David Lozano and Dawn Bullock
DESCRIPTION:
URL:https://www.willcountydemocrats.com/event/fundraiser-for-david-lozano-and-dawn-bullock/
LOCATION:Realty Executives Success\, 700 W Jefferson St. Suite 201\, Shorewood\, Il
ATTACH;FMTTYPE=image/png:https://www.willcountydemocrats.com/wp-content/uploads/2024/07/IMG_0304.png
END:VEVENT
BEGIN:VEVENT
DTSTART;TZID=America/Chicago:20240715T180000
DTEND;TZID=America/Chicago:20240715T190000
DTSTAMP:20260423T015526
CREATED:20240109T025741Z
LAST-MODIFIED:20240109T025741Z
UID:2113-1721066400-1721070000@www.willcountydemocrats.com
SUMMARY:Lockport Township Democrats Meeting
DESCRIPTION:
URL:https://www.willcountydemocrats.com/event/lockport-township-democrats-meeting-3/
LOCATION:White Oak Library – Crest Hill\, 20670 City Center Blvd\, Crest HIll\, Il\, 60403
END:VEVENT
BEGIN:VEVENT
DTSTART;TZID=America/Chicago:20240711T173000
DTEND;TZID=America/Chicago:20240711T193000
DTSTAMP:20260423T015526
CREATED:20240625T174415Z
LAST-MODIFIED:20240625T174415Z
UID:2383-1720719000-1720726200@www.willcountydemocrats.com
SUMMARY:The Young Democrats of Will County Youth Empowerment Dinner & Awards
DESCRIPTION:
URL:https://www.willcountydemocrats.com/event/the-young-democrats-of-will-county-youth-empowerment-dinner-awards/
LOCATION:Coom’s Corner\, 1225 E. 9th St.\, Lockport\, IL\, 60441\, United States
ATTACH;FMTTYPE=image/jpeg:https://www.willcountydemocrats.com/wp-content/uploads/2024/06/WCYD-Dinner-2.jpg
END:VEVENT
BEGIN:VEVENT
DTSTART;TZID=America/Chicago:20240709T173000
DTEND;TZID=America/Chicago:20240709T203000
DTSTAMP:20260423T015526
CREATED:20240505T234323Z
LAST-MODIFIED:20240607T182435Z
UID:2329-1720546200-1720557000@www.willcountydemocrats.com
SUMMARY:WCDCC Slammers Fundraiser
DESCRIPTION:
URL:https://www.willcountydemocrats.com/event/wcdcc-slammers-fundraiser/
LOCATION:Joliet Slammers\, 1 Mayor Art Schultz Dr\, Joliet\, IL\, 60432\, United States
ATTACH;FMTTYPE=image/jpeg:https://www.willcountydemocrats.com/wp-content/uploads/2024/05/SLAMMERS-FUN.jpeg
END:VEVENT
BEGIN:VEVENT
DTSTART;TZID=America/Chicago:20240706T163000
DTEND;TZID=America/Chicago:20240706T193000
DTSTAMP:20260423T015526
CREATED:20240613T224549Z
LAST-MODIFIED:20240613T225551Z
UID:2366-1720283400-1720294200@www.willcountydemocrats.com
SUMMARY:Kelly Hickey: Brats and Brews Fundraiser
DESCRIPTION:RSVP here: https://secure.actblue.com/donate/bratsnbrews
URL:https://www.willcountydemocrats.com/event/kelly-hickey-brats-and-brews-fundraiser/
LOCATION:Riverview Farmstead\, Book Rd. South of Hassert Blvd/111th\, Naperville\, Il
ATTACH;FMTTYPE=image/jpeg:https://www.willcountydemocrats.com/wp-content/uploads/2024/06/KH-FUN2.jpg
END:VEVENT
BEGIN:VEVENT
DTSTART;TZID=America/Chicago:20240703T190000
DTEND;TZID=America/Chicago:20240703T200000
DTSTAMP:20260423T015526
CREATED:20240110T025703Z
LAST-MODIFIED:20240110T025703Z
UID:2144-1720033200-1720036800@www.willcountydemocrats.com
SUMMARY:Plainfield Township Democrats Meeting
DESCRIPTION:
URL:https://www.willcountydemocrats.com/event/plainfield-township-democrats-meeting-6/
LOCATION:Cemeno’s\, 1630 Essington Road\, Joliet\, IL\, United States
END:VEVENT
BEGIN:VEVENT
DTSTART;TZID=America/Chicago:20240628T180000
DTEND;TZID=America/Chicago:20240628T200000
DTSTAMP:20260423T015526
CREATED:20240625T174824Z
LAST-MODIFIED:20240625T174824Z
UID:2386-1719597600-1719604800@www.willcountydemocrats.com
SUMMARY:Young Democrats of Will County June Social
DESCRIPTION:
URL:https://www.willcountydemocrats.com/event/young-democrats-of-will-county-june-social/
LOCATION:Khaos Brewcade & Kitchen\, 12337 Il Rt. 59 Suite #155\, Plainfield\, Il\, 60585
ATTACH;FMTTYPE=image/jpeg:https://www.willcountydemocrats.com/wp-content/uploads/2024/06/WCYD-KHAOS.jpg
END:VEVENT
BEGIN:VEVENT
DTSTART;TZID=America/Chicago:20240626T180000
DTEND;TZID=America/Chicago:20240626T180000
DTSTAMP:20260423T015526
CREATED:20240614T202240Z
LAST-MODIFIED:20240614T202240Z
UID:2372-1719424800-1719424800@www.willcountydemocrats.com
SUMMARY:Billy Morgan General Election Kickoff
DESCRIPTION:
URL:https://www.willcountydemocrats.com/event/billy-morgan-general-election-kickoff/
LOCATION:Papa Luis\, 1301 Hamilton Ave\, University Park\, IL\, 60484\, United States
ATTACH;FMTTYPE=image/jpeg:https://www.willcountydemocrats.com/wp-content/uploads/2024/06/IMG-20240607-WA0001.jpg
END:VEVENT
END:VCALENDAR