BEGIN:VCALENDAR
VERSION:2.0
PRODID:-//Will County Democratic Party - ECPv6.15.20//NONSGML v1.0//EN
CALSCALE:GREGORIAN
METHOD:PUBLISH
X-WR-CALNAME:Will County Democratic Party
X-ORIGINAL-URL:https://www.willcountydemocrats.com
X-WR-CALDESC:Events for Will County Democratic Party
REFRESH-INTERVAL;VALUE=DURATION:PT1H
X-Robots-Tag:noindex
X-PUBLISHED-TTL:PT1H
BEGIN:VTIMEZONE
TZID:America/Chicago
BEGIN:DAYLIGHT
TZOFFSETFROM:-0600
TZOFFSETTO:-0500
TZNAME:CDT
DTSTART:20190310T080000
END:DAYLIGHT
BEGIN:STANDARD
TZOFFSETFROM:-0500
TZOFFSETTO:-0600
TZNAME:CST
DTSTART:20191103T070000
END:STANDARD
BEGIN:DAYLIGHT
TZOFFSETFROM:-0600
TZOFFSETTO:-0500
TZNAME:CDT
DTSTART:20200308T080000
END:DAYLIGHT
BEGIN:STANDARD
TZOFFSETFROM:-0500
TZOFFSETTO:-0600
TZNAME:CST
DTSTART:20201101T070000
END:STANDARD
BEGIN:DAYLIGHT
TZOFFSETFROM:-0600
TZOFFSETTO:-0500
TZNAME:CDT
DTSTART:20210314T080000
END:DAYLIGHT
BEGIN:STANDARD
TZOFFSETFROM:-0500
TZOFFSETTO:-0600
TZNAME:CST
DTSTART:20211107T070000
END:STANDARD
END:VTIMEZONE
BEGIN:VEVENT
DTSTART;TZID=America/Chicago:20200924T173000
DTEND;TZID=America/Chicago:20200924T190000
DTSTAMP:20260424T132354
CREATED:20200903T134858Z
LAST-MODIFIED:20200903T134858Z
UID:474-1600968600-1600974000@www.willcountydemocrats.com
SUMMARY:Meg Loughran Cappel Zoom Happy Hour Fundraiser
DESCRIPTION:Join us via Zoom on Thursday\, September 24 for a Zoom Happy Hour with Meg Loughran Cappel and our campaign team! You can click here to register for the event.  $35 admission preferred\, but all are welcome regardless of ability to pay. See you there!
URL:https://www.willcountydemocrats.com/event/meg-loughran-cappel-zoom-happy-hour-fundraiser/
LOCATION:Zoom
END:VEVENT
BEGIN:VEVENT
DTSTART;TZID=America/Chicago:20200922T190000
DTEND;TZID=America/Chicago:20200922T203000
DTSTAMP:20260424T132354
CREATED:20200908T184511Z
LAST-MODIFIED:20200908T184511Z
UID:533-1600801200-1600806600@www.willcountydemocrats.com
SUMMARY:Monee Democrats Monthly Meeting
DESCRIPTION:Our September meeting will be a joint meeting with the Crete Township Democrats and will take place at Monee Reservoir at 7:00pm. This meeting will be co-hosted with the Crete Township Dems. More information can be found at Monee Dems Facebook page.
URL:https://www.willcountydemocrats.com/event/monee-democrats-monthly-meeting/
LOCATION:Monee Reservoir\, 27341 South Ridgeland Ave\, Monee\, IL\, 60449\, United States
END:VEVENT
BEGIN:VEVENT
DTSTART;TZID=America/Chicago:20200921T190000
DTEND;TZID=America/Chicago:20200921T203000
DTSTAMP:20260424T132354
CREATED:20200908T185544Z
LAST-MODIFIED:20200908T185544Z
UID:541-1600714800-1600720200@www.willcountydemocrats.com
SUMMARY:DuPage Township Democrats Monthly Meeting
DESCRIPTION:DuPage Township Dems hold their monthly meetings on the 3rd Monday of every month. Because of COVID-19 the location of each meeting is subject to change and you should check their website the days leading up to the meetings for any changes.
URL:https://www.willcountydemocrats.com/event/dupage-township-democrats-monthly-meeting/
LOCATION:DuPage Dems Headquarters\, 684 West Boughton Road\, Bolingbrook\, IL\, 60440\, United States
ORGANIZER;CN="DuPage Township Democrats":MAILTO:chair@dupagetownshipdemocrats.com
END:VEVENT
BEGIN:VEVENT
DTSTART;TZID=America/Chicago:20200920T110000
DTEND;TZID=America/Chicago:20200920T140000
DTSTAMP:20260424T132354
CREATED:20200831T203134Z
LAST-MODIFIED:20200831T230135Z
UID:464-1600599600-1600610400@www.willcountydemocrats.com
SUMMARY:Janet Yang Rohr for the 41st House District - Virtual Scavenger Hunt
DESCRIPTION:Janet Yang Rohr\, candidate for State Representative of IL-41\, invites you to a virtual fundraiser hosted by State Senator Laura Ellman to support Janet and for the 41st and Ken Mejia-Beal’s campaign for State Representative of IL-42\, on Sunday\, September 20th from 11:00am to 2:00pm!\n\nThis is a fun virtual scavenger hunt in support of these two great Democratic candidates –  a great way to meet Janet\, other Democratic candidates and leaders\, and other Democratic voters and supporters in your community. Join us for a fun-filled virtual scavenger hunt with Janet\, Ken\, and Laura from the comfort of your home by donating here to purchase a ticket to benefit Janet!
URL:https://www.willcountydemocrats.com/event/janet-yang-rohr-for-the-41st-house-district-virtual-scavenger-hunt/
LOCATION:IL
END:VEVENT
BEGIN:VEVENT
DTSTART;TZID=America/Chicago:20200917T063000
DTEND;TZID=America/Chicago:20200917T193000
DTSTAMP:20260424T132354
CREATED:20200908T191011Z
LAST-MODIFIED:20200908T191011Z
UID:555-1600324200-1600371000@www.willcountydemocrats.com
SUMMARY:New Lenox Township Democrats Monthly Meeting
DESCRIPTION:NLTDO meets every 3rd Thursday of the month at rotating locations. To learn where this months meeting is and more visit their Facebook page.
URL:https://www.willcountydemocrats.com/event/new-lenox-township-democrats-monthly-meeting/
LOCATION:IL
ORGANIZER;CN="New Lenox Township Democratic Organization":MAILTO:newlenoxdemocrats@gmail.com
END:VEVENT
BEGIN:VEVENT
DTSTART;TZID=America/Chicago:20200916T190000
DTEND;TZID=America/Chicago:20200916T200000
DTSTAMP:20260424T132354
CREATED:20200908T191228Z
LAST-MODIFIED:20200908T191228Z
UID:557-1600282800-1600286400@www.willcountydemocrats.com
SUMMARY:Troy Township Democrats Monthly Meeting
DESCRIPTION:The Troy Township Democrats meet on the 3rd Wednesday of the month at Mark’s on 59 at 7:00 P.M. More information can be found on their website.
URL:https://www.willcountydemocrats.com/event/troy-township-democrats-monthly-meeting/
LOCATION:Mark’s on 59\, 714 Cottage Street\, Shorewood\, IL\, 60404\, United States
ORGANIZER;CN="Troy Township Democrats":MAILTO:Chairman@trChairman@troytownshipdemocrats.com
END:VEVENT
BEGIN:VEVENT
DTSTART;TZID=America/Chicago:20200916T180000
DTEND;TZID=America/Chicago:20200916T190000
DTSTAMP:20260424T132354
CREATED:20200903T142320Z
LAST-MODIFIED:20200903T142320Z
UID:481-1600279200-1600282800@www.willcountydemocrats.com
SUMMARY:Dani Brzozowski Criminal Justice Townhall
DESCRIPTION:Come join Dani for a discussion with State’s Attorney candidates Anna Wilhelmi and Paul Carpenter about Criminal Justice. You can learn more and watch the event on Dani’s Facebook Page.
URL:https://www.willcountydemocrats.com/event/dani-brzozowski-criminal-justice-townhall/
LOCATION:Facebook Live
END:VEVENT
BEGIN:VEVENT
DTSTART;TZID=America/Chicago:20200912T120000
DTEND;TZID=America/Chicago:20200912T143000
DTSTAMP:20260424T132354
CREATED:20200908T190734Z
LAST-MODIFIED:20200908T190734Z
UID:549-1599912000-1599921000@www.willcountydemocrats.com
SUMMARY:NLTDO Literature Drop
DESCRIPTION:Join us on Saturday to spread the word on how we plan to save Democracy through voting by mail\, voting early and reintroducing our candidates. WE WILL ENGAGE the voters of New Lenox and help to make positive change for working people. Let’s do this. How much time are you willing to give? Delivery of literature to doorsteps only. Learn more about this event at NLTDO’s Facebook page.
URL:https://www.willcountydemocrats.com/event/nltdo-literature-drop/
LOCATION:Lion’s Den\, 520 South Cedar Road\, New Lenox\, IL\, 60451\, United States
ORGANIZER;CN="New Lenox Township Democratic Organization":MAILTO:newlenoxdemocrats@gmail.com
END:VEVENT
BEGIN:VEVENT
DTSTART;TZID=America/Chicago:20200910T190000
DTEND;TZID=America/Chicago:20200910T200000
DTSTAMP:20260424T132354
CREATED:20200908T184934Z
LAST-MODIFIED:20200908T184934Z
UID:537-1599764400-1599768000@www.willcountydemocrats.com
SUMMARY:Senator Ellman: Energy Policy Webinar
DESCRIPTION:Join Citizens Utility Board (CUB)\, State Senator Laura Ellman\, and the Illinois Environmental Council (IEC) for a free Energy Savings Webinar on Facebook Live! Visit the Senator’s Facebook Page at 7pm on Thursday September 10 to view & participate! You can learn more about the event at DuPage Democrat’s Facebook page.
URL:https://www.willcountydemocrats.com/event/senator-ellman-energy-policy-webinar/
LOCATION:Facebook Live
ORGANIZER;CN="DuPage Township Democrats":MAILTO:chair@dupagetownshipdemocrats.com
END:VEVENT
BEGIN:VEVENT
DTSTART;TZID=America/Chicago:20200909T190000
DTEND;TZID=America/Chicago:20200909T210000
DTSTAMP:20260424T132354
CREATED:20200903T142840Z
LAST-MODIFIED:20200903T142840Z
UID:487-1599678000-1599685200@www.willcountydemocrats.com
SUMMARY:Learn\, Sip and Plant with Dagmara "Dee" Avelar
DESCRIPTION:We are proud to host this event at The Sacred Succulent a local Plant Bar where we will learn to pot our own succulent to take home with us! This virtual event will include a 45-minute class on succulents and how to pot them into a beautiful arrangement. Each attendee will receive a personalized succulent / cacti kit to follow along on the class and we will engage on a great conversation about our environment and get to meet Dagmara.\nCan’t wait to see you there! You can register for the event here.
URL:https://www.willcountydemocrats.com/event/learn-sip-and-plant-with-dagmara-dee-avelar/
LOCATION:Zoom
END:VEVENT
BEGIN:VEVENT
DTSTART;TZID=America/Chicago:20200908T180000
DTEND;TZID=America/Chicago:20200908T190000
DTSTAMP:20260424T132354
CREATED:20200903T143107Z
LAST-MODIFIED:20200903T143107Z
UID:494-1599588000-1599591600@www.willcountydemocrats.com
SUMMARY:Dani Brzozowski Roundtable on Veterans Issues with Common Defense
DESCRIPTION:Come join Dani and members of Common Defense as they discuss Veterans’ issues and federal policy. The event can be see on Dani’s Facebook page.
URL:https://www.willcountydemocrats.com/event/dani-brzozowski-roundtable-on-veterans-issues-with-common-defense/
LOCATION:Facebook Live
END:VEVENT
BEGIN:VEVENT
DTSTART;TZID=America/Chicago:20200906T120000
DTEND;TZID=America/Chicago:20200906T160000
DTSTAMP:20260424T132354
CREATED:20200903T143435Z
LAST-MODIFIED:20200903T143435Z
UID:498-1599393600-1599408000@www.willcountydemocrats.com
SUMMARY:Michelle Fadeley Zoom Phone Bank
DESCRIPTION:Join us for a phone bank this Sunday! We will be making calls from 12:00 pm – 4:00 pm! You can sign up for the event here.
URL:https://www.willcountydemocrats.com/event/michelle-fadeley-zoom-phone-bank/
LOCATION:Virtual Phone Bank
END:VEVENT
BEGIN:VEVENT
DTSTART;TZID=America/Chicago:20200905T110000
DTEND;TZID=America/Chicago:20200905T190000
DTSTAMP:20260424T132354
CREATED:20200903T143737Z
LAST-MODIFIED:20200903T143737Z
UID:507-1599303600-1599332400@www.willcountydemocrats.com
SUMMARY:Meg Loughran Cappel Day of Action with Harry Benton
DESCRIPTION:Come join us for a day of action with candidate for 97th House District\, Harry Benton. We will be practicing social distancing and wearing PPE\, we hope to see you all there. More information about the event can be found on Meg’s Facebook Page.
URL:https://www.willcountydemocrats.com/event/meg-loughran-cappel-day-of-action-with-harry-benton/
LOCATION:Meg Cappel for IL Senate 49th Campaign Office\, 1924 Plainfield Road\, Crest Hill\, IL\, 60403\, United States
END:VEVENT
BEGIN:VEVENT
DTSTART;TZID=America/Chicago:20200905T100000
DTEND;TZID=America/Chicago:20200905T170000
DTSTAMP:20260424T132354
CREATED:20200903T144027Z
LAST-MODIFIED:20200903T144027Z
UID:511-1599300000-1599325200@www.willcountydemocrats.com
SUMMARY:Michelle Fadeley Day of Action
DESCRIPTION:We have less than 9 weekends until election day! We need your help to reach as many voters as possible!\nWe will be dropping literature (contactless) with masks on to likely voters. Please remember to maintain social distancing upon arrival\, and wear your masks! You can sign up for the event here.
URL:https://www.willcountydemocrats.com/event/michelle-fadeley-day-of-action/
LOCATION:Starbucks\, 20811 S La Grange Rd\, Frankfort\, IL\, 60423\, United States
END:VEVENT
BEGIN:VEVENT
DTSTART;TZID=America/Chicago:20200905T100000
DTEND;TZID=America/Chicago:20200905T120000
DTSTAMP:20260424T132354
CREATED:20200903T144259Z
LAST-MODIFIED:20200903T144259Z
UID:515-1599300000-1599307200@www.willcountydemocrats.com
SUMMARY:Marie Newman Virtual Phone Bank
DESCRIPTION:Marie Newman for Congress virtual phone bank. Join from anywhere! Hosted every Saturday at 10:00 am. You can learn more information at Marie’s website.
URL:https://www.willcountydemocrats.com/event/marie-newman-virtual-phone-bank/
LOCATION:Virtual
END:VEVENT
BEGIN:VEVENT
DTSTART;TZID=America/Chicago:20200903T190000
DTEND;TZID=America/Chicago:20200903T200000
DTSTAMP:20260424T132354
CREATED:20200903T144554Z
LAST-MODIFIED:20200903T144554Z
UID:521-1599159600-1599163200@www.willcountydemocrats.com
SUMMARY:CandiDATE with Michelle Fadeley
DESCRIPTION:Join the Will County Democratic Central Committee for a CandiDATE with Michelle Fadeley\, candidate for the 37th state House district. Find out about Michelle’s background in advocacy\, her race in the 37th and how YOU can help this dynamic candidate flip this district BLUE! More information can be found here.
URL:https://www.willcountydemocrats.com/event/candidate-with-michelle-fadeley/
LOCATION:Facebook Live
END:VEVENT
BEGIN:VEVENT
DTSTART;TZID=America/Chicago:20200903T180000
DTEND;TZID=America/Chicago:20200903T190000
DTSTAMP:20260424T132354
CREATED:20200903T144842Z
LAST-MODIFIED:20200903T144842Z
UID:525-1599156000-1599159600@www.willcountydemocrats.com
SUMMARY:Dani Brzozowski Virtual Fundraiser
DESCRIPTION:Come join Dani and her team for a virtual fundraiser! To learn more about the event and how to register you can visit Dani’s Facebook page.
URL:https://www.willcountydemocrats.com/event/dani-brzozowski-virtual-fundraiser/
LOCATION:Zoom
END:VEVENT
BEGIN:VEVENT
DTSTART;TZID=America/Chicago:20200902T190000
DTEND;TZID=America/Chicago:20200902T203000
DTSTAMP:20260424T132354
CREATED:20200831T180624Z
LAST-MODIFIED:20200831T180624Z
UID:462-1599073200-1599078600@www.willcountydemocrats.com
SUMMARY:Plainfield Township Monthly Meeting
DESCRIPTION:The Plainfield Township Democratic Organization Business Meeting will\ntake place on Wednesday\, September 2nd\, 2020 monthly Business Meeting via ZOOM\nstarting around 7pm. \nPlease contact info@plainfielddemocrats.org if you would like to attend. \nInvited Officials\, Candidates and Campaigns\, please understand these\nlimitations and you are REQUESTED to contact Chairman Kevin Clancy with\nyour acceptance at 815.258.9976 and please inform him of whom is desiring\nto address the assembled Plainfield Township Democratic Organization. \nWe remind those addressing the group to please keep their address brief\nwith a 3 minute time allotment and to please keep the subject related to\nthe upcoming campaign and what is requested of Precinct Committeepersons. \nIf you feel someone should be in attendance\, please contact Chairman Kevin\nClancy at 815.258.9976 or kevinc53@comcast.net or have the individual\ncontact Chairman Clancy directly. \nIf there are any questions\, concerns or a subject for discussion\, please\ncontact 1st Vice Chairman Kevin Clancy at 815.258.9976. \nWe hope to see everyone next Wednesday evening\, September 2nd\, with login\nbegining at or shortly before 7pm as the Facilitator opens the Zoom\nMeeting Room. \nStay safe!! \nThe Plainfield Township Democratic Organization Leadership Team
URL:https://www.willcountydemocrats.com/event/plainfield-township-monthly-meeting/
LOCATION:IL
END:VEVENT
BEGIN:VEVENT
DTSTART;TZID=America/Chicago:20200831T190000
DTEND;TZID=America/Chicago:20200831T203000
DTSTAMP:20260424T132354
CREATED:20200720T182951Z
LAST-MODIFIED:20200821T212309Z
UID:317-1598900400-1598905800@www.willcountydemocrats.com
SUMMARY:Wheatland Township Democratic Organization: Monthly Meeting
DESCRIPTION:The Wheatland Township Dems meet the last Monday of the month at 7 pm. Due to COVID-19 Wheatland Democrats will be hosting their monthly meetings on Zoom until further notice. To get access to this and any other monthly Zoom meetings please email Wheatland Democrats at members@wheatlanddemocrats.org
URL:https://www.willcountydemocrats.com/event/wheatland-township-democratic-organization-monthly-meeting-2/
LOCATION:Zoom
ORGANIZER;CN="Wheatland Township Democrats":MAILTO:members@wheatlanddemocrats.org
END:VEVENT
BEGIN:VEVENT
DTSTART;TZID=America/Chicago:20200820T183000
DTEND;TZID=America/Chicago:20200820T193000
DTSTAMP:20260424T132354
CREATED:20200720T175904Z
LAST-MODIFIED:20200903T131807Z
UID:292-1597948200-1597951800@www.willcountydemocrats.com
SUMMARY:New Lenox Township Democratic Organization: Monthly Meeting
DESCRIPTION:NLTDO meets every third Thursday of the month from 6:30 – 7:30 at various locations. Due to COVID-19 meetings are being held online until further notice. You can sign up to attend here\, and registration is required to attend.
URL:https://www.willcountydemocrats.com/event/new-lenox-township-organization-monthly-meeting/
LOCATION:Zoom
ORGANIZER;CN="New Lenox Township Democratic Organization":MAILTO:newlenoxdemocrats@gmail.com
END:VEVENT
BEGIN:VEVENT
DTSTART;TZID=America/Chicago:20200819T190000
DTEND;TZID=America/Chicago:20200819T200000
DTSTAMP:20260424T132354
CREATED:20200720T181642Z
LAST-MODIFIED:20200720T181642Z
UID:295-1597863600-1597867200@www.willcountydemocrats.com
SUMMARY:Troy Township Democratic Organization: Monthly Meeting
DESCRIPTION:The Troy Township Democrats meet on the third Wednesday of the month at Mark’s on 59 at 7:00pm (location subject to change because of COVID-19). Check their website for updates on where meetings will be held. \n 
URL:https://www.willcountydemocrats.com/event/troy-township-democratic-organization-monthly-meeting/
LOCATION:Mark’s on 59\, 714 Cottage Street\, Shorewood\, IL\, 60404\, United States
ORGANIZER;CN="Troy Township Democrats":MAILTO:Chairman@troytownshipdemocrats.com
END:VEVENT
BEGIN:VEVENT
DTSTART;TZID=America/Chicago:20200817T183000
DTEND;TZID=America/Chicago:20200817T212000
DTSTAMP:20260424T132354
CREATED:20200720T172416Z
LAST-MODIFIED:20200720T172416Z
UID:281-1597689000-1597699200@www.willcountydemocrats.com
SUMMARY:DuPage Township Democratic Organization: Monthly Meeting
DESCRIPTION:DuPage Democrats meet on the third Monday of each month. Monthly meetings are now taking place on zoom because of COVID-19 until further notice. Please join them for their monthly meeting here\, starting at 6:30pm on August 17th.
URL:https://www.willcountydemocrats.com/event/dupage-township-democratic-organization-monthly-meeting-2/
LOCATION:Zoom
ORGANIZER;CN="DuPage Township Democrats":MAILTO:chair@dupagetownshipdemocrats.com
END:VEVENT
BEGIN:VEVENT
DTSTART;TZID=America/Chicago:20200804T183000
DTEND;TZID=America/Chicago:20200804T200000
DTSTAMP:20260424T132354
CREATED:20200720T184743Z
LAST-MODIFIED:20200720T185246Z
UID:319-1596565800-1596571200@www.willcountydemocrats.com
SUMMARY:Frankfort Township Democratic Organization: Monthly Meeting
DESCRIPTION:Frankfort Democrats hold their monthly meetings on the first Tuesday of every month. Due to COVID-19 meetings are being held online and specifics on how to participate can be found on their Facebook page.
URL:https://www.willcountydemocrats.com/event/frankfort-township-democratic-organization-monthly-meeting/
LOCATION:Zoom
ORGANIZER;CN="Frankfort Township Democrats":MAILTO:frankforttwpdems@gmail.com
END:VEVENT
BEGIN:VEVENT
DTSTART;TZID=America/Chicago:20200803T190000
DTEND;TZID=America/Chicago:20200803T210000
DTSTAMP:20260424T132354
CREATED:20200731T021917Z
LAST-MODIFIED:20200731T021917Z
UID:441-1596481200-1596488400@www.willcountydemocrats.com
SUMMARY:Will County Democratic Central Committee August Meeting
DESCRIPTION:Join us on Monday\, August 3 at 7 PM for our monthly Zoom meeting. Registration is required! After the business portion of the meeting\, candidates can give brief updates about their campaigns. Candidates or staff members can contact info@willcountydemocrats.com to confirm attendance.
URL:https://www.willcountydemocrats.com/event/will-county-democratic-central-committee-august-meeting/
LOCATION:IL
END:VEVENT
BEGIN:VEVENT
DTSTART;TZID=America/Chicago:20200728T190000
DTEND;TZID=America/Chicago:20200728T200000
DTSTAMP:20260424T132354
CREATED:20200721T153644Z
LAST-MODIFIED:20200721T153644Z
UID:348-1595962800-1595966400@www.willcountydemocrats.com
SUMMARY:Monee Township Democratic Organization: Monthly Meeting
DESCRIPTION:Monee Democrats meet on the fourth Monday of every month at 7:00pm. Due to COVID-19\, meetings will be held on Zoom until further notice. Information on how to join the call can be found on their Facebook page.
URL:https://www.willcountydemocrats.com/event/monee-township-democratic-organization-monthly-meeting/
LOCATION:Zoom
END:VEVENT
BEGIN:VEVENT
DTSTART;TZID=America/Chicago:20200727T190000
DTEND;TZID=America/Chicago:20200727T203000
DTSTAMP:20260424T132354
CREATED:20200720T182708Z
LAST-MODIFIED:20200720T183045Z
UID:311-1595876400-1595881800@www.willcountydemocrats.com
SUMMARY:Wheatland Township Democratic Organization: Monthly Meeting
DESCRIPTION:Due to COVID-19 Wheatland Democrats will be hosting their monthly meetings on Zoom until further notice. To get access to this and any other monthly Zoom meetings please email Wheatland Democrats at members@wheatlanddemocrats.org
URL:https://www.willcountydemocrats.com/event/wheatland-township-democratic-organization-monthly-meeting/
LOCATION:Zoom
ORGANIZER;CN="Wheatland Township Democrats":MAILTO:members@wheatlanddemocrats.org
END:VEVENT
BEGIN:VEVENT
DTSTART;TZID=America/Chicago:20200720T183000
DTEND;TZID=America/Chicago:20200720T212000
DTSTAMP:20260424T132354
CREATED:20200720T171236Z
LAST-MODIFIED:20200720T183030Z
UID:268-1595269800-1595280000@www.willcountydemocrats.com
SUMMARY:DuPage Township Democratic Organization: Monthly Meeting
DESCRIPTION:DuPage Democrats meet on the third Monday of each month. Monthly meetings are now taking place on zoom because of COVID-19 until further notice. Please join them for their monthly meeting here\, starting at 6:30pm on July 20th.
URL:https://www.willcountydemocrats.com/event/dupage-township-democratic-organization-monthly-meeting/
LOCATION:Zoom Meeting\, https://zoom.us/j/98237271304
ORGANIZER;CN="DuPage Township Democrats":MAILTO:chair@dupagetownshipdemocrats.com
END:VEVENT
END:VCALENDAR