BEGIN:VCALENDAR
VERSION:2.0
PRODID:-//Will County Democratic Party - ECPv6.15.20//NONSGML v1.0//EN
CALSCALE:GREGORIAN
METHOD:PUBLISH
X-WR-CALNAME:Will County Democratic Party
X-ORIGINAL-URL:https://www.willcountydemocrats.com
X-WR-CALDESC:Events for Will County Democratic Party
REFRESH-INTERVAL;VALUE=DURATION:PT1H
X-Robots-Tag:noindex
X-PUBLISHED-TTL:PT1H
BEGIN:VTIMEZONE
TZID:America/Chicago
BEGIN:DAYLIGHT
TZOFFSETFROM:-0600
TZOFFSETTO:-0500
TZNAME:CDT
DTSTART:20240310T080000
END:DAYLIGHT
BEGIN:STANDARD
TZOFFSETFROM:-0500
TZOFFSETTO:-0600
TZNAME:CST
DTSTART:20241103T070000
END:STANDARD
BEGIN:DAYLIGHT
TZOFFSETFROM:-0600
TZOFFSETTO:-0500
TZNAME:CDT
DTSTART:20250309T080000
END:DAYLIGHT
BEGIN:STANDARD
TZOFFSETFROM:-0500
TZOFFSETTO:-0600
TZNAME:CST
DTSTART:20251102T070000
END:STANDARD
BEGIN:DAYLIGHT
TZOFFSETFROM:-0600
TZOFFSETTO:-0500
TZNAME:CDT
DTSTART:20260308T080000
END:DAYLIGHT
BEGIN:STANDARD
TZOFFSETFROM:-0500
TZOFFSETTO:-0600
TZNAME:CST
DTSTART:20261101T070000
END:STANDARD
END:VTIMEZONE
BEGIN:VEVENT
DTSTART;TZID=America/Chicago:20251020T170000
DTEND;TZID=America/Chicago:20251020T190000
DTSTAMP:20260422T175543
CREATED:20250925T145142Z
LAST-MODIFIED:20251004T171926Z
UID:4022-1760979600-1760986800@www.willcountydemocrats.com
SUMMARY:Fundraiser for Tim Brophy for Will County Treasurer
DESCRIPTION:
URL:https://www.willcountydemocrats.com/event/fundraiser-for-tim-brophy-for-will-county-treasurer/
LOCATION:Plumbers Local 130\, 2114 S. I-80 Frontage Rd\, Joliet\, IL\, 60436\, United States
ATTACH;FMTTYPE=image/png:https://www.willcountydemocrats.com/wp-content/uploads/2025/09/IMG_4834.png
END:VEVENT
BEGIN:VEVENT
DTSTART;TZID=America/Chicago:20251020T180000
DTEND;TZID=America/Chicago:20251020T190000
DTSTAMP:20260422T175543
CREATED:20250905T060639Z
LAST-MODIFIED:20251020T153110Z
UID:3963-1760983200-1760986800@www.willcountydemocrats.com
SUMMARY:Lockport Township Democrats Meeting
DESCRIPTION:
URL:https://www.willcountydemocrats.com/event/lockport-township-democrats-meeting-13/
LOCATION:White Oak Library – Lockport\, 121 E 8th Street\, Lockport\, Il\, 60441
END:VEVENT
BEGIN:VEVENT
DTSTART;TZID=America/Chicago:20251021T170000
DTEND;TZID=America/Chicago:20251021T190000
DTSTAMP:20260422T175543
CREATED:20250930T202303Z
LAST-MODIFIED:20250930T202443Z
UID:4037-1761066000-1761073200@www.willcountydemocrats.com
SUMMARY:Senator Meg Loughran Cappel Oktoberfest Fundraiser
DESCRIPTION:
URL:https://www.willcountydemocrats.com/event/senator-meg-loughran-cappel-oktoberfest-fundraiser/
LOCATION:Garage Band Brewing\, 15025 S Des Plaines St #1b\, Plainfield\, IL\, 60544\, United States
ATTACH;FMTTYPE=image/jpeg:https://www.willcountydemocrats.com/wp-content/uploads/2025/09/CAPPEL-OKT.jpeg
END:VEVENT
BEGIN:VEVENT
DTSTART;TZID=America/Chicago:20251022T170000
DTEND;TZID=America/Chicago:20251022T210000
DTSTAMP:20260422T175543
CREATED:20251008T021533Z
LAST-MODIFIED:20251008T021533Z
UID:4056-1761152400-1761166800@www.willcountydemocrats.com
SUMMARY:Fundraiser for Dan Jungles for Sheriff
DESCRIPTION:
URL:https://www.willcountydemocrats.com/event/fundraiser-for-dan-jungles-for-sheriff/
ATTACH;FMTTYPE=image/jpeg:https://www.willcountydemocrats.com/wp-content/uploads/2025/10/IMG_0993.jpeg
END:VEVENT
BEGIN:VEVENT
DTSTART;TZID=America/Chicago:20251023T170000
DTEND;TZID=America/Chicago:20251023T190000
DTSTAMP:20260422T175543
CREATED:20250903T210553Z
LAST-MODIFIED:20250918T235239Z
UID:3945-1761238800-1761246000@www.willcountydemocrats.com
SUMMARY:Fundraiser for Joe VanDuyne
DESCRIPTION:
URL:https://www.willcountydemocrats.com/event/save-the-date-fundrasier-for-joe-vanduyne/
LOCATION:Garage on Water Sports Bar\, 116 S. Water St.\, Wilmington\, Il
ATTACH;FMTTYPE=image/jpeg:https://www.willcountydemocrats.com/wp-content/uploads/2025/09/JVD-FUN.jpeg
END:VEVENT
BEGIN:VEVENT
DTSTART;TZID=America/Chicago:20251025T120000
DTEND;TZID=America/Chicago:20251025T150000
DTSTAMP:20260422T175543
CREATED:20250925T153448Z
LAST-MODIFIED:20250925T153448Z
UID:4028-1761393600-1761404400@www.willcountydemocrats.com
SUMMARY:BBQ Party with the Young Democrats of Will County
DESCRIPTION:
URL:https://www.willcountydemocrats.com/event/bbq-party-with-the-young-democrats-of-will-county/
LOCATION:Noah’s House\, 2242 Root St.\, Crest Hill\, Il\, 60403
ATTACH;FMTTYPE=image/jpeg:https://www.willcountydemocrats.com/wp-content/uploads/2025/09/BBQ-WCYD.jpg
END:VEVENT
BEGIN:VEVENT
DTSTART;TZID=America/Chicago:20251025T160000
DTEND;TZID=America/Chicago:20251025T180000
DTSTAMP:20260422T175543
CREATED:20251024T155210Z
LAST-MODIFIED:20251024T155210Z
UID:4082-1761408000-1761415200@www.willcountydemocrats.com
SUMMARY:Will County Democrats & Senator Cappel: Petition Pickup & Notary Night
DESCRIPTION:
URL:https://www.willcountydemocrats.com/event/will-county-democrats-senator-cappel-petition-pickup-notary-night/
LOCATION:1924 Plainfield Rd\, Crest Hill\, IL 60403\, 1924 Plainfield Rd\, Crest Hill\, IL\, 60403\, United States
ATTACH;FMTTYPE=image/jpeg:https://www.willcountydemocrats.com/wp-content/uploads/2025/10/WCD-MC-PET.jpeg
END:VEVENT
BEGIN:VEVENT
DTSTART;TZID=America/Chicago:20251027T190000
DTEND;TZID=America/Chicago:20251027T200000
DTSTAMP:20260422T175543
CREATED:20250421T164654Z
LAST-MODIFIED:20250421T164654Z
UID:3792-1761591600-1761595200@www.willcountydemocrats.com
SUMMARY:Wheatland Township Democrats Meeting
DESCRIPTION:
URL:https://www.willcountydemocrats.com/event/wheatland-township-democrats-meeting-6/
END:VEVENT
BEGIN:VEVENT
DTSTART;TZID=America/Chicago:20251027T190000
DTEND;TZID=America/Chicago:20251027T200000
DTSTAMP:20260422T175543
CREATED:20250421T165439Z
LAST-MODIFIED:20250421T165439Z
UID:3808-1761591600-1761595200@www.willcountydemocrats.com
SUMMARY:Monee Township Democrats Meeting
DESCRIPTION:
URL:https://www.willcountydemocrats.com/event/monee-township-democrats-meeting-7/
LOCATION:Village Inn Bar & Grill\, 5355 W. Main Street\, Monee\, Il\, 60449
END:VEVENT
BEGIN:VEVENT
DTSTART;TZID=America/Chicago:20251104T180000
DTEND;TZID=America/Chicago:20251104T200000
DTSTAMP:20260422T175543
CREATED:20250918T031504Z
LAST-MODIFIED:20251004T220911Z
UID:4010-1762279200-1762286400@www.willcountydemocrats.com
SUMMARY:Fundraiser for Sherry Newquist - Will County Board District 3
DESCRIPTION:Tickets here: https://secure.actblue.com/donate/sherry102125?refcode=ab_qr_code&utm_source=qr_code \n 
URL:https://www.willcountydemocrats.com/event/fundraiser-for-sherry-newquist-will-county-board-district-3/
LOCATION:Vintage Oak\, 1392 Main Street\, Crete\, IL\, 60417\, United States
ATTACH;FMTTYPE=image/jpeg:https://www.willcountydemocrats.com/wp-content/uploads/2025/09/IMG_4506.jpeg
END:VEVENT
BEGIN:VEVENT
DTSTART;TZID=America/Chicago:20251105T170000
DTEND;TZID=America/Chicago:20251105T190000
DTSTAMP:20260422T175543
CREATED:20251001T033243Z
LAST-MODIFIED:20251001T033243Z
UID:4040-1762362000-1762369200@www.willcountydemocrats.com
SUMMARY:Pasta Palooza! Friends and Family Fundraiser with Rep. Natalie Manley
DESCRIPTION:
URL:https://www.willcountydemocrats.com/event/pasta-palooza-friends-and-family-fundraiser-with-rep-natalie-manley/
LOCATION:On the Rocks – Joliet\, 1500 Essington Rd\, Joliet\, Il
ATTACH;FMTTYPE=image/png:https://www.willcountydemocrats.com/wp-content/uploads/2025/09/NM-PASTA.png
END:VEVENT
BEGIN:VEVENT
DTSTART;TZID=America/Chicago:20251105T190000
DTEND;TZID=America/Chicago:20251105T190000
DTSTAMP:20260422T175543
CREATED:20241210T231756Z
LAST-MODIFIED:20241210T231756Z
UID:3613-1762369200-1762369200@www.willcountydemocrats.com
SUMMARY:Plainfield Township Democrats Meeting
DESCRIPTION:
URL:https://www.willcountydemocrats.com/event/plainfield-township-democrats-meeting-21/
LOCATION:Cemeno’s\, 1630 Essington Road\, Joliet\, IL\, United States
END:VEVENT
BEGIN:VEVENT
DTSTART;TZID=America/Chicago:20251108T130000
DTEND;TZID=America/Chicago:20251108T160000
DTSTAMP:20260422T175543
CREATED:20251103T172605Z
LAST-MODIFIED:20251103T172605Z
UID:4089-1762606800-1762617600@www.willcountydemocrats.com
SUMMARY:Jared Ploger for Il House District 84 Campaign Kick-Off
DESCRIPTION:
URL:https://www.willcountydemocrats.com/event/jared-ploger-for-il-house-district-84-campaign-kick-off/
LOCATION:The Lakewood Valley Clubhouse\, 2529 Dickens Dr.\, Aurora\, Il\, 60503
ATTACH;FMTTYPE=image/png:https://www.willcountydemocrats.com/wp-content/uploads/2025/11/JP-HOUSE.png
END:VEVENT
BEGIN:VEVENT
DTSTART;TZID=America/Chicago:20251110T170000
DTEND;TZID=America/Chicago:20251110T190000
DTSTAMP:20260422T175543
CREATED:20251023T011228Z
LAST-MODIFIED:20251023T011228Z
UID:4079-1762794000-1762801200@www.willcountydemocrats.com
SUMMARY:Fundraiser for Mica Freeman
DESCRIPTION:
URL:https://www.willcountydemocrats.com/event/fundraiser-for-mica-freeman-2/
LOCATION:Black Dog Vinyl Cafe\, 16108 Illinois Rte 5\, Plainfield\, IL\, 60586\, United States
ATTACH;FMTTYPE=image/jpeg:https://www.willcountydemocrats.com/wp-content/uploads/2025/10/IMG_4785.jpeg
END:VEVENT
BEGIN:VEVENT
DTSTART;TZID=America/Chicago:20251112T170000
DTEND;TZID=America/Chicago:20251112T190000
DTSTAMP:20260422T175543
CREATED:20251018T215259Z
LAST-MODIFIED:20251018T215314Z
UID:4076-1762966800-1762974000@www.willcountydemocrats.com
SUMMARY:Frankfort Township Democrats: Friends of Labor Meet & Greet Fundraiser
DESCRIPTION:Tickets HERE
URL:https://www.willcountydemocrats.com/event/frankfort-township-democrats-friends-of-labor-meet-greet-fundraiser/
LOCATION:El Cortez\, 191st St.\, Mokena\, Il\, 60448
ATTACH;FMTTYPE=image/jpeg:https://www.willcountydemocrats.com/wp-content/uploads/2025/10/IMG_4727.jpeg
END:VEVENT
BEGIN:VEVENT
DTSTART;TZID=America/Chicago:20251117T180000
DTEND;TZID=America/Chicago:20251117T190000
DTSTAMP:20260422T175543
CREATED:20250905T060704Z
LAST-MODIFIED:20250905T060704Z
UID:3965-1763402400-1763406000@www.willcountydemocrats.com
SUMMARY:Lockport Township Democrats Meeting
DESCRIPTION:
URL:https://www.willcountydemocrats.com/event/lockport-township-democrats-meeting-14/
LOCATION:White Oak Library – Crest Hill\, 20670 City Center Blvd\, Crest HIll\, Il\, 60403
END:VEVENT
BEGIN:VEVENT
DTSTART;TZID=America/Chicago:20251118T180000
DTEND;TZID=America/Chicago:20251118T190000
DTSTAMP:20260422T175543
CREATED:20250621T210241Z
LAST-MODIFIED:20250621T210241Z
UID:3892-1763488800-1763492400@www.willcountydemocrats.com
SUMMARY:Homer Township Democrat Meeting
DESCRIPTION:Email homertownshipdems@gmail.com for location.
URL:https://www.willcountydemocrats.com/event/homer-township-democrat-meeting/
END:VEVENT
BEGIN:VEVENT
DTSTART;TZID=America/Chicago:20251119T170000
DTEND;TZID=America/Chicago:20251119T200000
DTSTAMP:20260422T175543
CREATED:20251119T025943Z
LAST-MODIFIED:20251119T025943Z
UID:4113-1763571600-1763582400@www.willcountydemocrats.com
SUMMARY:Bob Howard for Will County Board District 2 Campaign Kickoff
DESCRIPTION:Tickets: HERE
URL:https://www.willcountydemocrats.com/event/bob-howard-for-will-county-board-district-2-campaign-kickoff/
LOCATION:Pa-Chan-Ga\, 436 Dixie Highway\, Beecher\, Il\, 60401
ATTACH;FMTTYPE=image/jpeg:https://www.willcountydemocrats.com/wp-content/uploads/2025/11/BHOWARD.jpg
END:VEVENT
BEGIN:VEVENT
DTSTART;TZID=America/Chicago:20251119T173000
DTEND;TZID=America/Chicago:20251119T200000
DTSTAMP:20260422T175543
CREATED:20250925T152741Z
LAST-MODIFIED:20251001T034221Z
UID:4026-1763573400-1763582400@www.willcountydemocrats.com
SUMMARY:Lockport Township Democrats 65th Annual Fall Fundraiser
DESCRIPTION:
URL:https://www.willcountydemocrats.com/event/lockport-township-democrats-annual-fall-fundraiser/
LOCATION:Coom’s Corner\, 1225 E. 9th St.\, Lockport\, IL\, 60441\, United States
ATTACH;FMTTYPE=image/png:https://www.willcountydemocrats.com/wp-content/uploads/2025/09/65fun-qr.png
END:VEVENT
BEGIN:VEVENT
DTSTART;TZID=America/Chicago:20251123T120000
DTEND;TZID=America/Chicago:20251123T160000
DTSTAMP:20260422T175543
CREATED:20251119T025551Z
LAST-MODIFIED:20251119T025551Z
UID:4110-1763899200-1763913600@www.willcountydemocrats.com
SUMMARY:Tyler Giacalone for Will County Board Canvass Launch
DESCRIPTION:Fountaindale Public Library: 2nd Floor Board Room
URL:https://www.willcountydemocrats.com/event/tyler-giacalone-for-will-county-board-canvass-launch/
LOCATION:Fountaindale Library\, 300 W Briarcliff Rd\, Bolingbrook\, Il\, 60440
ATTACH;FMTTYPE=image/jpeg:https://www.willcountydemocrats.com/wp-content/uploads/2025/11/TG-CANVASS.jpeg
END:VEVENT
BEGIN:VEVENT
DTSTART;TZID=America/Chicago:20251124T190000
DTEND;TZID=America/Chicago:20251124T200000
DTSTAMP:20260422T175543
CREATED:20250421T165521Z
LAST-MODIFIED:20250421T165521Z
UID:3810-1764010800-1764014400@www.willcountydemocrats.com
SUMMARY:Monee Township Democrats Meeting
DESCRIPTION:
URL:https://www.willcountydemocrats.com/event/monee-township-democrats-meeting-8/
LOCATION:Village Inn Bar & Grill\, 5355 W. Main Street\, Monee\, Il\, 60449
END:VEVENT
BEGIN:VEVENT
DTSTART;TZID=America/Chicago:20251201T190000
DTEND;TZID=America/Chicago:20251201T210000
DTSTAMP:20260422T175543
CREATED:20251126T005622Z
LAST-MODIFIED:20251126T005622Z
UID:4119-1764615600-1764622800@www.willcountydemocrats.com
SUMMARY:Will County Democrats General Meeting
DESCRIPTION:
URL:https://www.willcountydemocrats.com/event/will-county-democrats-general-meeting-5/
LOCATION:IBEW Local 176\, 1100 NE Frontage Road\, Joliet\, IL\, 60431\, United States
ATTACH;FMTTYPE=image/jpeg:https://www.willcountydemocrats.com/wp-content/uploads/2025/11/Power-of-Will-Cover-Photo.jpg
END:VEVENT
BEGIN:VEVENT
DTSTART;TZID=America/Chicago:20251203T190000
DTEND;TZID=America/Chicago:20251203T190000
DTSTAMP:20260422T175543
CREATED:20241210T231821Z
LAST-MODIFIED:20241210T231821Z
UID:3615-1764788400-1764788400@www.willcountydemocrats.com
SUMMARY:Plainfield Township Democrats Meeting
DESCRIPTION:
URL:https://www.willcountydemocrats.com/event/plainfield-township-democrats-meeting-22/
LOCATION:Cemeno’s\, 1630 Essington Road\, Joliet\, IL\, United States
END:VEVENT
BEGIN:VEVENT
DTSTART;TZID=America/Chicago:20251204T180000
DTEND;TZID=America/Chicago:20251204T200000
DTSTAMP:20260422T175543
CREATED:20251010T173230Z
LAST-MODIFIED:20251010T173230Z
UID:4059-1764871200-1764878400@www.willcountydemocrats.com
SUMMARY:Marc McKirdie for Will County Board Fundraiser
DESCRIPTION:
URL:https://www.willcountydemocrats.com/event/marc-mckirdie-for-will-county-board-fundraiser/
LOCATION:Jameson’s Pub\, 9545 W. St. Francis Rd.\, Frankfort\, Il\, 60423
ATTACH;FMTTYPE=image/jpeg:https://www.willcountydemocrats.com/wp-content/uploads/2025/10/MCKIRDIE-FUN.jpeg
END:VEVENT
BEGIN:VEVENT
DTSTART;TZID=America/Chicago:20251208T170000
DTEND;TZID=America/Chicago:20251208T190000
DTSTAMP:20260422T175543
CREATED:20251114T151207Z
LAST-MODIFIED:20251114T151238Z
UID:4102-1765213200-1765220400@www.willcountydemocrats.com
SUMMARY:IDWOW All-You-Can-Eat Pizza Fundraiser
DESCRIPTION:RSVP HERE \n 
URL:https://www.willcountydemocrats.com/event/idwow-all-you-can-eat-pizza-fundraiser/
LOCATION:Papa Joe’s\, 944 E 9th St.\, Lockport\, Il\, 60441
ATTACH;FMTTYPE=image/jpeg:https://www.willcountydemocrats.com/wp-content/uploads/2025/11/IMG_5037.jpeg
END:VEVENT
BEGIN:VEVENT
DTSTART;TZID=America/Chicago:20251208T180000
DTEND;TZID=America/Chicago:20251208T200000
DTSTAMP:20260422T175543
CREATED:20251119T025304Z
LAST-MODIFIED:20251119T025341Z
UID:4107-1765216800-1765224000@www.willcountydemocrats.com
SUMMARY:Young Democrats of Will County: Cookie Decorating Party
DESCRIPTION:
URL:https://www.willcountydemocrats.com/event/young-democrats-of-will-county-cookie-decorating-party/
LOCATION:Black Dog Vinyl Cafe\, 16108 Illinois Rte 5\, Plainfield\, IL\, 60586\, United States
ATTACH;FMTTYPE=image/jpeg:https://www.willcountydemocrats.com/wp-content/uploads/2025/11/WCD-COOKIE.jpeg
END:VEVENT
BEGIN:VEVENT
DTSTART;TZID=America/Chicago:20251209T170000
DTEND;TZID=America/Chicago:20251209T183000
DTSTAMP:20260422T175543
CREATED:20251109T010117Z
LAST-MODIFIED:20251109T010253Z
UID:4094-1765299600-1765305000@www.willcountydemocrats.com
SUMMARY:Deck the Halls at the Dock: Fundraiser for Jennifer Bertino-Tarrant
DESCRIPTION:Tickets HERE
URL:https://www.willcountydemocrats.com/event/deck-the-halls-at-the-dock-fundraiser-for-jennifer-bertino-tarrant/
LOCATION:The Dock on Front Street\, 11116 Front Street\, Mokena\, Il\, 60448
ATTACH;FMTTYPE=image/png:https://www.willcountydemocrats.com/wp-content/uploads/2025/11/image.png
END:VEVENT
BEGIN:VEVENT
DTSTART;TZID=America/Chicago:20251209T170000
DTEND;TZID=America/Chicago:20251209T190000
DTSTAMP:20260422T175543
CREATED:20251114T151046Z
LAST-MODIFIED:20251114T151046Z
UID:4099-1765299600-1765306800@www.willcountydemocrats.com
SUMMARY:Holiday Cheer with State Representative Larry Walsh\, Jr.
DESCRIPTION:
URL:https://www.willcountydemocrats.com/event/holiday-cheer-with-state-representative-larry-walsh-jr/
LOCATION:Jacob Henry Mansion\, 15 Richards Street\, Joliet\, 60434\, United States
ATTACH;FMTTYPE=image/jpeg:https://www.willcountydemocrats.com/wp-content/uploads/2025/11/IMG_5036.jpeg
END:VEVENT
BEGIN:VEVENT
DTSTART;TZID=America/Chicago:20251216T190000
DTEND;TZID=America/Chicago:20251216T200000
DTSTAMP:20260422T175543
CREATED:20251208T021257Z
LAST-MODIFIED:20251208T021257Z
UID:4123-1765911600-1765915200@www.willcountydemocrats.com
SUMMARY:Oath of Office Ceremony in honor of Kenneth Harris\, CIAO\, Assessor & Cheryl Hardy\, Collector
DESCRIPTION:
URL:https://www.willcountydemocrats.com/event/oath-of-office-ceremony-in-honor-of-kenneth-harris-ciao-assessor-cheryl-hardy-collector/
LOCATION:Joseph and Sarah Levy Senior Center\, 251 Canterbury Lane\, Bolingbrook\, Il\, 60440
ATTACH;FMTTYPE=image/png:https://www.willcountydemocrats.com/wp-content/uploads/2025/12/DUPAGE-SW-KH.png
END:VEVENT
BEGIN:VEVENT
DTSTART;TZID=America/Chicago:20251218T173000
DTEND;TZID=America/Chicago:20251218T183000
DTSTAMP:20260422T175543
CREATED:20251215T011329Z
LAST-MODIFIED:20251215T015137Z
UID:4146-1766079000-1766082600@www.willcountydemocrats.com
SUMMARY:Oath of Office Ceremony in Honor of Latoya Turner\, Collector
DESCRIPTION:
URL:https://www.willcountydemocrats.com/event/oath-of-office-ceremony-in-honor-of-latoya-turner-collector/
LOCATION:Lockport Township Office\, 1463 S Farrell Rd.\, Lockport\, Il\, 60441
ATTACH;FMTTYPE=image/jpeg:https://www.willcountydemocrats.com/wp-content/uploads/2025/12/LT-OATH.jpg
END:VEVENT
END:VCALENDAR