BEGIN:VCALENDAR
VERSION:2.0
PRODID:-//Will County Democratic Party - ECPv6.15.20//NONSGML v1.0//EN
CALSCALE:GREGORIAN
METHOD:PUBLISH
X-ORIGINAL-URL:https://www.willcountydemocrats.com
X-WR-CALDESC:Events for Will County Democratic Party
REFRESH-INTERVAL;VALUE=DURATION:PT1H
X-Robots-Tag:noindex
X-PUBLISHED-TTL:PT1H
BEGIN:VTIMEZONE
TZID:America/Chicago
BEGIN:DAYLIGHT
TZOFFSETFROM:-0600
TZOFFSETTO:-0500
TZNAME:CDT
DTSTART:20250309T080000
END:DAYLIGHT
BEGIN:STANDARD
TZOFFSETFROM:-0500
TZOFFSETTO:-0600
TZNAME:CST
DTSTART:20251102T070000
END:STANDARD
BEGIN:DAYLIGHT
TZOFFSETFROM:-0600
TZOFFSETTO:-0500
TZNAME:CDT
DTSTART:20260308T080000
END:DAYLIGHT
BEGIN:STANDARD
TZOFFSETFROM:-0500
TZOFFSETTO:-0600
TZNAME:CST
DTSTART:20261101T070000
END:STANDARD
BEGIN:DAYLIGHT
TZOFFSETFROM:-0600
TZOFFSETTO:-0500
TZNAME:CDT
DTSTART:20270314T080000
END:DAYLIGHT
BEGIN:STANDARD
TZOFFSETFROM:-0500
TZOFFSETTO:-0600
TZNAME:CST
DTSTART:20271107T070000
END:STANDARD
END:VTIMEZONE
BEGIN:VEVENT
DTSTART;TZID=America/Chicago:20260212T170000
DTEND;TZID=America/Chicago:20260212T200000
DTSTAMP:20260423T061647
CREATED:20260109T041509Z
LAST-MODIFIED:20260111T200113Z
UID:4217-1770915600-1770926400@www.willcountydemocrats.com
SUMMARY:Fundraiser for Dan Jungles for Will County Sheriff with Special Guest Honorable Jesse White
DESCRIPTION:RSVP HERE
URL:https://www.willcountydemocrats.com/event/fundraiser-for-dan-jungles-for-will-county-sheriff-with-special-guest-honorable-jesse-white/
LOCATION:Royal Palace Event Centre\, 1416 W. Jefferson St.\, Joliet\, Il\, 60435
ATTACH;FMTTYPE=image/jpeg:https://www.willcountydemocrats.com/wp-content/uploads/2026/01/JUNG-JESS.jpg
END:VEVENT
BEGIN:VEVENT
DTSTART;TZID=America/Chicago:20260215T140000
DTEND;TZID=America/Chicago:20260215T170000
DTSTAMP:20260423T061647
CREATED:20260212T224645Z
LAST-MODIFIED:20260215T165538Z
UID:4391-1771164000-1771174800@www.willcountydemocrats.com
SUMMARY:Will County Day of Action - Margaret Croke & Countywide Candidates
DESCRIPTION:
URL:https://www.willcountydemocrats.com/event/will-county-day-of-action-margaret-croke-countywide-candidates/
LOCATION:At’s A Nice Pizza\, 380 N Independence Blvd # A\, Romeville\, United States
ATTACH;FMTTYPE=image/jpeg:https://www.willcountydemocrats.com/wp-content/uploads/2026/02/MC-DOA-2.jpg
END:VEVENT
BEGIN:VEVENT
DTSTART;TZID=America/Chicago:20260216T180000
DTEND;TZID=America/Chicago:20260216T190000
DTSTAMP:20260423T061647
CREATED:20260202T012112Z
LAST-MODIFIED:20260215T173620Z
UID:4365-1771264800-1771268400@www.willcountydemocrats.com
SUMMARY:Lockport Township Democrats General Meeting
DESCRIPTION:A VoteBuilder training session will take place after the general meeting and is open to all attendees.
URL:https://www.willcountydemocrats.com/event/lockport-township-democrats-general-meeting-4/
LOCATION:White Oak Library – Crest Hill\, 20670 City Center Blvd\, Crest HIll\, Il\, 60403
ATTACH;FMTTYPE=image/jpeg:https://www.willcountydemocrats.com/wp-content/uploads/2026/02/Cover-Photo-Logo.jpg
END:VEVENT
BEGIN:VEVENT
DTSTART;TZID=America/Chicago:20260216T183000
DTEND;TZID=America/Chicago:20260216T190000
DTSTAMP:20260423T061647
CREATED:20260202T011348Z
LAST-MODIFIED:20260202T012625Z
UID:4363-1771266600-1771268400@www.willcountydemocrats.com
SUMMARY:DuPage Township Democrats General Meeting
DESCRIPTION:DTDO General Body Meeting: 6:30pm – 7:00pm\n\n\n\nCultural Awareness & Inclusive Actions Seminar #2: 7:00pm – 8:30pm
URL:https://www.willcountydemocrats.com/event/dupage-township-democrats-monthly-meeting-2/
LOCATION:Fountaindale Library\, 300 W Briarcliff Rd\, Bolingbrook\, Il\, 60440
END:VEVENT
BEGIN:VEVENT
DTSTART;TZID=America/Chicago:20260216T190000
DTEND;TZID=America/Chicago:20260216T200000
DTSTAMP:20260423T061647
CREATED:20260208T185145Z
LAST-MODIFIED:20260215T173930Z
UID:4379-1771268400-1771272000@www.willcountydemocrats.com
SUMMARY:Votebuilder Training
DESCRIPTION:Immediately following the Lockport Democrats’ general meeting) \nRSVP HERE
URL:https://www.willcountydemocrats.com/event/votebuilder-training/
LOCATION:White Oak Library – Crest Hill\, 20670 City Center Blvd\, Crest HIll\, Il\, 60403
ATTACH;FMTTYPE=image/png:https://www.willcountydemocrats.com/wp-content/uploads/2026/02/DPI-LOGO.png
END:VEVENT
BEGIN:VEVENT
DTSTART;TZID=America/Chicago:20260216T190000
DTEND;TZID=America/Chicago:20260216T203000
DTSTAMP:20260423T061647
CREATED:20260202T011145Z
LAST-MODIFIED:20260202T011213Z
UID:4360-1771268400-1771273800@www.willcountydemocrats.com
SUMMARY:DuPage Township Democrats: Cultural Awareness & Inclusive Action Seminar #2
DESCRIPTION:DuPage Township Democratic Organization in Collaboration with The Alliance for Civic Engagement (ACE)\, and the Young Dems of Will County Presents:\nA Cultural Awareness & Inclusive Actions Seminar #2: Understanding Unconscious Bias \nJoin Us in Becoming Stronger Together Through Meaningful Dialogue & Shared Understanding \n\n\n\n~ Monday February 16th\n\n~ Fountaindale Public Library 300 W. Briarcliff Rd\, Bolingbrook\, IL 60440 – Room A\n\n~ DTDO General Body Meeting: 6:30pm – 7:00pm\n\n~ Cultural Awareness & Inclusive Actions Seminar #2: 7:00pm – 8:30pm
URL:https://www.willcountydemocrats.com/event/dupage-township-democrats-cultural-awareness-inclusive-action-seminar-2/
LOCATION:Fountaindale Library\, 300 W Briarcliff Rd\, Bolingbrook\, Il\, 60440
ATTACH;FMTTYPE=image/jpeg:https://www.willcountydemocrats.com/wp-content/uploads/2026/02/Cultural-Awareness-Session-2.jpg
END:VEVENT
BEGIN:VEVENT
DTSTART;TZID=America/Chicago:20260217T183000
DTEND;TZID=America/Chicago:20260217T193000
DTSTAMP:20260423T061647
CREATED:20260205T223503Z
LAST-MODIFIED:20260205T223503Z
UID:4374-1771353000-1771356600@www.willcountydemocrats.com
SUMMARY:Homer Township Democrats General Meeting
DESCRIPTION:
URL:https://www.willcountydemocrats.com/event/homer-township-democrats-general-meeting/
LOCATION:Old Town Hall\, 16057 CoHwy 4\, Homer Glen\, 60491
END:VEVENT
BEGIN:VEVENT
DTSTART;TZID=America/Chicago:20260226T170000
DTEND;TZID=America/Chicago:20260226T190000
DTSTAMP:20260423T061647
CREATED:20260205T003310Z
LAST-MODIFIED:20260205T003557Z
UID:4368-1772125200-1772132400@www.willcountydemocrats.com
SUMMARY:Ken Harris: The GOTV Push - Meet & Greet the Candidates
DESCRIPTION:RSVP HERE
URL:https://www.willcountydemocrats.com/event/ken-harris-the-gotv-push-meet-greet-the-candidates/
LOCATION:Home Run Inn Pizza\, 1280 W Boughton Rd\, Bolingbrook\, Il\, 60440
ATTACH;FMTTYPE=image/png:https://www.willcountydemocrats.com/wp-content/uploads/2026/02/KH-GOTV.png
END:VEVENT
BEGIN:VEVENT
DTSTART;TZID=America/Chicago:20260226T170000
DTEND;TZID=America/Chicago:20260226T190000
DTSTAMP:20260423T061647
CREATED:20260213T173631Z
LAST-MODIFIED:20260213T173707Z
UID:4394-1772125200-1772132400@www.willcountydemocrats.com
SUMMARY:Michelle Stiff Networking Fundraiser
DESCRIPTION:Donations Can be Made Here
URL:https://www.willcountydemocrats.com/event/michelle-stiff-networking-fundraiser/
LOCATION:Anthony’s Restaurant\, 3151 Voyager Ln\, Joliet\, Il\, 60431
ATTACH;FMTTYPE=image/jpeg:https://www.willcountydemocrats.com/wp-content/uploads/2026/02/MS-EVENT.jpg
END:VEVENT
BEGIN:VEVENT
DTSTART;TZID=America/Chicago:20260228T093000
DTEND;TZID=America/Chicago:20260228T103000
DTSTAMP:20260423T061647
CREATED:20260112T022128Z
LAST-MODIFIED:20260222T160947Z
UID:4238-1772271000-1772274600@www.willcountydemocrats.com
SUMMARY:IDWOW General Meeting
DESCRIPTION:
URL:https://www.willcountydemocrats.com/event/idwow-general-meeting-4/
LOCATION:Nowell Park\, 199 Mills Rd.\, Joliet\, IL\, 60433
ATTACH;FMTTYPE=image/jpeg:https://www.willcountydemocrats.com/wp-content/uploads/2025/09/IMG_4261.jpeg
END:VEVENT
BEGIN:VEVENT
DTSTART;TZID=America/Chicago:20260228T100000
DTEND;TZID=America/Chicago:20260228T130000
DTSTAMP:20260423T061647
CREATED:20260224T042650Z
LAST-MODIFIED:20260224T042650Z
UID:4417-1772272800-1772283600@www.willcountydemocrats.com
SUMMARY:Young Democrats of Will County: Day of Action
DESCRIPTION:
URL:https://www.willcountydemocrats.com/event/young-democrats-of-will-county-day-of-action/
LOCATION:328 Republic Avenue\, 328 Republic Avenue\, Joliet\, IL\, 60434\, United States
ATTACH;FMTTYPE=image/jpeg:https://www.willcountydemocrats.com/wp-content/uploads/2026/02/YDWC-DOA.jpg
END:VEVENT
BEGIN:VEVENT
DTSTART;TZID=America/Chicago:20260302T080000
DTEND;TZID=America/Chicago:20260302T100000
DTSTAMP:20260423T061647
CREATED:20251209T222507Z
LAST-MODIFIED:20251209T222527Z
UID:4133-1772438400-1772445600@www.willcountydemocrats.com
SUMMARY:Southland Friends of Labor: 17th Annual Jobs Breakfast
DESCRIPTION:
URL:https://www.willcountydemocrats.com/event/southland-friends-of-labor-17th-annual-jobs-breakfast/
LOCATION:Sprinkler Fitters Local 281 Training Center\, Alsip\, 11900 S Laramie Ave\, Alsip\, Il\, 60803
ATTACH;FMTTYPE=image/jpeg:https://www.willcountydemocrats.com/wp-content/uploads/2025/12/Southland-Friends-of-Labor-Breakfast-2026.jpg
END:VEVENT
BEGIN:VEVENT
DTSTART;TZID=America/Chicago:20260302T183000
DTEND;TZID=America/Chicago:20260302T200000
DTSTAMP:20260423T061647
CREATED:20260215T173416Z
LAST-MODIFIED:20260301T203317Z
UID:4404-1772476200-1772481600@www.willcountydemocrats.com
SUMMARY:Will County Democrats General Meeting ft. Christian Mitchell & Southland Friends of Labor
DESCRIPTION:
URL:https://www.willcountydemocrats.com/event/will-county-democrats-general-meeting-9/
LOCATION:Southern Charm Venues\, 23504 Harlem Ave.\, Frankfort\, Il\, 60423
ATTACH;FMTTYPE=image/jpeg:https://www.willcountydemocrats.com/wp-content/uploads/2026/02/WCD-CM.jpeg
END:VEVENT
BEGIN:VEVENT
DTSTART;TZID=America/Chicago:20260304T190000
DTEND;TZID=America/Chicago:20260304T200000
DTSTAMP:20260423T061647
CREATED:20251215T012836Z
LAST-MODIFIED:20251215T012836Z
UID:4152-1772650800-1772654400@www.willcountydemocrats.com
SUMMARY:Plainfield Township Democrats General Meeting
DESCRIPTION:
URL:https://www.willcountydemocrats.com/event/plainfield-township-democrats-general-meeting-13/
LOCATION:Cemeno’s\, 1630 Essington Road\, Joliet\, IL\, United States
END:VEVENT
BEGIN:VEVENT
DTSTART;TZID=America/Chicago:20260307T103000
DTEND;TZID=America/Chicago:20260307T130000
DTSTAMP:20260423T061647
CREATED:20260224T164209Z
LAST-MODIFIED:20260224T164325Z
UID:4420-1772879400-1772888400@www.willcountydemocrats.com
SUMMARY:Lockport Township Democrats Day of Action
DESCRIPTION:Sign up HERE \nCome out and walk with the Lockport Township Democrats as we knock doors during the first weekend of expanded early voting. We’ll be talking with voters about our local County Board and countywide candidates\, and focusing on turning out the vote for strong Democrats.
URL:https://www.willcountydemocrats.com/event/lockport-township-democrats-day-of-action-3/
LOCATION:1924 Plainfield Rd\, Crest Hill\, IL 60403\, 1924 Plainfield Rd\, Crest Hill\, IL\, 60403\, United States
END:VEVENT
BEGIN:VEVENT
DTSTART;TZID=America/Chicago:20260308T140000
DTEND;TZID=America/Chicago:20260308T150000
DTSTAMP:20260423T061647
CREATED:20260215T173300Z
LAST-MODIFIED:20260222T143848Z
UID:4401-1772978400-1772982000@www.willcountydemocrats.com
SUMMARY:International Women's Day March to the Polls
DESCRIPTION:Join IDWOW at the Social Butterfly Cafe at 2PM. Marching to the County building at 3PM. \n  \nBrought to you by IDWOW and the WCD.
URL:https://www.willcountydemocrats.com/event/idwow-march-to-the-polls/
LOCATION:Social Butterfly Coffee\, 310 N Ottawa St\, Joliet\, Il\, 60432
ATTACH;FMTTYPE=image/jpeg:https://www.willcountydemocrats.com/wp-content/uploads/2026/02/IDWOW-MARCH.jpg
END:VEVENT
BEGIN:VEVENT
DTSTART;TZID=America/Chicago:20260310T180000
DTEND;TZID=America/Chicago:20260310T193000
DTSTAMP:20260423T061647
CREATED:20260304T000111Z
LAST-MODIFIED:20260304T000111Z
UID:4436-1773165600-1773171000@www.willcountydemocrats.com
SUMMARY:Lockport Township Democrats General Meeting (Rescheduled)
DESCRIPTION:Lockport Township Democrats will meet on Tuesday\, March 10 at Coom’s Corner to discuss Election Day activities and coordination efforts. \nCandidates are encouraged to attend and may drop off any yard signs to be distributed at polling locations. Additional ideas for Election Day involvement are welcome.
URL:https://www.willcountydemocrats.com/event/lockport-township-democrats-general-meeting-rescheduled/
LOCATION:Coom’s Corner\, 1225 E. 9th St.\, Lockport\, IL\, 60441\, United States
ATTACH;FMTTYPE=image/jpeg:https://www.willcountydemocrats.com/wp-content/uploads/2026/03/LTDO-Cover-Photo.jpg
END:VEVENT
BEGIN:VEVENT
DTSTART;TZID=America/Chicago:20260312T180000
DTEND;TZID=America/Chicago:20260312T200000
DTSTAMP:20260423T061647
CREATED:20260113T170117Z
LAST-MODIFIED:20260118T224116Z
UID:4275-1773338400-1773345600@www.willcountydemocrats.com
SUMMARY:Will County Strong: Get Out the Vote Rally
DESCRIPTION:
URL:https://www.willcountydemocrats.com/event/save-the-date-get-out-the-vote-rally/
LOCATION:Star Cinema Grill\, 619 E. Boughton Rd.\, Bolingbrook\, Il\, 60440
ATTACH;FMTTYPE=image/png:https://www.willcountydemocrats.com/wp-content/uploads/2026/01/GOTV-RALLY.png
END:VEVENT
BEGIN:VEVENT
DTSTART;TZID=America/Chicago:20260317T183000
DTEND;TZID=America/Chicago:20260317T193000
DTSTAMP:20260423T061647
CREATED:20260205T223546Z
LAST-MODIFIED:20260205T223546Z
UID:4377-1773772200-1773775800@www.willcountydemocrats.com
SUMMARY:Homer Township Democrats General Meeting
DESCRIPTION:
URL:https://www.willcountydemocrats.com/event/homer-township-democrats-general-meeting-2/
LOCATION:Old Town Hall\, 16057 CoHwy 4\, Homer Glen\, 60491
END:VEVENT
BEGIN:VEVENT
DTSTART;TZID=America/Chicago:20260319T180000
DTEND;TZID=America/Chicago:20260319T193000
DTSTAMP:20260423T061647
CREATED:20260319T175656Z
LAST-MODIFIED:20260319T175758Z
UID:4446-1773943200-1773948600@www.willcountydemocrats.com
SUMMARY:New Lenox Township Democrats General Meeting
DESCRIPTION:
URL:https://www.willcountydemocrats.com/event/new-lenox-township-democrats-general-meeting-2/
LOCATION:Grace Episcopal Church\, 209 N Pine St.\, New Lenox\, IL\, 60451\, United States
END:VEVENT
BEGIN:VEVENT
DTSTART;TZID=America/Chicago:20260324T170000
DTEND;TZID=America/Chicago:20260324T190000
DTSTAMP:20260423T061647
CREATED:20260225T031002Z
LAST-MODIFIED:20260225T031425Z
UID:4424-1774371600-1774378800@www.willcountydemocrats.com
SUMMARY:Will County Board Democratic Caucus Post Primary March Gladness Fundraiser
DESCRIPTION:Tickets and Sponsorships HERE
URL:https://www.willcountydemocrats.com/event/will-county-board-democratic-caucus-post-primary-march-gladness-fundraiser/
LOCATION:Jacob Henry Mansion\, 15 Richards Street\, Joliet\, 60434\, United States
ATTACH;FMTTYPE=image/png:https://www.willcountydemocrats.com/wp-content/uploads/2026/02/Will-Co-March-GLADness-Digital.png
END:VEVENT
BEGIN:VEVENT
DTSTART;TZID=America/Chicago:20260325T183000
DTEND;TZID=America/Chicago:20260325T200000
DTSTAMP:20260423T061647
CREATED:20260321T114825Z
LAST-MODIFIED:20260324T170808Z
UID:4467-1774463400-1774468800@www.willcountydemocrats.com
SUMMARY:Crete Township Democrats General Meeting
DESCRIPTION:
URL:https://www.willcountydemocrats.com/event/crete-township-democrats-general-meeting-3/
LOCATION:Vintage Oak\, 1392 Main Street\, Crete\, IL\, 60417\, United States
END:VEVENT
BEGIN:VEVENT
DTSTART;TZID=America/Chicago:20260328T093000
DTEND;TZID=America/Chicago:20260328T103000
DTSTAMP:20260423T061647
CREATED:20260112T023951Z
LAST-MODIFIED:20260222T160906Z
UID:4261-1774690200-1774693800@www.willcountydemocrats.com
SUMMARY:IDWOW General Meeting
DESCRIPTION:
URL:https://www.willcountydemocrats.com/event/save-the-date-idwow-general-meeting-10/
LOCATION:Nowell Park\, 199 Mills Rd.\, Joliet\, IL\, 60433
END:VEVENT
BEGIN:VEVENT
DTSTART;TZID=America/Chicago:20260402T173000
DTEND;TZID=America/Chicago:20260402T193000
DTSTAMP:20260423T061647
CREATED:20260328T222558Z
LAST-MODIFIED:20260328T222558Z
UID:4472-1775151000-1775158200@www.willcountydemocrats.com
SUMMARY:Senator Rachel Ventura Birthday Bash Game Night
DESCRIPTION:RSVP HERE
URL:https://www.willcountydemocrats.com/event/senator-rachel-ventura-birthday-bash-game-night/
LOCATION:Address Available Upon RSVP
ATTACH;FMTTYPE=image/jpeg:https://www.willcountydemocrats.com/wp-content/uploads/2026/03/RV-FUN.jpeg
END:VEVENT
BEGIN:VEVENT
DTSTART;TZID=America/Chicago:20260406T183000
DTEND;TZID=America/Chicago:20260406T200000
DTSTAMP:20260423T061647
CREATED:20260102T182028Z
LAST-MODIFIED:20260404T170008Z
UID:4196-1775500200-1775505600@www.willcountydemocrats.com
SUMMARY:Will County Democrats General Meeting
DESCRIPTION:with special guests: \nSaba Haider – Democratic nominee for State Representative District 84 \nPatrick Jones – Democratic nominee for Will County Sheriff
URL:https://www.willcountydemocrats.com/event/save-the-date-will-county-democrats-general-meeting-2/
LOCATION:IBEW Local 176\, 1100 NE Frontage Road\, Joliet\, IL\, 60431\, United States
ATTACH;FMTTYPE=image/jpeg:https://www.willcountydemocrats.com/wp-content/uploads/2026/01/WCD-APRIL.jpeg
END:VEVENT
BEGIN:VEVENT
DTSTART;VALUE=DATE:20260408
DTEND;VALUE=DATE:20260409
DTSTAMP:20260423T061647
CREATED:20260321T114648Z
LAST-MODIFIED:20260321T114648Z
UID:4459-1775606400-1775692799@www.willcountydemocrats.com
SUMMARY:Frankfort Township Democrats General Meeting
DESCRIPTION:
URL:https://www.willcountydemocrats.com/event/frankfort-township-democrats-general-meeting-3/
LOCATION:St. John’s United Church of Christ\, 11100 Second Street\, Mokena\, IL\, 60448\, United States
END:VEVENT
BEGIN:VEVENT
DTSTART;TZID=America/Chicago:20260411T100000
DTEND;TZID=America/Chicago:20260411T120000
DTSTAMP:20260423T061647
CREATED:20260329T232852Z
LAST-MODIFIED:20260329T232951Z
UID:4493-1775901600-1775908800@www.willcountydemocrats.com
SUMMARY:Post Primary Unity Breakfast
DESCRIPTION:Hosted by the Young Democrats of Will County (WCYD) and Distinct Visual Solutions (DVS)
URL:https://www.willcountydemocrats.com/event/post-primary-unity-breakfast/
LOCATION:DVS\, 101 Springfield Ave\, Joliet\, Il\, 60435
ATTACH;FMTTYPE=image/jpeg:https://www.willcountydemocrats.com/wp-content/uploads/2026/03/WCYD-UNITY.jpeg
END:VEVENT
BEGIN:VEVENT
DTSTART;TZID=America/Chicago:20260411T180000
DTEND;TZID=America/Chicago:20260411T203000
DTSTAMP:20260423T061647
CREATED:20260310T160119Z
LAST-MODIFIED:20260310T160512Z
UID:4441-1775930400-1775939400@www.willcountydemocrats.com
SUMMARY:Elect Karen Johnson for Will County Board District 5 - Inaugural Fundraiser
DESCRIPTION:Donate HERE
URL:https://www.willcountydemocrats.com/event/elect-karen-johnson-for-will-county-board-district-5-inaugural-fundraiser/
LOCATION:Coom’s Corner\, 1225 E. 9th St.\, Lockport\, IL\, 60441\, United States
ATTACH;FMTTYPE=image/jpeg:https://www.willcountydemocrats.com/wp-content/uploads/2026/03/KJ-FUN.jpg
END:VEVENT
BEGIN:VEVENT
DTSTART;TZID=America/Chicago:20260413T190000
DTEND;TZID=America/Chicago:20260413T200000
DTSTAMP:20260423T061647
CREATED:20260321T114455Z
LAST-MODIFIED:20260324T170524Z
UID:4455-1776106800-1776110400@www.willcountydemocrats.com
SUMMARY:Peotone Township Democrats General Meeting
DESCRIPTION:
URL:https://www.willcountydemocrats.com/event/peotone-township-democrats-general-meeting/
LOCATION:IL
END:VEVENT
BEGIN:VEVENT
DTSTART;TZID=America/Chicago:20260416T180000
DTEND;TZID=America/Chicago:20260416T193000
DTSTAMP:20260423T061647
CREATED:20260319T175901Z
LAST-MODIFIED:20260319T175901Z
UID:4449-1776362400-1776367800@www.willcountydemocrats.com
SUMMARY:New Lenox Township Democrats General Meeting
DESCRIPTION:
URL:https://www.willcountydemocrats.com/event/new-lenox-township-democrats-general-meeting-3/
LOCATION:Grace Episcopal Church\, 209 N Pine St.\, New Lenox\, IL\, 60451\, United States
END:VEVENT
END:VCALENDAR