BEGIN:VCALENDAR
VERSION:2.0
PRODID:-//Will County Democratic Party - ECPv6.15.20//NONSGML v1.0//EN
CALSCALE:GREGORIAN
METHOD:PUBLISH
X-WR-CALNAME:Will County Democratic Party
X-ORIGINAL-URL:https://www.willcountydemocrats.com
X-WR-CALDESC:Events for Will County Democratic Party
REFRESH-INTERVAL;VALUE=DURATION:PT1H
X-Robots-Tag:noindex
X-PUBLISHED-TTL:PT1H
BEGIN:VTIMEZONE
TZID:America/Chicago
BEGIN:DAYLIGHT
TZOFFSETFROM:-0600
TZOFFSETTO:-0500
TZNAME:CDT
DTSTART:20240310T080000
END:DAYLIGHT
BEGIN:STANDARD
TZOFFSETFROM:-0500
TZOFFSETTO:-0600
TZNAME:CST
DTSTART:20241103T070000
END:STANDARD
BEGIN:DAYLIGHT
TZOFFSETFROM:-0600
TZOFFSETTO:-0500
TZNAME:CDT
DTSTART:20250309T080000
END:DAYLIGHT
BEGIN:STANDARD
TZOFFSETFROM:-0500
TZOFFSETTO:-0600
TZNAME:CST
DTSTART:20251102T070000
END:STANDARD
BEGIN:DAYLIGHT
TZOFFSETFROM:-0600
TZOFFSETTO:-0500
TZNAME:CDT
DTSTART:20260308T080000
END:DAYLIGHT
BEGIN:STANDARD
TZOFFSETFROM:-0500
TZOFFSETTO:-0600
TZNAME:CST
DTSTART:20261101T070000
END:STANDARD
END:VTIMEZONE
BEGIN:VEVENT
DTSTART;TZID=America/Chicago:20250604T190000
DTEND;TZID=America/Chicago:20250604T190000
DTSTAMP:20260422T090721
CREATED:20241210T231543Z
LAST-MODIFIED:20241210T231543Z
UID:3603-1749063600-1749063600@www.willcountydemocrats.com
SUMMARY:Plainfield Township Democrats Meeting
DESCRIPTION:
URL:https://www.willcountydemocrats.com/event/plainfield-township-democrats-meeting-16/
LOCATION:Cemeno’s\, 1630 Essington Road\, Joliet\, IL\, United States
END:VEVENT
BEGIN:VEVENT
DTSTART;TZID=America/Chicago:20250614T100000
DTEND;TZID=America/Chicago:20250614T130000
DTSTAMP:20260422T090721
CREATED:20250609T205300Z
LAST-MODIFIED:20250609T205335Z
UID:3865-1749895200-1749906000@www.willcountydemocrats.com
SUMMARY:No Kings Rally - Joliet
DESCRIPTION:Link here: https://www.mobilize.us/indivisible/event/794606/
URL:https://www.willcountydemocrats.com/event/no-kings-rally-joliet/
LOCATION:North Larkin Ave & West Jefferson St.\, North Larkin Avenue & West Jefferson Street\, Joliet\, Il\, 60435
ATTACH;FMTTYPE=image/png:https://www.willcountydemocrats.com/wp-content/uploads/2025/06/NO-KINGS.png
END:VEVENT
BEGIN:VEVENT
DTSTART;TZID=America/Chicago:20250616T180000
DTEND;TZID=America/Chicago:20250616T190000
DTSTAMP:20260422T090721
CREATED:20250609T201403Z
LAST-MODIFIED:20250609T201403Z
UID:3863-1750096800-1750100400@www.willcountydemocrats.com
SUMMARY:Lockport Township Democrats Meeting
DESCRIPTION:
URL:https://www.willcountydemocrats.com/event/lockport-township-democrats-meeting-11/
LOCATION:White Oak Library – Lockport\, 121 E 8th Street\, Lockport\, Il\, 60441
END:VEVENT
BEGIN:VEVENT
DTSTART;TZID=America/Chicago:20250616T183000
DTEND;TZID=America/Chicago:20250616T190000
DTSTAMP:20260422T090721
CREATED:20250425T180322Z
LAST-MODIFIED:20250609T201234Z
UID:3823-1750098600-1750100400@www.willcountydemocrats.com
SUMMARY:Dupage Township Democrats Meeting
DESCRIPTION:
URL:https://www.willcountydemocrats.com/event/dupage-township-democrats-meeting-2/
LOCATION:Fountaindale Library\, 300 W Briarcliff Rd\, Bolingbrook\, Il\, 60440
END:VEVENT
BEGIN:VEVENT
DTSTART;TZID=America/Chicago:20250616T190000
DTEND;TZID=America/Chicago:20250616T200000
DTSTAMP:20260422T090721
CREATED:20250529T163636Z
LAST-MODIFIED:20250529T163636Z
UID:3859-1750100400-1750104000@www.willcountydemocrats.com
SUMMARY:Cultural Awareness and Inclusive Action Seminar
DESCRIPTION:
URL:https://www.willcountydemocrats.com/event/cultural-awareness-and-inclusive-action-seminar/
LOCATION:Fountaindale Library\, 300 W Briarcliff Rd\, Bolingbrook\, Il\, 60440
ATTACH;FMTTYPE=image/jpeg:https://www.willcountydemocrats.com/wp-content/uploads/2025/05/CAI.jpg
END:VEVENT
BEGIN:VEVENT
DTSTART;TZID=America/Chicago:20250617T170000
DTEND;TZID=America/Chicago:20250617T193000
DTSTAMP:20260422T090721
CREATED:20250610T214924Z
LAST-MODIFIED:20250617T210940Z
UID:3876-1750179600-1750188600@www.willcountydemocrats.com
SUMMARY:Bring Out the Margaritas - Fundraiser to Elect Patrick Jones for Will County Sheriff
DESCRIPTION:
URL:https://www.willcountydemocrats.com/event/bring-out-the-margaritas-fundraiser-to-elect-patrick-jones-for-will-county-sheriff/
LOCATION:El Primo\, 1827 Knapp St.\, Crest Hill\, Il\, 60403
ATTACH;FMTTYPE=image/jpeg:https://www.willcountydemocrats.com/wp-content/uploads/2025/06/fb877e4b-b730-4a0a-8dc0-422c5763b863.jpeg
END:VEVENT
BEGIN:VEVENT
DTSTART;TZID=America/Chicago:20250617T180000
DTEND;TZID=America/Chicago:20250617T190000
DTSTAMP:20260422T090721
CREATED:20250621T205952Z
LAST-MODIFIED:20250621T205952Z
UID:3882-1750183200-1750186800@www.willcountydemocrats.com
SUMMARY:Homer Township Democrats Meeting
DESCRIPTION:Email homertownshipdems@gmail.com for location.
URL:https://www.willcountydemocrats.com/event/homer-township-democrats-meeting/
LOCATION:IL
END:VEVENT
BEGIN:VEVENT
DTSTART;TZID=America/Chicago:20250621T120000
DTEND;TZID=America/Chicago:20250621T180000
DTSTAMP:20260422T090721
CREATED:20250529T163127Z
LAST-MODIFIED:20250529T163127Z
UID:3855-1750507200-1750528800@www.willcountydemocrats.com
SUMMARY:ACE Family Reunion Cookout
DESCRIPTION:
URL:https://www.willcountydemocrats.com/event/ace-family-reunion-cookout/
LOCATION:Indian Boundary Park\, 990 W Boughton Rd\, Bolingbrook\, Il
ATTACH;FMTTYPE=image/png:https://www.willcountydemocrats.com/wp-content/uploads/2025/05/ACE.png
END:VEVENT
BEGIN:VEVENT
DTSTART;TZID=America/Chicago:20250623T190000
DTEND;TZID=America/Chicago:20250623T200000
DTSTAMP:20260422T090721
CREATED:20250421T165152Z
LAST-MODIFIED:20250421T165152Z
UID:3800-1750705200-1750708800@www.willcountydemocrats.com
SUMMARY:Monee Township Democrats Meeting
DESCRIPTION:
URL:https://www.willcountydemocrats.com/event/monee-township-democrats-meeting-3/
LOCATION:Village Inn Bar & Grill\, 5355 W. Main Street\, Monee\, Il\, 60449
END:VEVENT
BEGIN:VEVENT
DTSTART;TZID=America/Chicago:20250630T190000
DTEND;TZID=America/Chicago:20250630T200000
DTSTAMP:20260422T090721
CREATED:20250421T164451Z
LAST-MODIFIED:20250421T164451Z
UID:3784-1751310000-1751313600@www.willcountydemocrats.com
SUMMARY:Wheatland Township Democrats Meeting
DESCRIPTION:
URL:https://www.willcountydemocrats.com/event/wheatland-township-democrats-meeting-2/
LOCATION:IL
END:VEVENT
END:VCALENDAR