BEGIN:VCALENDAR
VERSION:2.0
PRODID:-//Will County Democratic Party - ECPv6.15.20//NONSGML v1.0//EN
CALSCALE:GREGORIAN
METHOD:PUBLISH
X-ORIGINAL-URL:https://www.willcountydemocrats.com
X-WR-CALDESC:Events for Will County Democratic Party
REFRESH-INTERVAL;VALUE=DURATION:PT1H
X-Robots-Tag:noindex
X-PUBLISHED-TTL:PT1H
BEGIN:VTIMEZONE
TZID:America/Chicago
BEGIN:DAYLIGHT
TZOFFSETFROM:-0600
TZOFFSETTO:-0500
TZNAME:CDT
DTSTART:20240310T080000
END:DAYLIGHT
BEGIN:STANDARD
TZOFFSETFROM:-0500
TZOFFSETTO:-0600
TZNAME:CST
DTSTART:20241103T070000
END:STANDARD
BEGIN:DAYLIGHT
TZOFFSETFROM:-0600
TZOFFSETTO:-0500
TZNAME:CDT
DTSTART:20250309T080000
END:DAYLIGHT
BEGIN:STANDARD
TZOFFSETFROM:-0500
TZOFFSETTO:-0600
TZNAME:CST
DTSTART:20251102T070000
END:STANDARD
BEGIN:DAYLIGHT
TZOFFSETFROM:-0600
TZOFFSETTO:-0500
TZNAME:CDT
DTSTART:20260308T080000
END:DAYLIGHT
BEGIN:STANDARD
TZOFFSETFROM:-0500
TZOFFSETTO:-0600
TZNAME:CST
DTSTART:20261101T070000
END:STANDARD
END:VTIMEZONE
BEGIN:VEVENT
DTSTART;TZID=America/Chicago:20250702T190000
DTEND;TZID=America/Chicago:20250702T190000
DTSTAMP:20260422T104631
CREATED:20241210T231609Z
LAST-MODIFIED:20241210T231609Z
UID:3605-1751482800-1751482800@www.willcountydemocrats.com
SUMMARY:Plainfield Township Democrats Meeting
DESCRIPTION:
URL:https://www.willcountydemocrats.com/event/plainfield-township-democrats-meeting-17/
LOCATION:Cemeno’s\, 1630 Essington Road\, Joliet\, IL\, United States
END:VEVENT
BEGIN:VEVENT
DTSTART;TZID=America/Chicago:20250710T180000
DTEND;TZID=America/Chicago:20250710T200000
DTSTAMP:20260422T104631
CREATED:20250610T214744Z
LAST-MODIFIED:20250610T214744Z
UID:3873-1752170400-1752177600@www.willcountydemocrats.com
SUMMARY:The Young Democrats of Will County Youth Empowerment Dinner & Awards
DESCRIPTION:
URL:https://www.willcountydemocrats.com/event/the-young-democrats-of-will-county-youth-empowerment-dinner-awards-2/
LOCATION:Coom’s Corner\, 1225 E. 9th St.\, Lockport\, IL\, 60441\, United States
ATTACH;FMTTYPE=image/jpeg:https://www.willcountydemocrats.com/wp-content/uploads/2025/06/WCYD.jpeg
END:VEVENT
BEGIN:VEVENT
DTSTART;TZID=America/Chicago:20250715T180000
DTEND;TZID=America/Chicago:20250715T190000
DTSTAMP:20260422T104631
CREATED:20250621T210025Z
LAST-MODIFIED:20250621T210025Z
UID:3884-1752602400-1752606000@www.willcountydemocrats.com
SUMMARY:Homer Township Democrats Meeting
DESCRIPTION:Email homertownshipdems@gmail.com for location.
URL:https://www.willcountydemocrats.com/event/homer-township-democrats-meeting-2/
LOCATION:IL
END:VEVENT
BEGIN:VEVENT
DTSTART;TZID=America/Chicago:20250721T190000
DTEND;TZID=America/Chicago:20250721T210000
DTSTAMP:20260422T104631
CREATED:20250425T180400Z
LAST-MODIFIED:20250425T180553Z
UID:3825-1753124400-1753131600@www.willcountydemocrats.com
SUMMARY:Dupage Township Democrats Meeting
DESCRIPTION:
URL:https://www.willcountydemocrats.com/event/dupage-township-democrats-meeting-3/
LOCATION:IL
END:VEVENT
BEGIN:VEVENT
DTSTART;TZID=America/Chicago:20250728T190000
DTEND;TZID=America/Chicago:20250728T200000
DTSTAMP:20260422T104631
CREATED:20250421T164520Z
LAST-MODIFIED:20250421T164520Z
UID:3786-1753729200-1753732800@www.willcountydemocrats.com
SUMMARY:Wheatland Township Democrats Meeting
DESCRIPTION:
URL:https://www.willcountydemocrats.com/event/wheatland-township-democrats-meeting-3/
LOCATION:IL
END:VEVENT
BEGIN:VEVENT
DTSTART;TZID=America/Chicago:20250728T190000
DTEND;TZID=America/Chicago:20250728T200000
DTSTAMP:20260422T104631
CREATED:20250421T165235Z
LAST-MODIFIED:20250421T165235Z
UID:3802-1753729200-1753732800@www.willcountydemocrats.com
SUMMARY:Monee Township Democrats Meeting
DESCRIPTION:
URL:https://www.willcountydemocrats.com/event/monee-township-democrats-meeting-4/
LOCATION:Village Inn Bar & Grill\, 5355 W. Main Street\, Monee\, Il\, 60449
END:VEVENT
BEGIN:VEVENT
DTSTART;TZID=America/Chicago:20250731T170000
DTEND;TZID=America/Chicago:20250731T200000
DTSTAMP:20260422T104631
CREATED:20250609T223433Z
LAST-MODIFIED:20250609T223433Z
UID:3871-1753981200-1753992000@www.willcountydemocrats.com
SUMMARY:Fundraiser for Michelle Stiff for Will County Clerk
DESCRIPTION:
URL:https://www.willcountydemocrats.com/event/fundraiser-for-michelle-stiff-for-will-county-clerk/
LOCATION:On the Rocks – Joliet\, 1500 Essington Rd\, Joliet\, Il
END:VEVENT
END:VCALENDAR